BEGIN:VCALENDAR
VERSION:2.0
PRODID:-//Folkalender - ECPv6.10.1.1//NONSGML v1.0//EN
CALSCALE:GREGORIAN
METHOD:PUBLISH
X-ORIGINAL-URL:https://folkalender.dk
X-WR-CALDESC:Begivenheder for Folkalender
REFRESH-INTERVAL;VALUE=DURATION:PT1H
X-Robots-Tag:noindex
X-PUBLISHED-TTL:PT1H
BEGIN:VTIMEZONE
TZID:Europe/Helsinki
BEGIN:DAYLIGHT
TZOFFSETFROM:+0200
TZOFFSETTO:+0300
TZNAME:EEST
DTSTART:20220327T010000
END:DAYLIGHT
BEGIN:STANDARD
TZOFFSETFROM:+0300
TZOFFSETTO:+0200
TZNAME:EET
DTSTART:20221030T010000
END:STANDARD
END:VTIMEZONE
BEGIN:VEVENT
DTSTART;TZID=Europe/Helsinki:20220606T200000
DTEND;TZID=Europe/Helsinki:20220606T213000
DTSTAMP:20260422T015910
CREATED:20220526T112526Z
LAST-MODIFIED:20220526T112526Z
UID:3803-1654545600-1654551000@folkalender.dk
SUMMARY:Justine Boesen Trio | Pre-kandidatkoncert
DESCRIPTION:I midten af juni dimitterer jeg efter 6 års studie på SDMK´s Folkemusiklinje i både sang og akkordeon. I den forbindelse spiller jeg mit program i Odense d. 6 juni kl. 20 i det smukkeste lokale hos Foreningen For Skuespil og Bevidsthed.  \n_ _ _ _ _ _ _ _ _ _ _  \nMed bandet ”Justine Boesen Trio” giver Justine et kig ind i hendes musikalske univers de sidste seks år. I kombination mellem hendes sopranvokal og akkordeon skaber hun et moderne folkemusikalsk univers. Hun har både lyrikken og den nordiske folketone tæt inde på livet\, og gennem hendes kompositioner og sange formår Justine at kombinere de to elementer\, så man mærker den danske folketones rødder\, samtidig med at begge dele give liv til nye melodier og lyrik. \nDet vilde\, sårbare og simple er nøgleord i hendes musik\, og Justine Boesen Trio er båret af nærvær og overgivelsen til musikkens evne til at holde os i nuet. \nMed sig har Justine to af de fineste musikere; Mathæus Bech på kontrabas og Sebastian Bloch på guitar. \nEntré er gratis – og man kan dertil vælge på selve dagen at donere valgfrit beløb og støtte musikken
URL:https://folkalender.dk/arrangement/justine-boesen-trio-pre-kandidatkoncert/
LOCATION:Vestergade 21\, Odense\, Vestergade 21\, Odense\, 5000
GEO:55.3962096;10.387145
X-APPLE-STRUCTURED-LOCATION;VALUE=URI;X-ADDRESS=Vestergade 21 Odense Vestergade 21 Odense 5000;X-APPLE-RADIUS=500;X-TITLE=Vestergade 21:geo:10.387145,55.3962096
END:VEVENT
END:VCALENDAR