BEGIN:VCALENDAR
VERSION:2.0
PRODID:-//Folkalender - ECPv6.10.1.1//NONSGML v1.0//EN
CALSCALE:GREGORIAN
METHOD:PUBLISH
X-WR-CALNAME:Folkalender
X-ORIGINAL-URL:https://folkalender.dk
X-WR-CALDESC:Begivenheder for Folkalender
REFRESH-INTERVAL;VALUE=DURATION:PT1H
X-Robots-Tag:noindex
X-PUBLISHED-TTL:PT1H
BEGIN:VTIMEZONE
TZID:Europe/Helsinki
BEGIN:DAYLIGHT
TZOFFSETFROM:+0200
TZOFFSETTO:+0300
TZNAME:EEST
DTSTART:20240331T010000
END:DAYLIGHT
BEGIN:STANDARD
TZOFFSETFROM:+0300
TZOFFSETTO:+0200
TZNAME:EET
DTSTART:20241027T010000
END:STANDARD
END:VTIMEZONE
BEGIN:VEVENT
DTSTART;TZID=Europe/Helsinki:20240629T110000
DTEND;TZID=Europe/Helsinki:20240629T130000
DTSTAMP:20260421T223650
CREATED:20240613T102131Z
LAST-MODIFIED:20240613T102131Z
UID:8993-1719658800-1719666000@folkalender.dk
SUMMARY:Folkemusiklauget Fynboerne spiller på Torvet i Ringe
DESCRIPTION:Folkemusiklauget Fynboerne spiller akustisk spillemandsmusik.\nDu kan lytte til\, slappe af til og du kan danse til Fynboerne.  \nMusikere fra Folkemusiklauget Fynboerne spiller en række af de kendte og primært danske spillemandsmelodier. Ensemblet holder fast i de gamle spillemandstraditioner\, der har været en del af vores kulturarv i flere århundrede. Fynboerne præsentere en side af den levende danske kulturarv.  \nMusikken er en videreførelse og en fortolkning\, der er præget af at musikken stadig påvirkes af nutidens musikere\, instrumenter m.m. Instrumenterne i Folkemusiklauget Fynboerne er violiner\, harmonika\, kontrabas\, ukulele\, sav og guitar.
URL:https://folkalender.dk/arrangement/folkemusiklauget-fynboerne-spiller-paa-torvet-i-ringe/
LOCATION:Torvet\, Ringe\, Torvet 1\, Ringe\, 5750
CATEGORIES:Koncert
ATTACH;FMTTYPE=image/jpeg:https://folkalender.dk/wp-content/uploads/2024/06/B55E3D15-5208-4F62-9BE9-4631B7883A03.jpg
ORGANIZER;CN="Ringe Handelsstandsforening":MAILTO:formand@ringehandel.dk
GEO:55.236921;10.4800039
X-APPLE-STRUCTURED-LOCATION;VALUE=URI;X-ADDRESS=Torvet Ringe Torvet 1 Ringe 5750;X-APPLE-RADIUS=500;X-TITLE=Torvet 1:geo:10.4800039,55.236921
END:VEVENT
END:VCALENDAR