BEGIN:VCALENDAR
VERSION:2.0
PRODID:-//Folkalender - ECPv6.10.1.1//NONSGML v1.0//EN
CALSCALE:GREGORIAN
METHOD:PUBLISH
X-ORIGINAL-URL:https://folkalender.dk
X-WR-CALDESC:Begivenheder for Folkalender
REFRESH-INTERVAL;VALUE=DURATION:PT1H
X-Robots-Tag:noindex
X-PUBLISHED-TTL:PT1H
BEGIN:VTIMEZONE
TZID:Europe/Helsinki
BEGIN:DAYLIGHT
TZOFFSETFROM:+0200
TZOFFSETTO:+0300
TZNAME:EEST
DTSTART:20230326T010000
END:DAYLIGHT
BEGIN:STANDARD
TZOFFSETFROM:+0300
TZOFFSETTO:+0200
TZNAME:EET
DTSTART:20231029T010000
END:STANDARD
BEGIN:DAYLIGHT
TZOFFSETFROM:+0200
TZOFFSETTO:+0300
TZNAME:EEST
DTSTART:20240331T010000
END:DAYLIGHT
BEGIN:STANDARD
TZOFFSETFROM:+0300
TZOFFSETTO:+0200
TZNAME:EET
DTSTART:20241027T010000
END:STANDARD
BEGIN:DAYLIGHT
TZOFFSETFROM:+0200
TZOFFSETTO:+0300
TZNAME:EEST
DTSTART:20250330T010000
END:DAYLIGHT
BEGIN:STANDARD
TZOFFSETFROM:+0300
TZOFFSETTO:+0200
TZNAME:EET
DTSTART:20251026T010000
END:STANDARD
END:VTIMEZONE
BEGIN:VEVENT
DTSTART;TZID=Europe/Helsinki:20250426T200000
DTEND;TZID=Europe/Helsinki:20250427T020000
DTSTAMP:20260421T121325
CREATED:20250425T214327Z
LAST-MODIFIED:20250425T214327Z
UID:12072-1745697600-1745719200@folkalender.dk
SUMMARY:Dobbeltbal
DESCRIPTION:Fanø Folkedanserforening inviterer til dobbeltbal med Habadekuk efterfulgt af Tove\, Ole & Jens. \nDørene åbner kl. 20\, og musikken starter kl. 20.30.\nFri entré – alle er velkomme! \nEn stor tak til sponsorer og bidragydere:\n* Nordea Fonden\n* Fanø Kommune\n* Fanø Krogaard\n* Fannikerdagen
URL:https://folkalender.dk/arrangement/dobbeltbal-2/
LOCATION:Strien\, Lindevej 5\, Fanø\, 6720
CATEGORIES:Bal
ATTACH;FMTTYPE=image/jpeg:https://folkalender.dk/wp-content/uploads/2025/04/Dobbeltbal-Nordby-2025.jpg
ORGANIZER;CN="Fan%C3%B8 Folkedanserforening":MAILTO:rikkeknudsen@live.dk
GEO:55.4456009;8.4019966
X-APPLE-STRUCTURED-LOCATION;VALUE=URI;X-ADDRESS=Strien Lindevej 5 Fanø 6720;X-APPLE-RADIUS=500;X-TITLE=Lindevej 5:geo:8.4019966,55.4456009
END:VEVENT
BEGIN:VEVENT
DTSTART;TZID=Europe/Helsinki:20231014T190000
DTEND;TZID=Europe/Helsinki:20231015T010000
DTSTAMP:20260421T121325
CREATED:20231009T094025Z
LAST-MODIFIED:20231009T094521Z
UID:7186-1697310000-1697331600@folkalender.dk
SUMMARY:Sakkuk & Fanøbal med Mouritzen\, Mouritzen & DeFries
DESCRIPTION:Vi serverer den legendariske festmiddag fra Fanø\, Sakkuk – en ret som skal opleves og smages.  \nArrangementet er en del af “Tradtionernes Dag” \n\nTraditionernes Dag 2023
URL:https://folkalender.dk/arrangement/sakkuk-fanoebal-med-mouritzen-mouritzen-defries/
LOCATION:Strien\, Lindevej 5\, Fanø\, 6720
CATEGORIES:Bal
ATTACH;FMTTYPE=image/jpeg:https://folkalender.dk/wp-content/uploads/2023/10/mou-mou-defries.jpg
ORGANIZER;CN="Fannikerdagen":MAILTO:mail@fannikerdagen.dk
GEO:55.4456009;8.4019966
X-APPLE-STRUCTURED-LOCATION;VALUE=URI;X-ADDRESS=Strien Lindevej 5 Fanø 6720;X-APPLE-RADIUS=500;X-TITLE=Lindevej 5:geo:8.4019966,55.4456009
END:VEVENT
BEGIN:VEVENT
DTSTART;TZID=Europe/Helsinki:20231014T100000
DTEND;TZID=Europe/Helsinki:20231014T170000
DTSTAMP:20260421T121325
CREATED:20231009T093305Z
LAST-MODIFIED:20231009T094019Z
UID:7182-1697277600-1697302800@folkalender.dk
SUMMARY:Tradtionernes Dag - åbent hus
DESCRIPTION:Lørdag d. 14/10 genopliver Fannikerdagen ”Traditionernes Dag”\, hvor vi giver traditionerne videre inden for mad\, musik\, dans og dragter. Vi håber at rigtigt mange har lyst til at være med. Det er en uformel dag\, hvor fællesskabet og samvær på kryds og tværs er kernen i dagen.  \nDer er i løbet af dagen ”Fanømarked”\, workshops i fanømusik\, fanødans & familiedans\, kreaværksted\, dragtevents og jamsession\, så der er noget for alle generationer. Til at lave madworkshops har vi fået erfarne kræfter som Lone Kromann Brinch\, Rigmor Petersen\, Margit Pedersen og Tove Sørensen (kræver tilmelding). Til de åbne workshops  Christoffer Thorhauge\, Grethe Laumand & Jens Peder Hvolby og Kis Sharasuvana & Ole Mouritzen klar. \nDer er gratis adgang hele dagen fra kl. 10-17\, og der kan købes mad & drikke undervejs.  \nOm aftenen er der Sakkuk-gilde og Fanøbal med Mouritzen\, Mouritzen & DeFries. Det er også muligt at købe billet til kun Sakkuk eller bal.  Bøvler man med at købe billetter online\, så ring til Trine Buhl på 31 46 47 32.  \nPROGRAM & BILLETTER\nwww.fannikerdagen.dk
URL:https://folkalender.dk/arrangement/tradtionernes-dag-aabent-hus/
LOCATION:Strien\, Lindevej 5\, Fanø\, 6720
CATEGORIES:Festival
ATTACH;FMTTYPE=image/jpeg:https://folkalender.dk/wp-content/uploads/2023/10/Traditionernes-Dag.jpg
ORGANIZER;CN="Fannikerdagen":MAILTO:mail@fannikerdagen.dk
GEO:55.4456009;8.4019966
X-APPLE-STRUCTURED-LOCATION;VALUE=URI;X-ADDRESS=Strien Lindevej 5 Fanø 6720;X-APPLE-RADIUS=500;X-TITLE=Lindevej 5:geo:8.4019966,55.4456009
END:VEVENT
END:VCALENDAR