BEGIN:VCALENDAR
VERSION:2.0
PRODID:-//Folkalender - ECPv6.10.1.1//NONSGML v1.0//EN
CALSCALE:GREGORIAN
METHOD:PUBLISH
X-WR-CALNAME:Folkalender
X-ORIGINAL-URL:https://folkalender.dk
X-WR-CALDESC:Begivenheder for Folkalender
REFRESH-INTERVAL;VALUE=DURATION:PT1H
X-Robots-Tag:noindex
X-PUBLISHED-TTL:PT1H
BEGIN:VTIMEZONE
TZID:Europe/Helsinki
BEGIN:DAYLIGHT
TZOFFSETFROM:+0200
TZOFFSETTO:+0300
TZNAME:EEST
DTSTART:20240331T010000
END:DAYLIGHT
BEGIN:STANDARD
TZOFFSETFROM:+0300
TZOFFSETTO:+0200
TZNAME:EET
DTSTART:20241027T010000
END:STANDARD
END:VTIMEZONE
BEGIN:VEVENT
DTSTART;TZID=Europe/Helsinki:20240528T190000
DTEND;TZID=Europe/Helsinki:20240528T203000
DTSTAMP:20260421T202842
CREATED:20240122T080739Z
LAST-MODIFIED:20240124T104332Z
UID:7884-1716922800-1716928200@folkalender.dk
SUMMARY:Zenobia
DESCRIPTION:Koncert med danske viser og sange samt Zenobias egne numre.\nVarighed 2 sæt á 45 min.
URL:https://folkalender.dk/arrangement/zenobia-46/
LOCATION:Sønder Dråby Kirke\, Dråbystræde 66\, Sønder Dråby\, Nykøbing M\, 7900
CATEGORIES:Koncert
ATTACH;FMTTYPE=image/png:https://folkalender.dk/wp-content/uploads/2024/01/z-1.png
GEO:56.8874462;8.8440315
X-APPLE-STRUCTURED-LOCATION;VALUE=URI;X-ADDRESS=Sønder Dråby Kirke Dråbystræde 66 Sønder Dråby Nykøbing M 7900;X-APPLE-RADIUS=500;X-TITLE=Dråbystræde 66\, Sønder Dråby:geo:8.8440315,56.8874462
END:VEVENT
END:VCALENDAR