BEGIN:VCALENDAR
VERSION:2.0
PRODID:-//Folkalender - ECPv6.10.1.1//NONSGML v1.0//EN
CALSCALE:GREGORIAN
METHOD:PUBLISH
X-WR-CALNAME:Folkalender
X-ORIGINAL-URL:https://folkalender.dk
X-WR-CALDESC:Begivenheder for Folkalender
REFRESH-INTERVAL;VALUE=DURATION:PT1H
X-Robots-Tag:noindex
X-PUBLISHED-TTL:PT1H
BEGIN:VTIMEZONE
TZID:Europe/Helsinki
BEGIN:DAYLIGHT
TZOFFSETFROM:+0200
TZOFFSETTO:+0300
TZNAME:EEST
DTSTART:20240331T010000
END:DAYLIGHT
BEGIN:STANDARD
TZOFFSETFROM:+0300
TZOFFSETTO:+0200
TZNAME:EET
DTSTART:20241027T010000
END:STANDARD
END:VTIMEZONE
BEGIN:VEVENT
DTSTART;TZID=Europe/Helsinki:20240807T120000
DTEND;TZID=Europe/Helsinki:20240807T150000
DTSTAMP:20260421T234425
CREATED:20240725T102450Z
LAST-MODIFIED:20240725T102450Z
UID:9145-1723032000-1723042800@folkalender.dk
SUMMARY:Torvedage i Ribe
DESCRIPTION:Oplev den fortryllende stemning af skotsk og irsk folkmusik\, når Folk Lovers indtager Skibbroen i hjertet af Ribe. I anledning af Torvedagene byder Ribe Handel på en musikalsk rejse til smukke sange fra Skotland og Irland. Grib lejligheden til at nyde traditionelle ballader og livlige jigs\, mens du slentrer forbi boderne med lokalt håndværk og delikatesser. \nIngen tilmelding er nødvendig; det eneste du skal gøre er at møde op og lade dig forføre af melodierne\, som vil strømme gennem de gamle gader. Glæd dig til en dag fyldt med god musik\, hyggelig handel og enestående atmosfære i Danmarks ældste by. \nTag venner og familie med og del denne unikke oplevelse\, der kombinerer shopping med traditionel keltisk kultur. Dette er en oplagt mulighed for at udforske Ribes charme\, mens du nyder tidløs musik. Folk Lovers står klar til at spille op og skabe mindeværdige øjeblikke. \nArrangementet finder sted på Skibbroen\, Skibbroen\, 6760 Ribe\, den 10. juli og den 7. august og begynder klokken 12:00. Kom og vær en del af en hyggelig dag i Ribe med skøn musik og godt selskab. Arrangementet er støttet af Esbjerg Kommunes Kulturpulje.
URL:https://folkalender.dk/arrangement/torvedage-i-ribe/
LOCATION:Skibbroen Ribe\, Skibbroen\, Ribe\, 6760
CATEGORIES:Koncert,Puljer og fonde
ATTACH;FMTTYPE=image/png:https://folkalender.dk/wp-content/uploads/2024/07/DSC_0547_web.png
GEO:55.3299178;8.761839
X-APPLE-STRUCTURED-LOCATION;VALUE=URI;X-ADDRESS=Skibbroen Ribe Skibbroen Ribe 6760;X-APPLE-RADIUS=500;X-TITLE=Skibbroen:geo:8.761839,55.3299178
END:VEVENT
END:VCALENDAR