BEGIN:VCALENDAR
VERSION:2.0
PRODID:-//Folkalender - ECPv6.10.1.1//NONSGML v1.0//EN
CALSCALE:GREGORIAN
METHOD:PUBLISH
X-WR-CALNAME:Folkalender
X-ORIGINAL-URL:https://folkalender.dk
X-WR-CALDESC:Begivenheder for Folkalender
REFRESH-INTERVAL;VALUE=DURATION:PT1H
X-Robots-Tag:noindex
X-PUBLISHED-TTL:PT1H
BEGIN:VTIMEZONE
TZID:Europe/Helsinki
BEGIN:DAYLIGHT
TZOFFSETFROM:+0200
TZOFFSETTO:+0300
TZNAME:EEST
DTSTART:20240331T010000
END:DAYLIGHT
BEGIN:STANDARD
TZOFFSETFROM:+0300
TZOFFSETTO:+0200
TZNAME:EET
DTSTART:20241027T010000
END:STANDARD
END:VTIMEZONE
BEGIN:VEVENT
DTSTART;TZID=Europe/Helsinki:20240222T193000
DTEND;TZID=Europe/Helsinki:20240222T203000
DTSTAMP:20260419T150844
CREATED:20231009T105653Z
LAST-MODIFIED:20231009T105908Z
UID:7196-1708630200-1708633800@folkalender.dk
SUMMARY:BRAGR
DESCRIPTION:BRAGR – Lyden af skandinavien (bragr.dk) \nBandet giver den skandinaviske folkemusiktradition et nutidigt udtryk med både traditionelle melodier og egne kompositioner. Musikken fremstår brusende og frisk\, arrangementerne er spændende og overraskende.\nPerry Stenbäck: Nyckelharpa\, guitar\nChristine Dueholm: Loota Percussion trommesæt\, vocal\nKristian Bisgaard: Klaver\, harmonika\, vocal\nJesper Frost Bylling: Bas\, vocal
URL:https://folkalender.dk/arrangement/bragr-5/
LOCATION:Skæring Kirke\, Skæring Kirkevej 1-3\, Egå\, 8250
CATEGORIES:Koncert
ATTACH;FMTTYPE=image/jpeg:https://folkalender.dk/wp-content/uploads/2023/10/BRAGR-5.jpg
GEO:56.2340629;10.3044691
X-APPLE-STRUCTURED-LOCATION;VALUE=URI;X-ADDRESS=Skæring Kirke Skæring Kirkevej 1-3 Egå 8250;X-APPLE-RADIUS=500;X-TITLE=Skæring Kirkevej 1-3:geo:10.3044691,56.2340629
END:VEVENT
END:VCALENDAR