BEGIN:VCALENDAR
VERSION:2.0
PRODID:-//Folkalender - ECPv6.10.1.1//NONSGML v1.0//EN
CALSCALE:GREGORIAN
METHOD:PUBLISH
X-WR-CALNAME:Folkalender
X-ORIGINAL-URL:https://folkalender.dk
X-WR-CALDESC:Begivenheder for Folkalender
REFRESH-INTERVAL;VALUE=DURATION:PT1H
X-Robots-Tag:noindex
X-PUBLISHED-TTL:PT1H
BEGIN:VTIMEZONE
TZID:Europe/Helsinki
BEGIN:DAYLIGHT
TZOFFSETFROM:+0200
TZOFFSETTO:+0300
TZNAME:EEST
DTSTART:20230326T010000
END:DAYLIGHT
BEGIN:STANDARD
TZOFFSETFROM:+0300
TZOFFSETTO:+0200
TZNAME:EET
DTSTART:20231029T010000
END:STANDARD
END:VTIMEZONE
BEGIN:VEVENT
DTSTART;TZID=Europe/Helsinki:20231010T190000
DTEND;TZID=Europe/Helsinki:20231010T204500
DTSTAMP:20260421T121146
CREATED:20230327T094834Z
LAST-MODIFIED:20230327T094834Z
UID:6088-1696964400-1696970700@folkalender.dk
SUMMARY:Zenobia
DESCRIPTION:Koncert med danske viser og sange samt Zenobias egne numre.\nVarighed 2 x 45 med pause med forfriskning.
URL:https://folkalender.dk/arrangement/zenobia-33/
LOCATION:Sevel Kirke\, Klostervej 1\, Sevel\, Vinderup\, 7830
CATEGORIES:Koncert
ATTACH;FMTTYPE=image/jpeg:https://folkalender.dk/wp-content/uploads/2023/03/SAK_5997_sh-1-scaled.jpg
GEO:56.4574191;8.871861
X-APPLE-STRUCTURED-LOCATION;VALUE=URI;X-ADDRESS=Sevel Kirke Klostervej 1 Sevel Vinderup 7830;X-APPLE-RADIUS=500;X-TITLE=Klostervej 1\, Sevel:geo:8.871861,56.4574191
END:VEVENT
END:VCALENDAR