BEGIN:VCALENDAR
VERSION:2.0
PRODID:-//Folkalender - ECPv6.10.1.1//NONSGML v1.0//EN
CALSCALE:GREGORIAN
METHOD:PUBLISH
X-ORIGINAL-URL:https://folkalender.dk
X-WR-CALDESC:Begivenheder for Folkalender
REFRESH-INTERVAL;VALUE=DURATION:PT1H
X-Robots-Tag:noindex
X-PUBLISHED-TTL:PT1H
BEGIN:VTIMEZONE
TZID:Europe/Helsinki
BEGIN:DAYLIGHT
TZOFFSETFROM:+0200
TZOFFSETTO:+0300
TZNAME:EEST
DTSTART:20220327T010000
END:DAYLIGHT
BEGIN:STANDARD
TZOFFSETFROM:+0300
TZOFFSETTO:+0200
TZNAME:EET
DTSTART:20221030T010000
END:STANDARD
BEGIN:DAYLIGHT
TZOFFSETFROM:+0200
TZOFFSETTO:+0300
TZNAME:EEST
DTSTART:20230326T010000
END:DAYLIGHT
BEGIN:STANDARD
TZOFFSETFROM:+0300
TZOFFSETTO:+0200
TZNAME:EET
DTSTART:20231029T010000
END:STANDARD
BEGIN:DAYLIGHT
TZOFFSETFROM:+0200
TZOFFSETTO:+0300
TZNAME:EEST
DTSTART:20240331T010000
END:DAYLIGHT
BEGIN:STANDARD
TZOFFSETFROM:+0300
TZOFFSETTO:+0200
TZNAME:EET
DTSTART:20241027T010000
END:STANDARD
END:VTIMEZONE
BEGIN:VEVENT
DTSTART;VALUE=DATE:20240415
DTEND;VALUE=DATE:20240421
DTSTAMP:20260419T153924
CREATED:20230508T094403Z
LAST-MODIFIED:20230508T094856Z
UID:6336-1713139200-1713657599@folkalender.dk
SUMMARY:Folkedans og Højskole
DESCRIPTION:Dans er lutter livsglæde\, og folkedans knytter mennesker sammen. På dette kursus kan alle være med. Om du er nybegynder\, øvet eller rutineret har ingen betydning. Alle bliver budt op til dans\, hvad enten du kommer alene\, som par eller som en del af en flok venner. \nKurset her ligger parallelt med et Aarhus-kursus\, som vi vil spise\, synge og tage på en enkelt udflugt sammen med. Så har du en partner eller ven\, der ikke er folkedanser\, kan vedkommende følge Aarhus-kurset\, mens du danser. Og så er I sammen på højskole alligevel. \nUgens udflugt går til smukke Samsø. \nDanseinstruktør: Jan Kirk Todsen\nMusiker: Nathasja Vosgerau Hansen\nKursusleder: Helle Bak Holvad
URL:https://folkalender.dk/arrangement/folkedans-og-hoejskole-2/
LOCATION:Rude Strand Højskole\, Kystvejen 114\, Odder\, 8300
CATEGORIES:Danseworkshop,Kursus
ATTACH;FMTTYPE=image/jpeg:https://folkalender.dk/wp-content/uploads/2023/05/16A_Folkedans-og-hoejskole-600x400-1.jpg
GEO:55.9916862;10.251416
X-APPLE-STRUCTURED-LOCATION;VALUE=URI;X-ADDRESS=Rude Strand Højskole Kystvejen 114 Odder 8300;X-APPLE-RADIUS=500;X-TITLE=Kystvejen 114:geo:10.251416,55.9916862
END:VEVENT
BEGIN:VEVENT
DTSTART;VALUE=DATE:20230411
DTEND;VALUE=DATE:20230417
DTSTAMP:20260419T153924
CREATED:20220905T182021Z
LAST-MODIFIED:20220905T182021Z
UID:4439-1681171200-1681689599@folkalender.dk
SUMMARY:Folkedans og højskole
DESCRIPTION:Dans er lutter livsglæde. Dans er altid sjovt\, og på dette kursus kan alle være med. Om du er nybegynder\, øvet eller rutineret har ingen betydning. Her bliver alle budt op til dans\, hvad enten du komm10er alene\, som par eller en lille flok venner. \nHvis du har en makker\, der ikke danser\, kan vedkommende følge det andet kursus\, og I er alligevel sammen på højskole. \nUdflugten går til det store\, flotte og velfungerende kulturhus Dokk1 i Aarhus\, hvor vi skal have en rundvisning. Vi skal også se og høre om det nye Aarhus på Aarhus Ø. \nKurset ligger parallelt med ”Aarhus de 5 store”\, så vi vil spise\, høre foredrag og tage på udflugt sammen. \n“Folkedans og højskole” varer fra 11.-16. april 2023 \nInstruktører:\nJan Kirk Todsen\, formand for Folkedans Danmark\nNathasja Vosgerau Hansen\, spillemand
URL:https://folkalender.dk/arrangement/folkedans-og-hoejskole/
LOCATION:Rude Strand Højskole\, Kystvejen 114\, Odder\, 8300
CATEGORIES:Danseworkshop,Kursus
GEO:55.9916862;10.251416
X-APPLE-STRUCTURED-LOCATION;VALUE=URI;X-ADDRESS=Rude Strand Højskole Kystvejen 114 Odder 8300;X-APPLE-RADIUS=500;X-TITLE=Kystvejen 114:geo:10.251416,55.9916862
END:VEVENT
BEGIN:VEVENT
DTSTART;VALUE=DATE:20220321
DTEND;VALUE=DATE:20220327
DTSTAMP:20260419T153924
CREATED:20220129T105519Z
LAST-MODIFIED:20220225T091842Z
UID:2061-1647820800-1648339199@folkalender.dk
SUMMARY:Folkedans på Højskole
DESCRIPTION:Deltag i en uges kursus på seniorhøjskolen Rude Strand med fokus på folkedans og oplev glæden ved at danse sammen med andre.  \nDans er lutter livsglæde. Dans er altid sjovt\, og på dette kursus kan alle være med. Om du er nybegynder\, øvet el- ler rutineret har ingen betydning. Her bliver alle budt op til dans\, hvad enten du kommer alene\, som par eller en lille flok venner. Kurset ligger parallelt med ”Scenen er sat”\, så vi vil spise\, synge\, have morgensamlinger og høre foredrag sammen. Hvis du har en makker\, der ikke danser\, kan denne følge revy-kurset\, og I er alligevel sammen på højskole. \nDanseinstruktør: Jan Kirk Todsen \nMusik: Nathasja Vosgerau Hansen\, Violin
URL:https://folkalender.dk/arrangement/folkedans-paa-hoejskole/
LOCATION:Rude Strand Højskole\, Kystvejen 114\, Odder\, 8300
CATEGORIES:Danseworkshop,Kursus
GEO:55.9916862;10.251416
X-APPLE-STRUCTURED-LOCATION;VALUE=URI;X-ADDRESS=Rude Strand Højskole Kystvejen 114 Odder 8300;X-APPLE-RADIUS=500;X-TITLE=Kystvejen 114:geo:10.251416,55.9916862
END:VEVENT
END:VCALENDAR