BEGIN:VCALENDAR
VERSION:2.0
PRODID:-//Folkalender - ECPv6.10.1.1//NONSGML v1.0//EN
CALSCALE:GREGORIAN
METHOD:PUBLISH
X-WR-CALNAME:Folkalender
X-ORIGINAL-URL:https://folkalender.dk
X-WR-CALDESC:Begivenheder for Folkalender
REFRESH-INTERVAL;VALUE=DURATION:PT1H
X-Robots-Tag:noindex
X-PUBLISHED-TTL:PT1H
BEGIN:VTIMEZONE
TZID:Europe/Helsinki
BEGIN:DAYLIGHT
TZOFFSETFROM:+0200
TZOFFSETTO:+0300
TZNAME:EEST
DTSTART:20250330T010000
END:DAYLIGHT
BEGIN:STANDARD
TZOFFSETFROM:+0300
TZOFFSETTO:+0200
TZNAME:EET
DTSTART:20251026T010000
END:STANDARD
END:VTIMEZONE
BEGIN:VEVENT
DTSTART;TZID=Europe/Helsinki:20250614T100000
DTEND;TZID=Europe/Helsinki:20250614T233000
DTSTAMP:20260420T043938
CREATED:20250403T152025Z
LAST-MODIFIED:20250610T142255Z
UID:11923-1749895200-1749943800@folkalender.dk
SUMMARY:AFLYST! – FestIRibe – Stævne for dansere og spillemænd
DESCRIPTION:AFLYST!
URL:https://folkalender.dk/arrangement/festiribe-staevne-for-dansere-og-spillemaend-2/
LOCATION:Ribe By og Ribe Fritidscenter\, Sportsvej 8\, Ribe\, 6760\, Denmark
CATEGORIES:Festival
ATTACH;FMTTYPE=image/jpeg:https://folkalender.dk/wp-content/uploads/2025/04/FIR.jpeg
GEO:55.3322975;8.7798216
X-APPLE-STRUCTURED-LOCATION;VALUE=URI;X-ADDRESS=Ribe By og Ribe Fritidscenter Sportsvej 8 Ribe 6760 Denmark;X-APPLE-RADIUS=500;X-TITLE=Sportsvej 8:geo:8.7798216,55.3322975
END:VEVENT
END:VCALENDAR