BEGIN:VCALENDAR
VERSION:2.0
PRODID:-//Folkalender - ECPv6.10.1.1//NONSGML v1.0//EN
CALSCALE:GREGORIAN
METHOD:PUBLISH
X-ORIGINAL-URL:https://folkalender.dk
X-WR-CALDESC:Begivenheder for Folkalender
REFRESH-INTERVAL;VALUE=DURATION:PT1H
X-Robots-Tag:noindex
X-PUBLISHED-TTL:PT1H
BEGIN:VTIMEZONE
TZID:Europe/Helsinki
BEGIN:DAYLIGHT
TZOFFSETFROM:+0200
TZOFFSETTO:+0300
TZNAME:EEST
DTSTART:20230326T010000
END:DAYLIGHT
BEGIN:STANDARD
TZOFFSETFROM:+0300
TZOFFSETTO:+0200
TZNAME:EET
DTSTART:20231029T010000
END:STANDARD
END:VTIMEZONE
BEGIN:VEVENT
DTSTART;TZID=Europe/Helsinki:20230513T100000
DTEND;TZID=Europe/Helsinki:20230513T170000
DTSTAMP:20260421T042135
CREATED:20230330T163826Z
LAST-MODIFIED:20230330T163826Z
UID:6106-1683972000-1683997200@folkalender.dk
SUMMARY:Folkedansens og Folkemusikkens dag i Nyvang 2023 - Sjælland
DESCRIPTION:Kom og spil med i stort orkester – eller du kan hyggespille i oplevelsescentret. Gratis adgang for musikere er betinget af tilmelding til Michael S. – Ramsø. Vi spiller fra 10.00 til ca. 14.30 – tag selv frokost med.\nProgram for dagen inkl. melodivalg til dansen kan rekvireres hos Michael S.\nKl. 15.00 afsluttes dagen med folkemusikgudstjeneste i centrets kirke – Sct. Josef.
URL:https://folkalender.dk/arrangement/folkedansens-og-folkemusikkens-dag-i-nyvang-2023-sjaelland/
LOCATION:Nyvang\, Holbæk\, Nyvangs Alle 4\,\, Holbæk\, 4300
ATTACH;FMTTYPE=image/jpeg:https://folkalender.dk/wp-content/uploads/2023/03/MOPS-2019.jpg
ORGANIZER;CN="Spillemandskredsen":MAILTO:angrjens@gmail.com
GEO:55.6938535;11.7476709
X-APPLE-STRUCTURED-LOCATION;VALUE=URI;X-ADDRESS=Nyvang Holbæk Nyvangs Alle 4 Holbæk 4300;X-APPLE-RADIUS=500;X-TITLE=Nyvangs Alle 4\,:geo:11.7476709,55.6938535
END:VEVENT
END:VCALENDAR