BEGIN:VCALENDAR
VERSION:2.0
PRODID:-//Folkalender - ECPv6.10.1.1//NONSGML v1.0//EN
CALSCALE:GREGORIAN
METHOD:PUBLISH
X-ORIGINAL-URL:https://folkalender.dk
X-WR-CALDESC:Begivenheder for Folkalender
REFRESH-INTERVAL;VALUE=DURATION:PT1H
X-Robots-Tag:noindex
X-PUBLISHED-TTL:PT1H
BEGIN:VTIMEZONE
TZID:Europe/Helsinki
BEGIN:DAYLIGHT
TZOFFSETFROM:+0200
TZOFFSETTO:+0300
TZNAME:EEST
DTSTART:20230326T010000
END:DAYLIGHT
BEGIN:STANDARD
TZOFFSETFROM:+0300
TZOFFSETTO:+0200
TZNAME:EET
DTSTART:20231029T010000
END:STANDARD
END:VTIMEZONE
BEGIN:VEVENT
DTSTART;TZID=Europe/Helsinki:20231008T190000
DTEND;TZID=Europe/Helsinki:20231008T200000
DTSTAMP:20260421T120804
CREATED:20230907T151050Z
LAST-MODIFIED:20230907T151238Z
UID:6956-1696791600-1696795200@folkalender.dk
SUMMARY:Koncert med LØVSPRING i Nølev Kirke
DESCRIPTION:Kom og lyt til efterårskoncert med LØVSPRING\, som spiller nykomponerede melodier til Tove Ditlevsens digte. Vi inviterer lytteren ind i en poesiverden\, hvor musikken danne ramme for fortællingen om liv\, kærlighed\, sorg og glæde. Musikken er inspireret af den nordiske folketone og melodierne kredser om ordenes betydninger og stemninger. Undervejs i koncerten vil der være et par fællessange at synge med på. Der er fri entré til koncerten.\nHåber vi ses søndag 8. oktober. \nVokal og klaver: Charlotte Ljungstrøm\nVokal og akkordeon: Justine Boesen\nGuitar: Johannes Christensen\nKontrabas: Johannes Frank Høstrup
URL:https://folkalender.dk/arrangement/koncert-med-loevspring-i-noelev-kirke/
LOCATION:Nølev Kirke
ATTACH;FMTTYPE=image/jpeg:https://folkalender.dk/wp-content/uploads/2023/09/IMG-4505-scaled.jpg
END:VEVENT
END:VCALENDAR