BEGIN:VCALENDAR
VERSION:2.0
PRODID:-//Folkalender - ECPv6.10.1.1//NONSGML v1.0//EN
CALSCALE:GREGORIAN
METHOD:PUBLISH
X-ORIGINAL-URL:https://folkalender.dk
X-WR-CALDESC:Begivenheder for Folkalender
REFRESH-INTERVAL;VALUE=DURATION:PT1H
X-Robots-Tag:noindex
X-PUBLISHED-TTL:PT1H
BEGIN:VTIMEZONE
TZID:Europe/Helsinki
BEGIN:DAYLIGHT
TZOFFSETFROM:+0200
TZOFFSETTO:+0300
TZNAME:EEST
DTSTART:20240331T010000
END:DAYLIGHT
BEGIN:STANDARD
TZOFFSETFROM:+0300
TZOFFSETTO:+0200
TZNAME:EET
DTSTART:20241027T010000
END:STANDARD
END:VTIMEZONE
BEGIN:VEVENT
DTSTART;TZID=Europe/Helsinki:20240502T193000
DTEND;TZID=Europe/Helsinki:20240502T204500
DTSTAMP:20260421T190031
CREATED:20240124T102640Z
LAST-MODIFIED:20240124T104256Z
UID:7894-1714678200-1714682700@folkalender.dk
SUMMARY:Zenobia
DESCRIPTION:Koncert med danske viser og sange samt Zenobias egne numre.\nDer spilles 1 sæt á 70 min uden pause.
URL:https://folkalender.dk/arrangement/zenobia-47/
LOCATION:Nebsager Kirke\, Nebsager Kirkevej 8\, Hornsyld\, 8783
CATEGORIES:Koncert
ATTACH;FMTTYPE=image/png:https://folkalender.dk/wp-content/uploads/2024/01/z.png
GEO:55.7553752;9.8628647
X-APPLE-STRUCTURED-LOCATION;VALUE=URI;X-ADDRESS=Nebsager Kirke Nebsager Kirkevej 8 Hornsyld 8783;X-APPLE-RADIUS=500;X-TITLE=Nebsager Kirkevej 8:geo:9.8628647,55.7553752
END:VEVENT
END:VCALENDAR