BEGIN:VCALENDAR
VERSION:2.0
PRODID:-//Folkalender - ECPv6.10.1.1//NONSGML v1.0//EN
CALSCALE:GREGORIAN
METHOD:PUBLISH
X-ORIGINAL-URL:https://folkalender.dk
X-WR-CALDESC:Begivenheder for Folkalender
REFRESH-INTERVAL;VALUE=DURATION:PT1H
X-Robots-Tag:noindex
X-PUBLISHED-TTL:PT1H
BEGIN:VTIMEZONE
TZID:Europe/Helsinki
BEGIN:DAYLIGHT
TZOFFSETFROM:+0200
TZOFFSETTO:+0300
TZNAME:EEST
DTSTART:20260329T010000
END:DAYLIGHT
BEGIN:STANDARD
TZOFFSETFROM:+0300
TZOFFSETTO:+0200
TZNAME:EET
DTSTART:20261025T010000
END:STANDARD
END:VTIMEZONE
BEGIN:VEVENT
DTSTART;TZID=Europe/Helsinki:20260920T170000
DTEND;TZID=Europe/Helsinki:20260920T200000
DTSTAMP:20260419T153422
CREATED:20260415T144712Z
LAST-MODIFIED:20260415T144712Z
UID:14825-1789923600-1789934400@folkalender.dk
SUMMARY:Andreas Tophøj og Rune Barslund – Lyngå Kirke\, høstgudstjeneste og efterfølgende koncert
DESCRIPTION:Duoen medvirker til høstgudstjeneste. Efterfølgende byder kirken på frokost\, hvor Andreas og Rune spiller en kort koncert \nMusik og humor mødes i en liflig blanding\, når Rune Barslund (akkordeon) og Andreas Tophøj (violin og bratsch) byder indenfor til en koncertoplevelse med varme\, inderlige og lunefulde øjeblikke. Repertoiret er groet i den nordiske og keltiske folkemusiks frodige have\, men duoen går gerne ad ubetrådte stier. De musikalske indslag akkompagneres af Hausgaardske fortællinger fra det virkelige liv\, der borger for gode træk i lattermusklerne. Andreas og Rune stryger ikke kun publikum med hårene\, men leverer en uforglemmelig oplevelse til både tanke og sind. \nDe to drevne jyder kan godt kaldes et umage par\, med forskellige temperamenter og musikalske dialekter. Rune er rundet af den skandinaviske musiktradition og har viet sin karriere til at mestre den irske folkemusiks særprægede lyrik. Andreas faldt som teenager i spillemandsmusikkens store gryde og har lagt al sin flid i at mestre den på egen hånd. Fællesnævneren er en passion for den varme og folkelige musik\, og at ingen af dem har fået deres succes forærende. Forskelle og ligheder\, sorg og glæde\, smerte og jubel – alt går op i en højere enhed\, når duoen finder melodien og spiller musikalsk og komisk bold med hinanden. Det charmerende og virtuose par er således blandt de mest interessante danske folkemusikere lige nu. De har optrådt på mange internationale festivaler i både Danmark og udlandet\, og både individuelt og som duo har de vundet flere priser for deres musik\, ikke mindst Årets Track ved Danish Music Awards Folk\, 2012.  \nAndreas og Rune står på skuldrene af en folkemusiktradition\, som er lang og autentisk\, og som fortsat er i rivende udvikling\, ikke mindst i kraft af Andreas og Rune. Når de leger sammen\, mødes de nordiske og keltiske tonesprog\, og der opstår et nyt og andet\, som er spillevende og fuld af nerve. Publikum er til stede på hele turen\, hvor de har mulighed for både grin\, gråd og eftertanke.
URL:https://folkalender.dk/arrangement/andreas-tophoej-og-rune-barslund-lyngaa-kirke-hoestgudstjeneste-og-efterfoelgende-koncert/
LOCATION:Lyngå Kirke\, Lyngåvej 86a\, Hadsten\, 8370
CATEGORIES:Gudstjeneste
ATTACH;FMTTYPE=image/jpeg:https://folkalender.dk/wp-content/uploads/2026/04/AndreasRune-pic-02-sh-Kristoffer-Juel-scaled.jpg
GEO:56.3146318;9.9800193
X-APPLE-STRUCTURED-LOCATION;VALUE=URI;X-ADDRESS=Lyngå Kirke Lyngåvej 86a Hadsten 8370;X-APPLE-RADIUS=500;X-TITLE=Lyngåvej 86a:geo:9.9800193,56.3146318
END:VEVENT
END:VCALENDAR