BEGIN:VCALENDAR
VERSION:2.0
PRODID:-//Folkalender - ECPv6.10.1.1//NONSGML v1.0//EN
CALSCALE:GREGORIAN
METHOD:PUBLISH
X-WR-CALNAME:Folkalender
X-ORIGINAL-URL:https://folkalender.dk
X-WR-CALDESC:Begivenheder for Folkalender
REFRESH-INTERVAL;VALUE=DURATION:PT1H
X-Robots-Tag:noindex
X-PUBLISHED-TTL:PT1H
BEGIN:VTIMEZONE
TZID:Europe/Helsinki
BEGIN:DAYLIGHT
TZOFFSETFROM:+0200
TZOFFSETTO:+0300
TZNAME:EEST
DTSTART:20240331T010000
END:DAYLIGHT
BEGIN:STANDARD
TZOFFSETFROM:+0300
TZOFFSETTO:+0200
TZNAME:EET
DTSTART:20241027T010000
END:STANDARD
END:VTIMEZONE
BEGIN:VEVENT
DTSTART;TZID=Europe/Helsinki:20240616T110000
DTEND;TZID=Europe/Helsinki:20240616T160000
DTSTAMP:20260421T223650
CREATED:20240604T090701Z
LAST-MODIFIED:20240604T090701Z
UID:8924-1718535600-1718553600@folkalender.dk
SUMMARY:Spil og dans ved møllen
DESCRIPTION:Folkemusiklauget Fynboerne spiller op til dans og alle er velkomne
URL:https://folkalender.dk/arrangement/spil-og-dans-ved-moellen/
LOCATION:Lumby Mølle\, Slettensvej 294\, Odense\, 5270
CATEGORIES:Bal
ATTACH;FMTTYPE=image/jpeg:https://folkalender.dk/wp-content/uploads/2024/06/Fynboerne1-1.jpg
GEO:55.4492585;10.3750679
X-APPLE-STRUCTURED-LOCATION;VALUE=URI;X-ADDRESS=Lumby Mølle Slettensvej 294 Odense 5270;X-APPLE-RADIUS=500;X-TITLE=Slettensvej 294:geo:10.3750679,55.4492585
END:VEVENT
END:VCALENDAR