BEGIN:VCALENDAR
VERSION:2.0
PRODID:-//Folkalender - ECPv6.10.1.1//NONSGML v1.0//EN
CALSCALE:GREGORIAN
METHOD:PUBLISH
X-WR-CALNAME:Folkalender
X-ORIGINAL-URL:https://folkalender.dk
X-WR-CALDESC:Begivenheder for Folkalender
REFRESH-INTERVAL;VALUE=DURATION:PT1H
X-Robots-Tag:noindex
X-PUBLISHED-TTL:PT1H
BEGIN:VTIMEZONE
TZID:Europe/Helsinki
BEGIN:DAYLIGHT
TZOFFSETFROM:+0200
TZOFFSETTO:+0300
TZNAME:EEST
DTSTART:20230326T010000
END:DAYLIGHT
BEGIN:STANDARD
TZOFFSETFROM:+0300
TZOFFSETTO:+0200
TZNAME:EET
DTSTART:20231029T010000
END:STANDARD
END:VTIMEZONE
BEGIN:VEVENT
DTSTART;TZID=Europe/Helsinki:20230712T150000
DTEND;TZID=Europe/Helsinki:20230715T120000
DTSTAMP:20260421T075058
CREATED:20230130T204925Z
LAST-MODIFIED:20230130T205137Z
UID:5563-1689174000-1689422400@folkalender.dk
SUMMARY:BARNLEK 2023
DESCRIPTION:Nordens største stævne for børn og unge Folkedansere og spillemænd.
URL:https://folkalender.dk/arrangement/barnlek-2023/
LOCATION:Lerum\, Sverige
CATEGORIES:Stævne
END:VEVENT
END:VCALENDAR