BEGIN:VCALENDAR
VERSION:2.0
PRODID:-//Folkalender - ECPv6.10.1.1//NONSGML v1.0//EN
CALSCALE:GREGORIAN
METHOD:PUBLISH
X-WR-CALNAME:Folkalender
X-ORIGINAL-URL:https://folkalender.dk
X-WR-CALDESC:Begivenheder for Folkalender
REFRESH-INTERVAL;VALUE=DURATION:PT1H
X-Robots-Tag:noindex
X-PUBLISHED-TTL:PT1H
BEGIN:VTIMEZONE
TZID:Europe/Helsinki
BEGIN:DAYLIGHT
TZOFFSETFROM:+0200
TZOFFSETTO:+0300
TZNAME:EEST
DTSTART:20220327T010000
END:DAYLIGHT
BEGIN:STANDARD
TZOFFSETFROM:+0300
TZOFFSETTO:+0200
TZNAME:EET
DTSTART:20221030T010000
END:STANDARD
BEGIN:DAYLIGHT
TZOFFSETFROM:+0200
TZOFFSETTO:+0300
TZNAME:EEST
DTSTART:20230326T010000
END:DAYLIGHT
BEGIN:STANDARD
TZOFFSETFROM:+0300
TZOFFSETTO:+0200
TZNAME:EET
DTSTART:20231029T010000
END:STANDARD
END:VTIMEZONE
BEGIN:VEVENT
DTSTART;TZID=Europe/Helsinki:20230316T193000
DTEND;TZID=Europe/Helsinki:20230316T210000
DTSTAMP:20260421T012929
CREATED:20230123T213815Z
LAST-MODIFIED:20230123T213815Z
UID:5510-1678995000-1679000400@folkalender.dk
SUMMARY:Tradish koncert
DESCRIPTION:Tradish spiller folkemusik torsdag 16. marts så englene synger (og danser). \nHusk du inden koncerten kan spise i husets café.\nBordbestilling på 8722 1980 eller toftebjerg@silkeborgbib.dk \nBordbestilling pr. mail er først gældende når du har modtaget en bekræftelse. \nSiden de blev dannet i 2009 \, har Tradish optrådt på hundredvis af scener på tværs af Europa. Bandet har mødt og genset et publikum\, der værdsætter den åbne og personlige tilgang til den traditionelle irske musik. \nSom en del af den levende irske musiktradition\, spiller Tradish sig ind i en spændende og livsbekræftende blanding af det gamle og det nye\, fortid og nutid\, med en stærk forankring og respekt for rødderne.  \nTradish er:\nJohn Pilkington (vokal\, guitar\, bouzouki)\,\nLouise Ring Vangsgaard (violin\, viola \, vokal) og\nBrian Woetmann (bodhrán\, percussion mandolin vokal \, step).
URL:https://folkalender.dk/arrangement/tradish-koncert-4/
LOCATION:Kulturstafetten\, Røllikevej 3\, Them\, 8653
CATEGORIES:Koncert
ATTACH;FMTTYPE=image/jpeg:https://folkalender.dk/wp-content/uploads/2023/01/IMG_0550-1.jpeg
GEO:56.0893909;9.5457379
X-APPLE-STRUCTURED-LOCATION;VALUE=URI;X-ADDRESS=Kulturstafetten Røllikevej 3 Them 8653;X-APPLE-RADIUS=500;X-TITLE=Røllikevej 3:geo:9.5457379,56.0893909
END:VEVENT
BEGIN:VEVENT
DTSTART;TZID=Europe/Helsinki:20221110T193000
DTEND;TZID=Europe/Helsinki:20221110T193000
DTSTAMP:20260421T012929
CREATED:20220912T092550Z
LAST-MODIFIED:20220912T092550Z
UID:4552-1668108600-1668108600@folkalender.dk
SUMMARY:Mirja Klippel feat. Vesselil
DESCRIPTION:Med en stor stemme\, et inderligt klangunivers og en sans for at skrive sange\, der forbinder dybt personlige erfaringer med billeder fra den nordiske natur\, har den finske sangskriver\, sanger og multi-instrumentalist Mirja Klippel markeret sig som et særligt talent på den alternative folk-scene. \nAllerede hendes debut-EP Lift Your Lion (2016) indbragte den københavner-baserede musiker en Danish Music Award Folk som Årets Sangskriver. Siden har hun turneret flittigt i Danmark\, såvel som resten af Europa og Nordatlanten\, ligesom hun i 2018 udsendte det roste fuldlængde-album River of Silver. Hendes seneste album\, Slow Coming Alive\, fik tre nominationer ved Danish Music Awards Roots i 2021. \nMed dette album føjer Klippel atter nye nuancer til sin alternative og poetiske folk og fortsætter med at udvide dybderne og højderne i sin sangskrivning. Med sin faste medmusiker Alex Jønsson\, drager hun publikum ind i et organisk og atmosfærisk univers\, hvor personlige erfaringer åbner op for psykologiske dybder\, og hvor intime rum går hånd i hånd med rå og vilde landskaber. \nKoncerten gæstes af den danske DMA-nominerede vokal- og strygetrio Vesselil\, som udover Klippels sange spiller og synger nordisk traditionel og nykomponeret “kammerfolk”. Vesselil har med deres intense nærvær og hengivne sammenspil skabt et varieret\, elegant og energifyldt koncertrepertoire med dybe rødder i den nordiske folkemusiktradition. \nLine up:\nMirja Klippel: sang\, guitar & waldzither\nAlex Jønsson: guitar\, kor \nVesselil\nClara Tesch – violin\, brastch\, & sang\nElisabeth Dichmann – violin & sang\nMaja Aarøe Freese – femstrenget cello & sang
URL:https://folkalender.dk/arrangement/mirja-klippel-feat-vesselil-2/
LOCATION:Kulturstafetten\, Røllikevej 3\, Them\, 8653
CATEGORIES:Koncert
GEO:56.0893909;9.5457379
X-APPLE-STRUCTURED-LOCATION;VALUE=URI;X-ADDRESS=Kulturstafetten Røllikevej 3 Them 8653;X-APPLE-RADIUS=500;X-TITLE=Røllikevej 3:geo:9.5457379,56.0893909
END:VEVENT
END:VCALENDAR