BEGIN:VCALENDAR
VERSION:2.0
PRODID:-//Folkalender - ECPv6.10.1.1//NONSGML v1.0//EN
CALSCALE:GREGORIAN
METHOD:PUBLISH
X-ORIGINAL-URL:https://folkalender.dk
X-WR-CALDESC:Begivenheder for Folkalender
REFRESH-INTERVAL;VALUE=DURATION:PT1H
X-Robots-Tag:noindex
X-PUBLISHED-TTL:PT1H
BEGIN:VTIMEZONE
TZID:Europe/Helsinki
BEGIN:DAYLIGHT
TZOFFSETFROM:+0200
TZOFFSETTO:+0300
TZNAME:EEST
DTSTART:20240331T010000
END:DAYLIGHT
BEGIN:STANDARD
TZOFFSETFROM:+0300
TZOFFSETTO:+0200
TZNAME:EET
DTSTART:20241027T010000
END:STANDARD
END:VTIMEZONE
BEGIN:VEVENT
DTSTART;TZID=Europe/Helsinki:20240208T193000
DTEND;TZID=Europe/Helsinki:20240208T213000
DTSTAMP:20260421T165100
CREATED:20240120T232602Z
LAST-MODIFIED:20240120T232602Z
UID:7825-1707420600-1707427800@folkalender.dk
SUMMARY:TRADISH - Kulturhuset Viby C
DESCRIPTION:Tradish – irsk musik uden grænser\nPræsenteres i Kulturhuset Viby torsdag den 8. februar kl. 19.30 (døren åbnes kl. 19).\nSiden de blev dannet i 2009\, har Tradish optrådt på hundredvis af scener på tværs af Europa. Bandet har mødt og genset et publikum\, der værdsætter den åbne og personlige tilgang til den traditionelle irske musik\, der kendetegner Tradish. Som en del af den levende irske musiktradition\, spiller Tradish sig ind i en spændende og livsbekræftende blanding af det gamle og det nye\, fortid og nutid\, med en stærk forankring og respekt for rødderne.\nTradish er: John Pilkington: vokal\, guitar\, bouzouki Louise Ring Vangsgaard: violin\, viola\, vokal Brian Woetmann: bodhrán\, percussion\, mandolin\, vokal\, step.\nDet sidste album Handmade tales er en samling af 15 håndlavede numre udført på håndlavede akustiske instrumenter – 15 fortællinger med hver sin historie. Det er et destillat af bandets helt specielle lyd\, hvor deres egne kompositioner tilføres den irske traditionelle musik. Handmade tales er et snapshot af\, hvordan bandets karakteristiske lyd har udviklet sig gennem mange års sammenspil: lyden af 3 stemmer og 6 hænder\, som spiller på instrumenter håndbygget af træ\, strenge og gedeskind.
URL:https://folkalender.dk/arrangement/tradish-kulturhuset-viby-c/
LOCATION:Kulturhuset Viby C\, Kirkestien 1\, Viby\, 8260
CATEGORIES:Koncert
ATTACH;FMTTYPE=image/jpeg:https://folkalender.dk/wp-content/uploads/2024/01/5.jpg
GEO:56.1287492;10.1650426
X-APPLE-STRUCTURED-LOCATION;VALUE=URI;X-ADDRESS=Kulturhuset Viby C Kirkestien 1 Viby 8260;X-APPLE-RADIUS=500;X-TITLE=Kirkestien 1:geo:10.1650426,56.1287492
END:VEVENT
END:VCALENDAR