BEGIN:VCALENDAR
VERSION:2.0
PRODID:-//Folkalender - ECPv6.10.1.1//NONSGML v1.0//EN
CALSCALE:GREGORIAN
METHOD:PUBLISH
X-WR-CALNAME:Folkalender
X-ORIGINAL-URL:https://folkalender.dk
X-WR-CALDESC:Begivenheder for Folkalender
REFRESH-INTERVAL;VALUE=DURATION:PT1H
X-Robots-Tag:noindex
X-PUBLISHED-TTL:PT1H
BEGIN:VTIMEZONE
TZID:Europe/Helsinki
BEGIN:DAYLIGHT
TZOFFSETFROM:+0200
TZOFFSETTO:+0300
TZNAME:EEST
DTSTART:20230326T010000
END:DAYLIGHT
BEGIN:STANDARD
TZOFFSETFROM:+0300
TZOFFSETTO:+0200
TZNAME:EET
DTSTART:20231029T010000
END:STANDARD
BEGIN:DAYLIGHT
TZOFFSETFROM:+0200
TZOFFSETTO:+0300
TZNAME:EEST
DTSTART:20240331T010000
END:DAYLIGHT
BEGIN:STANDARD
TZOFFSETFROM:+0300
TZOFFSETTO:+0200
TZNAME:EET
DTSTART:20241027T010000
END:STANDARD
END:VTIMEZONE
BEGIN:VEVENT
DTSTART;TZID=Europe/Helsinki:20240426T193000
DTEND;TZID=Europe/Helsinki:20240426T220000
DTSTAMP:20260420T171221
CREATED:20240121T175217Z
LAST-MODIFIED:20240405T112428Z
UID:7859-1714159800-1714168800@folkalender.dk
SUMMARY:Tradish – Irsk – Musik i Rønde
DESCRIPTION:https://musikiroende.dk
URL:https://folkalender.dk/arrangement/tradish-irsk-musik-i-roende/
LOCATION:Kulturhotellet\, Hovedgaden 10\, Rønde\, 8410\, Danmark
CATEGORIES:Koncert
ATTACH;FMTTYPE=image/jpeg:https://folkalender.dk/wp-content/uploads/2024/01/thumb500-909573610d01c1b40a17131c4993f9280acaae.jpg
GEO:56.3001173;10.4793889
X-APPLE-STRUCTURED-LOCATION;VALUE=URI;X-ADDRESS=Kulturhotellet Hovedgaden 10 Rønde 8410 Danmark;X-APPLE-RADIUS=500;X-TITLE=Hovedgaden 10:geo:10.4793889,56.3001173
END:VEVENT
BEGIN:VEVENT
DTSTART;TZID=Europe/Helsinki:20230923T193000
DTEND;TZID=Europe/Helsinki:20230923T220000
DTSTAMP:20260420T171221
CREATED:20230814T205526Z
LAST-MODIFIED:20230814T210758Z
UID:6795-1695497400-1695506400@folkalender.dk
SUMMARY:"Himmerland" - på International Folkemusikdag
DESCRIPTION:Himmerland turnerer i disse år i store dele af verden med ny musik\, komponeret af fem markante og særdeles erfarne musikere og komponister med baggrund i meget forskellige genrer\, traditioner og kulturer.\nOveralt hvor bandet kommer frem spreder de glæde og tryllebinder deres publikum\, med deres helt unikke blanding af gamle danske ballader\, forrygende fiddle tunes\, ekvillibristiske improvisationer\, og ny fascinerende musik komponeret og arrangeret af bandets medlemmer.\nIrske Nuala Kennedy og Donald Hay fra Skotland har især indgået i bandets line up under en række turnèer og festivaler på New Zealand\, Italien\, Canada og i England og Skotland.\nBandet har turneret i store dele af verden på festivaller\, musikteatre og klubber\, og Himmerland har arbejdet tæt sammen med en række musikere som de har mødt på turneerne i udlandet.\nMusikere:\nKirstine Haugaasrd Sand\, Eskil Romme\, Jens Ulvsand\,\nJonatan Ahlbom\, Donald Hay\, Nuala Kennedy
URL:https://folkalender.dk/arrangement/himmerland-paa-international-folkemusikdag/
LOCATION:Kulturhotellet\, Hovedgaden 10\, Rønde\, 8410\, Danmark
CATEGORIES:Koncert
ATTACH;FMTTYPE=image/jpeg:https://folkalender.dk/wp-content/uploads/2023/08/Himmerland.jpg
ORGANIZER;CN="Musikforeningen Musik-i-R%C3%B8nde":MAILTO:mir@musikiroende.dk
GEO:56.3001173;10.4793889
X-APPLE-STRUCTURED-LOCATION;VALUE=URI;X-ADDRESS=Kulturhotellet Hovedgaden 10 Rønde 8410 Danmark;X-APPLE-RADIUS=500;X-TITLE=Hovedgaden 10:geo:10.4793889,56.3001173
END:VEVENT
END:VCALENDAR