BEGIN:VCALENDAR
VERSION:2.0
PRODID:-//Folkalender - ECPv6.10.1.1//NONSGML v1.0//EN
CALSCALE:GREGORIAN
METHOD:PUBLISH
X-WR-CALNAME:Folkalender
X-ORIGINAL-URL:https://folkalender.dk
X-WR-CALDESC:Begivenheder for Folkalender
REFRESH-INTERVAL;VALUE=DURATION:PT1H
X-Robots-Tag:noindex
X-PUBLISHED-TTL:PT1H
BEGIN:VTIMEZONE
TZID:Europe/Helsinki
BEGIN:DAYLIGHT
TZOFFSETFROM:+0200
TZOFFSETTO:+0300
TZNAME:EEST
DTSTART:20230326T010000
END:DAYLIGHT
BEGIN:STANDARD
TZOFFSETFROM:+0300
TZOFFSETTO:+0200
TZNAME:EET
DTSTART:20231029T010000
END:STANDARD
END:VTIMEZONE
BEGIN:VEVENT
DTSTART;TZID=Europe/Helsinki:20231006T200000
DTEND;TZID=Europe/Helsinki:20231006T233000
DTSTAMP:20260421T121507
CREATED:20230910T203412Z
LAST-MODIFIED:20230924T041404Z
UID:6983-1696622400-1696635000@folkalender.dk
SUMMARY:Mia Guldhammer & Morten Alfred Høirup m. Charlotte Andersson på Knejpe Festival
DESCRIPTION:Mia Guldhammer (Sang\, Shruti Box\, percussion) & Morten Alfred Høirup (Sang\, guitar) spiller og synger sange på dansk på Knejpe Festival i Helsingør. Gæst saxofonist Charlotte Andersson.  \n20:00: Borgerkroen\n21:00: Valdemar\n23:00: Toldkammeret
URL:https://folkalender.dk/arrangement/maia-guldhammer-morten-alfred-hoeirup-m-charlotte-andersson-paa-knejpe-festival/
LOCATION:Knejpe Festival\, Helsingør
CATEGORIES:Festival
ATTACH;FMTTYPE=image/jpeg:https://folkalender.dk/wp-content/uploads/2023/09/Morten-Alfred-og-Mia-2274-faerdig-scaled.jpg
GEO:56.030787;12.592127
END:VEVENT
END:VCALENDAR