BEGIN:VCALENDAR
VERSION:2.0
PRODID:-//Folkalender - ECPv6.10.1.1//NONSGML v1.0//EN
CALSCALE:GREGORIAN
METHOD:PUBLISH
X-WR-CALNAME:Folkalender
X-ORIGINAL-URL:https://folkalender.dk
X-WR-CALDESC:Begivenheder for Folkalender
REFRESH-INTERVAL;VALUE=DURATION:PT1H
X-Robots-Tag:noindex
X-PUBLISHED-TTL:PT1H
BEGIN:VTIMEZONE
TZID:Europe/Helsinki
BEGIN:DAYLIGHT
TZOFFSETFROM:+0200
TZOFFSETTO:+0300
TZNAME:EEST
DTSTART:20240331T010000
END:DAYLIGHT
BEGIN:STANDARD
TZOFFSETFROM:+0300
TZOFFSETTO:+0200
TZNAME:EET
DTSTART:20241027T010000
END:STANDARD
END:VTIMEZONE
BEGIN:VEVENT
DTSTART;TZID=Europe/Helsinki:20240822T120000
DTEND;TZID=Europe/Helsinki:20240822T140000
DTSTAMP:20260421T230927
CREATED:20240815T154332Z
LAST-MODIFIED:20240815T154332Z
UID:9337-1724328000-1724335200@folkalender.dk
SUMMARY:Folk Lovers spiller ved Klostercafeen\, Torvet 11\, Tønder
DESCRIPTION:Musikelskere og fans af skotsk og irsk folkemusik samles i hyggelige omgivelser\, når pladsen foran Klostercafeen bliver fyldt med hjertevarmende toner. “Folk Lovers” er en duo\, der mestrer kunsten at formidle folkemusikkens sjæl og berører publikum dybt. Tag med på en rejse gennem skotske og irske landskaber\, skabt af musik\, hvor glæde og tårer flyder ubesværet sammen.\nArrangementet\, Folk Lovers spiller på Torvet foran Klostercafeen\, sørger for\, at både forventningsfulde ører og stemmebånd bliver forkælet. De to stemmige sange inviterer til fællessang\, mens det tostemmige samspil mellem musikanterne skaber en intim atmosfære. Aktive lyttere kan klappe med\, mens de mere passive kan læne sig tilbage og lade humøret stige.\nFolk Lovers er en folkduo bestående af Hanne og Niels-Jørgen Hvidberg.\nHanne spiller fløjter\, cajon\, bodhran og synger og Niels-Jørgen spiller guitar\, banjo\, mandolin\, bodhran og synger.\nNyd god musik\, en kold øl og en god stemning\, som kun folkemusik kan fremmane. Om man er til at synge med\, klappe eller bare lytte\, kan alle finde et sted foran Klostercafeen\, hvor man kommer og mærker musikkens magi.\nSæt kryds i kalenderen og tag venner og familie under armen for en uforglemmelig oplevelse. Folk Lovers spiller på torvet foran Klostercafeen\, Torvet 11\, den 22. august kl. 12:00.
URL:https://folkalender.dk/arrangement/folk-lovers-spiller-ved-klostercafeen-torvet-11-toender/
LOCATION:Klostercafeen\, Torvet 11\, Tønder\, 6270
CATEGORIES:Festival,Koncert
ATTACH;FMTTYPE=image/png:https://folkalender.dk/wp-content/uploads/2024/08/DSC_0547_web-3.png
GEO:54.9360776;8.8705233
X-APPLE-STRUCTURED-LOCATION;VALUE=URI;X-ADDRESS=Klostercafeen Torvet 11 Tønder 6270;X-APPLE-RADIUS=500;X-TITLE=Torvet 11:geo:8.8705233,54.9360776
END:VEVENT
END:VCALENDAR