BEGIN:VCALENDAR
VERSION:2.0
PRODID:-//Folkalender - ECPv6.10.1.1//NONSGML v1.0//EN
CALSCALE:GREGORIAN
METHOD:PUBLISH
X-WR-CALNAME:Folkalender
X-ORIGINAL-URL:https://folkalender.dk
X-WR-CALDESC:Begivenheder for Folkalender
REFRESH-INTERVAL;VALUE=DURATION:PT1H
X-Robots-Tag:noindex
X-PUBLISHED-TTL:PT1H
BEGIN:VTIMEZONE
TZID:Europe/Helsinki
BEGIN:DAYLIGHT
TZOFFSETFROM:+0200
TZOFFSETTO:+0300
TZNAME:EEST
DTSTART:20240331T010000
END:DAYLIGHT
BEGIN:STANDARD
TZOFFSETFROM:+0300
TZOFFSETTO:+0200
TZNAME:EET
DTSTART:20241027T010000
END:STANDARD
END:VTIMEZONE
BEGIN:VEVENT
DTSTART;TZID=Europe/Helsinki:20240821T180000
DTEND;TZID=Europe/Helsinki:20240821T210000
DTSTAMP:20260421T233234
CREATED:20240815T153140Z
LAST-MODIFIED:20240815T153140Z
UID:9333-1724263200-1724274000@folkalender.dk
SUMMARY:Folk Lovers spiller på Klægager\, Den Gamle Digegreves Gaard
DESCRIPTION:Vi skal høre noget god musik ved folk duoen Folk Lovers bestående af Hanne og Niels-Jørgen Hvidberg. Duoen synger og spiller på cajon\, bodhran\, guitar\, banjo og mandolin.\nVi bliver præsenteret for en bred vifte af smukke\, sjove\, livlige og medrivende sange. Det hele krydres med små anekdoter og korte fortællinger om sangene. Repertoiret er hentet fra den skotske og irske folkemusik iblandet danske og egne numre.\nProgram onsdag den 21. august\n18:00 til 19:00: Festival buffet\n19:00 til 19:45: Musik og sang\n19:45 til 20:15: Portionsanrettet dessert\n20:15 til 20:45: Musik og sang\nPris for alt dette kun 250\, -kr. pr. person ekskl. drikkevarer.\nDato: Onsdag den 21. august\nKlokken: 18:00 til 21:00\nBestilling her: https://klaegager.dk/event/festival-buffet-onsdag-den-21-august-med-levende-musik/
URL:https://folkalender.dk/arrangement/folk-lovers-spiller-paa-klaegager-den-gamle-digegreves-gaard/
LOCATION:Klægager\, Østerende 13\, Bredebro\, 6261
CATEGORIES:Koncert
ATTACH;FMTTYPE=image/png:https://folkalender.dk/wp-content/uploads/2024/08/DSC_0547_web-2.png
GEO:55.0894517;8.6758024
X-APPLE-STRUCTURED-LOCATION;VALUE=URI;X-ADDRESS=Klægager Østerende 13 Bredebro 6261;X-APPLE-RADIUS=500;X-TITLE=Østerende 13:geo:8.6758024,55.0894517
END:VEVENT
END:VCALENDAR