BEGIN:VCALENDAR
VERSION:2.0
PRODID:-//Folkalender - ECPv6.10.1.1//NONSGML v1.0//EN
CALSCALE:GREGORIAN
METHOD:PUBLISH
X-ORIGINAL-URL:https://folkalender.dk
X-WR-CALDESC:Begivenheder for Folkalender
REFRESH-INTERVAL;VALUE=DURATION:PT1H
X-Robots-Tag:noindex
X-PUBLISHED-TTL:PT1H
BEGIN:VTIMEZONE
TZID:Europe/Helsinki
BEGIN:DAYLIGHT
TZOFFSETFROM:+0200
TZOFFSETTO:+0300
TZNAME:EEST
DTSTART:20220327T010000
END:DAYLIGHT
BEGIN:STANDARD
TZOFFSETFROM:+0300
TZOFFSETTO:+0200
TZNAME:EET
DTSTART:20221030T010000
END:STANDARD
END:VTIMEZONE
BEGIN:VEVENT
DTSTART;TZID=Europe/Helsinki:20221106T180000
DTEND;TZID=Europe/Helsinki:20221106T200000
DTSTAMP:20260421T061259
CREATED:20220929T192403Z
LAST-MODIFIED:20220929T193113Z
UID:4714-1667757600-1667764800@folkalender.dk
SUMMARY:Femugers kursus i folkedans – øvede
DESCRIPTION:KURSUS I FOLKEDANS I KØBENHAVN \nTema: Bodapolska! \nPå dette kursus skal vi fordybe os i Bodapolska\, som er en fantastisk dans\, der giver sug i maven med sin bølgende fornemmelse og smukke musik! Kurset henvender sig til dig\, som har danset en del folkedans før og er godt hjemme i pardans. Man tilmelder sig enkeltvis\, og man behøver ikke at komme med en partner. \nUndervisningen ligger fem søndag aftener i træk med start den 6. november. Vi danser på Campus Carlsberg på Vesterbro. \nLæs mere og tilmeld dig her: \nKursus i Bodapolska – øvede\nhttps://www.fof.dk/da/kbh/kurser/motion/dans/gamle-danse/folkedans-oevede/226632 \nFoto: Kamil Dzieliński
URL:https://folkalender.dk/arrangement/femugers-kursus-i-folkedans-oevede/2022-11-06/
LOCATION:KBH Professionshøjskole\, Campus Carlsberg\, Humletorvet 3\, København V\, 1799
CATEGORIES:Danseworkshop,Kursus
ORGANIZER;CN="Kirstine Nurdug Jensen":MAILTO:kirstine_nj@hotmail.com
GEO:55.6642507;12.5359436
X-APPLE-STRUCTURED-LOCATION;VALUE=URI;X-ADDRESS=KBH Professionshøjskole Campus Carlsberg Humletorvet 3 København V 1799;X-APPLE-RADIUS=500;X-TITLE=Humletorvet 3:geo:12.5359436,55.6642507
END:VEVENT
BEGIN:VEVENT
DTSTART;TZID=Europe/Helsinki:20221106T160000
DTEND;TZID=Europe/Helsinki:20221106T173000
DTSTAMP:20260421T061259
CREATED:20220929T191630Z
LAST-MODIFIED:20220929T193131Z
UID:4698-1667750400-1667755800@folkalender.dk
SUMMARY:Femugers kursus i folkedans – begynder/let øvet
DESCRIPTION:KURSUS I FOLKEDANS I KØBENHAVN \nTemaer: Grundlæggende pardans \nVi skal danse nogle af de mest brugte pardanse indenfor dansk og nordisk folkedans – med fokus på at få det til at blive legende let at komme rundt mm. Vi tilrettelægger indholdet\, så der både er noget for helt nybegyndere\, folk med lidt danseerfaring og tidligere kursusdeltagere. Man tilmelder sig enkeltvis\, og man behøver ikke at komme med en partner. \nUndervisningen ligger eftermiddag/aften fem søndage i træk med start den 6. november. Vi danser på Campus Carlsberg på Vesterbro. \nLæs mere og tilmeld dig her: \nKursus i grundlæggende pardans – begyndere/let øvede\nhttps://www.fof.dk/da/kbh/kurser/motion/dans/gamle-danse/folkedans-begynder/226631 \nFoto: Kamil Dzieliński
URL:https://folkalender.dk/arrangement/femugers-kursus-i-folkedans-begynder-ler-oevet/2022-11-06/
LOCATION:KBH Professionshøjskole\, Campus Carlsberg\, Humletorvet 3\, København V\, 1799
CATEGORIES:Danseworkshop,Kursus
ORGANIZER;CN="Kirstine Nurdug Jensen":MAILTO:kirstine_nj@hotmail.com
GEO:55.6642507;12.5359436
X-APPLE-STRUCTURED-LOCATION;VALUE=URI;X-ADDRESS=KBH Professionshøjskole Campus Carlsberg Humletorvet 3 København V 1799;X-APPLE-RADIUS=500;X-TITLE=Humletorvet 3:geo:12.5359436,55.6642507
END:VEVENT
END:VCALENDAR