BEGIN:VCALENDAR
VERSION:2.0
PRODID:-//Folkalender - ECPv6.10.1.1//NONSGML v1.0//EN
CALSCALE:GREGORIAN
METHOD:PUBLISH
X-WR-CALNAME:Folkalender
X-ORIGINAL-URL:https://folkalender.dk
X-WR-CALDESC:Begivenheder for Folkalender
REFRESH-INTERVAL;VALUE=DURATION:PT1H
X-Robots-Tag:noindex
X-PUBLISHED-TTL:PT1H
BEGIN:VTIMEZONE
TZID:Europe/Helsinki
BEGIN:DAYLIGHT
TZOFFSETFROM:+0200
TZOFFSETTO:+0300
TZNAME:EEST
DTSTART:20230326T010000
END:DAYLIGHT
BEGIN:STANDARD
TZOFFSETFROM:+0300
TZOFFSETTO:+0200
TZNAME:EET
DTSTART:20231029T010000
END:STANDARD
BEGIN:DAYLIGHT
TZOFFSETFROM:+0200
TZOFFSETTO:+0300
TZNAME:EEST
DTSTART:20240331T010000
END:DAYLIGHT
BEGIN:STANDARD
TZOFFSETFROM:+0300
TZOFFSETTO:+0200
TZNAME:EET
DTSTART:20241027T010000
END:STANDARD
BEGIN:DAYLIGHT
TZOFFSETFROM:+0200
TZOFFSETTO:+0300
TZNAME:EEST
DTSTART:20250330T010000
END:DAYLIGHT
BEGIN:STANDARD
TZOFFSETFROM:+0300
TZOFFSETTO:+0200
TZNAME:EET
DTSTART:20251026T010000
END:STANDARD
END:VTIMEZONE
BEGIN:VEVENT
DTSTART;TZID=Europe/Helsinki:20250315T190000
DTEND;TZID=Europe/Helsinki:20250315T230000
DTSTAMP:20260421T004817
CREATED:20231204T001055Z
LAST-MODIFIED:20250111T141325Z
UID:7625-1742065200-1742079600@folkalender.dk
SUMMARY:Dobbeltbal 2025 i Guldaldersalen i Roskilde med Jæ Sweevers & KontrsansOrkestret
DESCRIPTION:Dobbeltbal med Jæ Sweevers og KontradansOrkestret  i Guldaldersalen på Hotel Prindsen\, Algade 13\, 4000 Roskilde  \nForrygende danseaften – alle kan deltage. Gåafstand fra stationen.\nEntre: Under 33 år 75 kr. Over 33 år 150 kr. \nPeter Uhrbrand (Jæ Sweevers) blev i år 2023 nomineret til Nordisk Råds Musikpris for Peters  arbejde med at videreføre sønderhomusiktraditionen med Fanøs melodier til dans. \nJæ’ Sweevers spiller og formidler altid et bal med sønderhoningmelodier fra Fanøs rige\nkulturarv. \nPoul Bjerager med KontradansOrkestret er kendt for at spille og formidle “den glemte Roskilde kulturskat” med Roskildedanse og -melodier og for deres fornyelse af denne ved deres gode dansemusik. \nKurser samme dag med Sønderhoningdans og -spil.\nSønderhoningdans kl. 13 ved Henrik Larsen Stevns.\nSønderhoningspil kl. 14 ved Peter Uhrbrand og Ole Mauritzen.\nSe mere om kurser her på Folkalender og på Hjemmeside: https://lirumlarum.dk/arrangementer/ \nArrangør: Roskilde Folkedanserlaug – Lirum Larum \nYderlige oplysninger 61601104 Jens Markvard Andersen
URL:https://folkalender.dk/arrangement/dobbeltbal-2024/
LOCATION:Hotel Prindsen\,\, Algade 13\, Roskilde\, 4000
CATEGORIES:Bal
ATTACH;FMTTYPE=image/jpeg:https://folkalender.dk/wp-content/uploads/2023/12/IMG_2841.jpeg
ORGANIZER;CN="Roskilde Folkedanserlaug - Lirum Larum":MAILTO:Jensmarkvardandersen@outlook.dk
GEO:55.6412608;12.0836031
X-APPLE-STRUCTURED-LOCATION;VALUE=URI;X-ADDRESS=Hotel Prindsen Algade 13 Roskilde 4000;X-APPLE-RADIUS=500;X-TITLE=Algade 13:geo:12.0836031,55.6412608
END:VEVENT
BEGIN:VEVENT
DTSTART;TZID=Europe/Helsinki:20230318T193000
DTEND;TZID=Europe/Helsinki:20230318T233000
DTSTAMP:20260421T004817
CREATED:20230114T193247Z
LAST-MODIFIED:20230313T103616Z
UID:5437-1679167800-1679182200@folkalender.dk
SUMMARY:Dobbeltbal 2023 på Prindsen i Roskilde
DESCRIPTION:Dobbeltbal 2023 d. 18. marts med sønderhoningdans og alm. folkedans i Guldaldersalen på Hotel Prindsen Roskilde samt kurser i spil og sønderhoningdans om eftermiddagen i Roskilde.  \nForrygende balmusik  ved Jæ Sweevers og KontradanseOrkestret. \nSe mere om Bal og kurser: \nhttps://lirumlarum.dk/onewebmedia/-RFL/annonce%20Dobbeltbal%202023.pdf \nDanse- og spillekurser er i Musikkens Hus\, Kildegården 6\, 1. sal. Se mere i ovenstående link for annonce. \nArrangør: Roskilde Folkedanserlaug – Lirum Larum \nMere info: Ring Jens Markvard 61601104
URL:https://folkalender.dk/arrangement/dobbeltbal-2023/2023-03-18/
LOCATION:Hotel Prindsen\,\, Algade 13\, Roskilde\, 4000
CATEGORIES:Bal
ATTACH;FMTTYPE=image/jpeg:https://folkalender.dk/wp-content/uploads/2023/01/3DE8FD43-FB29-4D3D-95F0-A63C4F47235F.jpeg
GEO:55.6412608;12.0836031
X-APPLE-STRUCTURED-LOCATION;VALUE=URI;X-ADDRESS=Hotel Prindsen Algade 13 Roskilde 4000;X-APPLE-RADIUS=500;X-TITLE=Algade 13:geo:12.0836031,55.6412608
END:VEVENT
END:VCALENDAR