BEGIN:VCALENDAR
VERSION:2.0
PRODID:-//Folkalender - ECPv6.10.1.1//NONSGML v1.0//EN
CALSCALE:GREGORIAN
METHOD:PUBLISH
X-ORIGINAL-URL:https://folkalender.dk
X-WR-CALDESC:Begivenheder for Folkalender
REFRESH-INTERVAL;VALUE=DURATION:PT1H
X-Robots-Tag:noindex
X-PUBLISHED-TTL:PT1H
BEGIN:VTIMEZONE
TZID:Europe/Helsinki
BEGIN:DAYLIGHT
TZOFFSETFROM:+0200
TZOFFSETTO:+0300
TZNAME:EEST
DTSTART:20230326T010000
END:DAYLIGHT
BEGIN:STANDARD
TZOFFSETFROM:+0300
TZOFFSETTO:+0200
TZNAME:EET
DTSTART:20231029T010000
END:STANDARD
END:VTIMEZONE
BEGIN:VEVENT
DTSTART;TZID=Europe/Helsinki:20230316T190000
DTEND;TZID=Europe/Helsinki:20230316T201500
DTSTAMP:20260421T010957
CREATED:20230116T092148Z
LAST-MODIFIED:20230116T092148Z
UID:5465-1678993200-1678997700@folkalender.dk
SUMMARY:Zenobia
DESCRIPTION:Koncert med danske viser og sange samt Zenobias egne numre.
URL:https://folkalender.dk/arrangement/zenobia-24/
LOCATION:Hørning Kirke\, Nørre Alle 4\, Hørning\, 8362
CATEGORIES:Koncert
ATTACH;FMTTYPE=image/jpeg:https://folkalender.dk/wp-content/uploads/2023/01/SAK_5858_01-scaled.jpg
GEO:56.0855615;10.0372226
X-APPLE-STRUCTURED-LOCATION;VALUE=URI;X-ADDRESS=Hørning Kirke Nørre Alle 4 Hørning 8362;X-APPLE-RADIUS=500;X-TITLE=Nørre Alle 4:geo:10.0372226,56.0855615
END:VEVENT
END:VCALENDAR