BEGIN:VCALENDAR
VERSION:2.0
PRODID:-//Folkalender - ECPv6.10.1.1//NONSGML v1.0//EN
CALSCALE:GREGORIAN
METHOD:PUBLISH
X-WR-CALNAME:Folkalender
X-ORIGINAL-URL:https://folkalender.dk
X-WR-CALDESC:Begivenheder for Folkalender
REFRESH-INTERVAL;VALUE=DURATION:PT1H
X-Robots-Tag:noindex
X-PUBLISHED-TTL:PT1H
BEGIN:VTIMEZONE
TZID:Europe/Helsinki
BEGIN:DAYLIGHT
TZOFFSETFROM:+0200
TZOFFSETTO:+0300
TZNAME:EEST
DTSTART:20240331T010000
END:DAYLIGHT
BEGIN:STANDARD
TZOFFSETFROM:+0300
TZOFFSETTO:+0200
TZNAME:EET
DTSTART:20241027T010000
END:STANDARD
END:VTIMEZONE
BEGIN:VEVENT
DTSTART;TZID=Europe/Helsinki:20240628T170000
DTEND;TZID=Europe/Helsinki:20240628T190000
DTSTAMP:20260421T223821
CREATED:20240619T082718Z
LAST-MODIFIED:20240619T082836Z
UID:9039-1719594000-1719601200@folkalender.dk
SUMMARY:O’Hein/Downtown Dynt – Hjarbæk
DESCRIPTION:Hajrbæk Pilgrimsherberg \nEn folkemusik aften med O’Hein/Downtown Dynt \nhttps://www.facebook.com/OHeinmusic
URL:https://folkalender.dk/arrangement/ohein-downtown-dynt-hjarbaek/
LOCATION:Hjarbæk Pilgrimsherberg\, Strandvejen 9\, Hjarbæk\, \,\, Løgstrup
CATEGORIES:Koncert
ATTACH;FMTTYPE=image/jpeg:https://folkalender.dk/wp-content/uploads/2024/06/OHein-Trio-Til-Bobbyfestival.jpg
GEO:56.5312633;9.3207989
X-APPLE-STRUCTURED-LOCATION;VALUE=URI;X-ADDRESS=Hjarbæk Pilgrimsherberg Strandvejen 9 Hjarbæk  Løgstrup;X-APPLE-RADIUS=500;X-TITLE=Strandvejen 9\, Hjarbæk\, \,:geo:9.3207989,56.5312633
END:VEVENT
END:VCALENDAR