BEGIN:VCALENDAR
VERSION:2.0
PRODID:-//Folkalender - ECPv6.10.1.1//NONSGML v1.0//EN
CALSCALE:GREGORIAN
METHOD:PUBLISH
X-ORIGINAL-URL:https://folkalender.dk
X-WR-CALDESC:Begivenheder for Folkalender
REFRESH-INTERVAL;VALUE=DURATION:PT1H
X-Robots-Tag:noindex
X-PUBLISHED-TTL:PT1H
BEGIN:VTIMEZONE
TZID:Europe/Helsinki
BEGIN:DAYLIGHT
TZOFFSETFROM:+0200
TZOFFSETTO:+0300
TZNAME:EEST
DTSTART:20230326T010000
END:DAYLIGHT
BEGIN:STANDARD
TZOFFSETFROM:+0300
TZOFFSETTO:+0200
TZNAME:EET
DTSTART:20231029T010000
END:STANDARD
END:VTIMEZONE
BEGIN:VEVENT
DTSTART;TZID=Europe/Helsinki:20231207T193000
DTEND;TZID=Europe/Helsinki:20231207T210000
DTSTAMP:20260420T114531
CREATED:20231106T112423Z
LAST-MODIFIED:20231106T112423Z
UID:7436-1701977400-1701982800@folkalender.dk
SUMMARY:Zenobia
DESCRIPTION:Julekoncert med danske viser og sange samt Zenobias egne numre. \nBilletter kan købes via:\nhttps://www.place2book.com/da/sw2/sales/mo940f75k8?fbclid=IwAR2obEsl2ZAaBrwPxUfSursURZd1txV9QSTC9_4KyvLPNGxv-twpqnGrHbY
URL:https://folkalender.dk/arrangement/zenobia-44/
LOCATION:Helsingør Theater (Den Gamle By)\, Viborgvej 2\, Aarhus\, 8000
CATEGORIES:Koncert
ATTACH;FMTTYPE=image/jpeg:https://folkalender.dk/wp-content/uploads/2023/11/SAK_5953-scaled.jpg
GEO:56.1591817;10.1904671
X-APPLE-STRUCTURED-LOCATION;VALUE=URI;X-ADDRESS=Helsingør Theater (Den Gamle By) Viborgvej 2 Aarhus 8000;X-APPLE-RADIUS=500;X-TITLE=Viborgvej 2:geo:10.1904671,56.1591817
END:VEVENT
END:VCALENDAR