BEGIN:VCALENDAR
VERSION:2.0
PRODID:-//Folkalender - ECPv6.10.1.1//NONSGML v1.0//EN
CALSCALE:GREGORIAN
METHOD:PUBLISH
X-WR-CALNAME:Folkalender
X-ORIGINAL-URL:https://folkalender.dk
X-WR-CALDESC:Begivenheder for Folkalender
REFRESH-INTERVAL;VALUE=DURATION:PT1H
X-Robots-Tag:noindex
X-PUBLISHED-TTL:PT1H
BEGIN:VTIMEZONE
TZID:Europe/Helsinki
BEGIN:DAYLIGHT
TZOFFSETFROM:+0200
TZOFFSETTO:+0300
TZNAME:EEST
DTSTART:20260329T010000
END:DAYLIGHT
BEGIN:STANDARD
TZOFFSETFROM:+0300
TZOFFSETTO:+0200
TZNAME:EET
DTSTART:20261025T010000
END:STANDARD
END:VTIMEZONE
BEGIN:VEVENT
DTSTART;TZID=Europe/Helsinki:20260425T150000
DTEND;TZID=Europe/Helsinki:20260425T163000
DTSTAMP:20260424T112549
CREATED:20260224T133736Z
LAST-MODIFIED:20260224T133736Z
UID:14528-1777129200-1777134600@folkalender.dk
SUMMARY:Tabasco Beat // FOLK Aarhus
DESCRIPTION:Med afsæt i den brogede genre\, der kaldes verdensmusik\, spiller Tabasco Beat egne kompositioner med inspiration fra alverdens steder og fremfører musikken i finurlige arrangementer\, sprudlende og udadvendt.\nBortset fra en enkelt punk-inspireret version af en bulgarsk folkemelodi\, er al musikken komponeret af Karsten Berger\, som også betjener guitar og kromatisk mundharmonika.\nTabasco Beat består desuden af Knud Erik Steengaard\, kendt for sit virtuose og medrivende violinspil i utallige sammenhænge. Knud Erik spiller desuden mandolin i orkestret. Med udsøgt indlevelse udgør Anders Nyløkke Jørgensen på kontrabas og Svend Eeg på trommer og percussion både en velsvingende rytmegruppe og leverer solistiske lækkerier.\nInspireret af folkelig musik fra de fleste verdenshjørner og i fortrolighed med jazz\, blues og klassisk musik\, udvikles musikken uden kritisk stillingtagen til\, om andre kunne finde på at\nspille noget lignende. Man kan derfor ikke forvente\, at alt vil være kendt eller forudsigeligt. Men hvis man slår ørerne ud og følger med på den musikalske rejse er der mulighed for at komme nye steder hen.\nTrods det stærkt krydrede navn og den frimodige omgang med forskellige takt- og tonearter\, genrer og stiltræk\, præges musikken til en vis grad af skønhed og harmoni. Den udføres med overbevisning og bæres frem af troen på\, at intet er for mærkeligt eller vanskeligt – måske bare lidt uvant at spille eller at høre på.\nVed Tabasco Beat ́s koncerter plejer publikum at være optaget af det livlige sammenspil på scenen\, og musikken krydres med historiefortællinger om de enkelte numre.\nTabasco Beat henvender sig både til det voksne publikum\, der hørte orkestre som Istanbul Express og Bazaar i forrige århundrede\, og til det åbne unge publikum med hang til roots\, polkarave\, world-jazz o. lign.
URL:https://folkalender.dk/arrangement/tabasco-beat-folk-aarhus/
LOCATION:FOLK Aarhus\, Frederiksgade 78C\, Aarhus\, 8000\, Denmark
CATEGORIES:Koncert
ATTACH;FMTTYPE=image/jpeg:https://folkalender.dk/wp-content/uploads/2026/02/Tabasco-Beat.jpg
ORGANIZER;CN="FOLK Aarhus":MAILTO:info@fo-aarhus.dk
GEO:56.1540272;10.2026816
X-APPLE-STRUCTURED-LOCATION;VALUE=URI;X-ADDRESS=FOLK Aarhus Frederiksgade 78C Aarhus 8000 Denmark;X-APPLE-RADIUS=500;X-TITLE=Frederiksgade 78C:geo:10.2026816,56.1540272
END:VEVENT
END:VCALENDAR