BEGIN:VCALENDAR
VERSION:2.0
PRODID:-//Folkalender - ECPv6.10.1.1//NONSGML v1.0//EN
CALSCALE:GREGORIAN
METHOD:PUBLISH
X-ORIGINAL-URL:https://folkalender.dk
X-WR-CALDESC:Begivenheder for Folkalender
REFRESH-INTERVAL;VALUE=DURATION:PT1H
X-Robots-Tag:noindex
X-PUBLISHED-TTL:PT1H
BEGIN:VTIMEZONE
TZID:Europe/Helsinki
BEGIN:DAYLIGHT
TZOFFSETFROM:+0200
TZOFFSETTO:+0300
TZNAME:EEST
DTSTART:20230326T010000
END:DAYLIGHT
BEGIN:STANDARD
TZOFFSETFROM:+0300
TZOFFSETTO:+0200
TZNAME:EET
DTSTART:20231029T010000
END:STANDARD
END:VTIMEZONE
BEGIN:VEVENT
DTSTART;TZID=Europe/Helsinki:20231206T143000
DTEND;TZID=Europe/Helsinki:20231206T170000
DTSTAMP:20260420T095238
CREATED:20231113T113957Z
LAST-MODIFIED:20231113T113957Z
UID:7476-1701873000-1701882000@folkalender.dk
SUMMARY:Adventskoncert med O'Hein
DESCRIPTION:O’Hein spiller adventskoncert på Flensborghus.  \nBandet “O’Hein” fra Dynt på Broagerland sørger for den rette julesteming på Flensborghus den 6. december. \n”O’Hein” spiller normalt traditionelle irske\, skotske og skandinaviske folkesange og melodier\, men til denne eftermiddag har de sammensat en skøn lille julekoncert med danske\, engelske og måske et par irske julemelodier. \nKom i julestemning\, når Flensborghus har pyntet op til jul. Det er Humanitært Udvalg og SSF Flensborg By\, som invitererer.
URL:https://folkalender.dk/arrangement/adventskoncert-med-ohein/
LOCATION:Flensborghus\, Flensborghus Norderstraße 76\,\, Flensburg\, 24939
CATEGORIES:Koncert
ATTACH;FMTTYPE=image/jpeg:https://folkalender.dk/wp-content/uploads/2023/11/logo.jpg
GEO:54.7932319;9.4320535
X-APPLE-STRUCTURED-LOCATION;VALUE=URI;X-ADDRESS=Flensborghus Flensborghus Norderstraße 76 Flensburg 24939;X-APPLE-RADIUS=500;X-TITLE=Flensborghus Norderstraße 76\,:geo:9.4320535,54.7932319
END:VEVENT
END:VCALENDAR