BEGIN:VCALENDAR
VERSION:2.0
PRODID:-//Folkalender - ECPv6.10.1.1//NONSGML v1.0//EN
CALSCALE:GREGORIAN
METHOD:PUBLISH
X-WR-CALNAME:Folkalender
X-ORIGINAL-URL:https://folkalender.dk
X-WR-CALDESC:Begivenheder for Folkalender
REFRESH-INTERVAL;VALUE=DURATION:PT1H
X-Robots-Tag:noindex
X-PUBLISHED-TTL:PT1H
BEGIN:VTIMEZONE
TZID:Europe/Helsinki
BEGIN:DAYLIGHT
TZOFFSETFROM:+0200
TZOFFSETTO:+0300
TZNAME:EEST
DTSTART:20230326T010000
END:DAYLIGHT
BEGIN:STANDARD
TZOFFSETFROM:+0300
TZOFFSETTO:+0200
TZNAME:EET
DTSTART:20231029T010000
END:STANDARD
BEGIN:DAYLIGHT
TZOFFSETFROM:+0200
TZOFFSETTO:+0300
TZNAME:EEST
DTSTART:20240331T010000
END:DAYLIGHT
BEGIN:STANDARD
TZOFFSETFROM:+0300
TZOFFSETTO:+0200
TZNAME:EET
DTSTART:20241027T010000
END:STANDARD
END:VTIMEZONE
BEGIN:VEVENT
DTSTART;TZID=Europe/Helsinki:20240929T150000
DTEND;TZID=Europe/Helsinki:20240929T163000
DTSTAMP:20260420T040659
CREATED:20240809T111936Z
LAST-MODIFIED:20240922T173734Z
UID:9285-1727622000-1727627400@folkalender.dk
SUMMARY:CD-release
DESCRIPTION:Velkommen til Zenobias cd-release. 5. cd udkommer – sædvanen tro på Engelsholm Slot – i Agerumsladen – med en release-koncert og efterfølgende mulighed for at erhverve sig en cd.
URL:https://folkalender.dk/arrangement/cd-release/
LOCATION:Engelsholm Slot – Agerumsladen\, Engelsholmvej 6\, Bredsten\, 7182
CATEGORIES:Koncert
ATTACH;FMTTYPE=image/jpeg:https://folkalender.dk/wp-content/uploads/2024/08/skaerm-ny.jpg
GEO:55.715224;9.3191659
X-APPLE-STRUCTURED-LOCATION;VALUE=URI;X-ADDRESS=Engelsholm Slot – Agerumsladen Engelsholmvej 6 Bredsten 7182;X-APPLE-RADIUS=500;X-TITLE=Engelsholmvej 6:geo:9.3191659,55.715224
END:VEVENT
BEGIN:VEVENT
DTSTART;TZID=Europe/Helsinki:20231205T193000
DTEND;TZID=Europe/Helsinki:20231205T213000
DTSTAMP:20260420T040700
CREATED:20231106T110305Z
LAST-MODIFIED:20231106T110305Z
UID:7430-1701804600-1701811800@folkalender.dk
SUMMARY:Zenobia
DESCRIPTION:Julekoncert med danske viser og sange samt Zenobias egne numre.\nKoncertvarighed 2 x 45 min. \nBilletter kan købes via Billetto:\nhttps://billetto.dk/e/zenobia-julekoncert-billetter-851251
URL:https://folkalender.dk/arrangement/zenobia-43/
LOCATION:Engelsholm Slot – Agerumsladen\, Engelsholmvej 6\, Bredsten\, 7182
CATEGORIES:Koncert
ATTACH;FMTTYPE=image/jpeg:https://folkalender.dk/wp-content/uploads/2023/11/SAK_5953_sh-scaled.jpg
GEO:55.715224;9.3191659
X-APPLE-STRUCTURED-LOCATION;VALUE=URI;X-ADDRESS=Engelsholm Slot – Agerumsladen Engelsholmvej 6 Bredsten 7182;X-APPLE-RADIUS=500;X-TITLE=Engelsholmvej 6:geo:9.3191659,55.715224
END:VEVENT
END:VCALENDAR