BEGIN:VCALENDAR
VERSION:2.0
PRODID:-//Folkalender - ECPv6.10.1.1//NONSGML v1.0//EN
CALSCALE:GREGORIAN
METHOD:PUBLISH
X-WR-CALNAME:Folkalender
X-ORIGINAL-URL:https://folkalender.dk
X-WR-CALDESC:Begivenheder for Folkalender
REFRESH-INTERVAL;VALUE=DURATION:PT1H
X-Robots-Tag:noindex
X-PUBLISHED-TTL:PT1H
BEGIN:VTIMEZONE
TZID:Europe/Helsinki
BEGIN:DAYLIGHT
TZOFFSETFROM:+0200
TZOFFSETTO:+0300
TZNAME:EEST
DTSTART:20230326T010000
END:DAYLIGHT
BEGIN:STANDARD
TZOFFSETFROM:+0300
TZOFFSETTO:+0200
TZNAME:EET
DTSTART:20231029T010000
END:STANDARD
END:VTIMEZONE
BEGIN:VEVENT
DTSTART;TZID=Europe/Helsinki:20231012T193000
DTEND;TZID=Europe/Helsinki:20231012T213000
DTSTAMP:20260421T121336
CREATED:20231006T213005Z
LAST-MODIFIED:20231006T213347Z
UID:7145-1697139000-1697146200@folkalender.dk
SUMMARY:Mette Kathrine\, Skive
DESCRIPTION:Mette Kathrine spiller og fortæller
URL:https://folkalender.dk/arrangement/mette-kathrine-skive/
LOCATION:Det røde klubhus\, Havnevej 16\, Skive
CATEGORIES:Koncert
ATTACH;FMTTYPE=image/jpeg:https://folkalender.dk/wp-content/uploads/2023/10/IMG_7911-scaled.jpg
GEO:56.5691168;9.0417471
X-APPLE-STRUCTURED-LOCATION;VALUE=URI;X-ADDRESS=Det røde klubhus Havnevej 16 Skive;X-APPLE-RADIUS=500;X-TITLE=Havnevej 16:geo:9.0417471,56.5691168
END:VEVENT
END:VCALENDAR