BEGIN:VCALENDAR
VERSION:2.0
PRODID:-//Folkalender - ECPv6.10.1.1//NONSGML v1.0//EN
CALSCALE:GREGORIAN
METHOD:PUBLISH
X-ORIGINAL-URL:https://folkalender.dk
X-WR-CALDESC:Begivenheder for Folkalender
REFRESH-INTERVAL;VALUE=DURATION:PT1H
X-Robots-Tag:noindex
X-PUBLISHED-TTL:PT1H
BEGIN:VTIMEZONE
TZID:Europe/Helsinki
BEGIN:DAYLIGHT
TZOFFSETFROM:+0200
TZOFFSETTO:+0300
TZNAME:EEST
DTSTART:20230326T010000
END:DAYLIGHT
BEGIN:STANDARD
TZOFFSETFROM:+0300
TZOFFSETTO:+0200
TZNAME:EET
DTSTART:20231029T010000
END:STANDARD
BEGIN:DAYLIGHT
TZOFFSETFROM:+0200
TZOFFSETTO:+0300
TZNAME:EEST
DTSTART:20240331T010000
END:DAYLIGHT
BEGIN:STANDARD
TZOFFSETFROM:+0300
TZOFFSETTO:+0200
TZNAME:EET
DTSTART:20241027T010000
END:STANDARD
BEGIN:DAYLIGHT
TZOFFSETFROM:+0200
TZOFFSETTO:+0300
TZNAME:EEST
DTSTART:20250330T010000
END:DAYLIGHT
BEGIN:STANDARD
TZOFFSETFROM:+0300
TZOFFSETTO:+0200
TZNAME:EET
DTSTART:20251026T010000
END:STANDARD
END:VTIMEZONE
BEGIN:VEVENT
DTSTART;TZID=Europe/Helsinki:20250305T190000
DTEND;TZID=Europe/Helsinki:20250305T210000
DTSTAMP:20260420T164741
CREATED:20241210T201909Z
LAST-MODIFIED:20241210T202128Z
UID:10847-1741201200-1741208400@folkalender.dk
SUMMARY:Mette Kathrine i Vejle
DESCRIPTION:Evald Tang Kristensen
URL:https://folkalender.dk/arrangement/mette-kathrine-i-vejle-2/
LOCATION:Bygningen\, Ved anlæget 14 B\, Vejle\, 7100
ATTACH;FMTTYPE=image/jpeg:https://folkalender.dk/wp-content/uploads/2024/12/DSC_4283_2_resize.jpg
GEO:55.711252;9.534041
X-APPLE-STRUCTURED-LOCATION;VALUE=URI;X-ADDRESS=Bygningen Ved anlæget 14 B Vejle 7100;X-APPLE-RADIUS=500;X-TITLE=Ved anlæget 14 B:geo:9.534041,55.711252
END:VEVENT
BEGIN:VEVENT
DTSTART;TZID=Europe/Helsinki:20241210T190000
DTEND;TZID=Europe/Helsinki:20241210T210000
DTSTAMP:20260420T164741
CREATED:20241210T200644Z
LAST-MODIFIED:20241210T200644Z
UID:10843-1733857200-1733864400@folkalender.dk
SUMMARY:Mette Kathrine i Vejle
DESCRIPTION:Evald Tang Kristensen
URL:https://folkalender.dk/arrangement/mette-kathrine-i-vejle/
LOCATION:Bygningen\, Ved anlæget 14 B\, Vejle\, 7100
CATEGORIES:Foredrag
GEO:55.711252;9.534041
X-APPLE-STRUCTURED-LOCATION;VALUE=URI;X-ADDRESS=Bygningen Ved anlæget 14 B Vejle 7100;X-APPLE-RADIUS=500;X-TITLE=Ved anlæget 14 B:geo:9.534041,55.711252
END:VEVENT
BEGIN:VEVENT
DTSTART;TZID=Europe/Helsinki:20230831T193000
DTEND;TZID=Europe/Helsinki:20230831T213000
DTSTAMP:20260420T164741
CREATED:20230619T074404Z
LAST-MODIFIED:20230619T074616Z
UID:6508-1693510200-1693517400@folkalender.dk
SUMMARY:Perry Stenbäck & Dekadans
DESCRIPTION:Perry Stenbäck & Dekadans – Moderne viser på svensk (perrystenback.com) \nBandet tager den nordiske sangskrivertradition under kærlig behandling med\, foruden Perry’s egne sange\, viser af bl.a Cornelis Vreeswijk\, Evert Taube\, Dan Andersson\, Myhre/Hovland og Sebastian.\nPerry Stenbäck: Vocal\, guitarer\nUlrika Rosdahl: Kor\, Percussion\nChristine Dueholm: Trommer\, kor\nJan Hansen: Keyboard\, harmonika\, kor\nHenrik Kunz: Kontrabas\, kor \nDer spilles 2 x 45 min.
URL:https://folkalender.dk/arrangement/perry-stenback-dekadans/
LOCATION:Bygningen\, Ved anlæget 14 B\, Vejle\, 7100
CATEGORIES:Koncert
ATTACH;FMTTYPE=image/jpeg:https://folkalender.dk/wp-content/uploads/2023/06/Perry-Stenback-Dekadans-2.jpg
GEO:55.711252;9.534041
X-APPLE-STRUCTURED-LOCATION;VALUE=URI;X-ADDRESS=Bygningen Ved anlæget 14 B Vejle 7100;X-APPLE-RADIUS=500;X-TITLE=Ved anlæget 14 B:geo:9.534041,55.711252
END:VEVENT
END:VCALENDAR