BEGIN:VCALENDAR
VERSION:2.0
PRODID:-//Folkalender - ECPv6.10.1.1//NONSGML v1.0//EN
CALSCALE:GREGORIAN
METHOD:PUBLISH
X-WR-CALNAME:Folkalender
X-ORIGINAL-URL:https://folkalender.dk
X-WR-CALDESC:Begivenheder for Folkalender
REFRESH-INTERVAL;VALUE=DURATION:PT1H
X-Robots-Tag:noindex
X-PUBLISHED-TTL:PT1H
BEGIN:VTIMEZONE
TZID:Europe/Helsinki
BEGIN:DAYLIGHT
TZOFFSETFROM:+0200
TZOFFSETTO:+0300
TZNAME:EEST
DTSTART:20220327T010000
END:DAYLIGHT
BEGIN:STANDARD
TZOFFSETFROM:+0300
TZOFFSETTO:+0200
TZNAME:EET
DTSTART:20221030T010000
END:STANDARD
BEGIN:DAYLIGHT
TZOFFSETFROM:+0200
TZOFFSETTO:+0300
TZNAME:EEST
DTSTART:20230326T010000
END:DAYLIGHT
BEGIN:STANDARD
TZOFFSETFROM:+0300
TZOFFSETTO:+0200
TZNAME:EET
DTSTART:20231029T010000
END:STANDARD
BEGIN:DAYLIGHT
TZOFFSETFROM:+0200
TZOFFSETTO:+0300
TZNAME:EEST
DTSTART:20240331T010000
END:DAYLIGHT
BEGIN:STANDARD
TZOFFSETFROM:+0300
TZOFFSETTO:+0200
TZNAME:EET
DTSTART:20241027T010000
END:STANDARD
END:VTIMEZONE
BEGIN:VEVENT
DTSTART;TZID=Europe/Helsinki:20240127T190000
DTEND;TZID=Europe/Helsinki:20240127T190000
DTSTAMP:20260419T214617
CREATED:20231113T114853Z
LAST-MODIFIED:20231113T114853Z
UID:7483-1706382000-1706382000@folkalender.dk
SUMMARY:Nytårskur-koncert med The Crazy Kingdom New Year Band
DESCRIPTION:Nytårskur-koncert markeres med musik og fest. Bandet spiller sange der kan synges og danses med på i forskellige genrer(Folk/Jazz/Pop/Blues/Country/Softrock/Swing). Billetter er nu til salg via Broagerhus.
URL:https://folkalender.dk/arrangement/nytaarskur-koncert-med-the-crazy-kingdom-new-year-band-2/
LOCATION:Broagerhus\, Allégade 4\,\, Broager\, 6310
CATEGORIES:Koncert
ATTACH;FMTTYPE=image/jpeg:https://folkalender.dk/wp-content/uploads/2023/11/broagerhus-1.jpg
ORGANIZER;CN="BookMusik.Nu":MAILTO:brian_odriscoll@hotmail.com
GEO:54.8882104;9.6750133
X-APPLE-STRUCTURED-LOCATION;VALUE=URI;X-ADDRESS=Broagerhus Allégade 4 Broager 6310;X-APPLE-RADIUS=500;X-TITLE=Allégade 4\,:geo:9.6750133,54.8882104
END:VEVENT
BEGIN:VEVENT
DTSTART;TZID=Europe/Helsinki:20230128T190000
DTEND;TZID=Europe/Helsinki:20230128T223000
DTSTAMP:20260419T214617
CREATED:20220928T213915Z
LAST-MODIFIED:20220928T213915Z
UID:4685-1674932400-1674945000@folkalender.dk
SUMMARY:Nytårskur-koncert med The Crazy Kingdom New Year Band
DESCRIPTION:Nytårskur-koncert markeres med musik & fest\, champagne & kransekage.\nBandet “The Crazy Kingdom New Year Band” spiller sange der kan synge og danses med på i forskellige genrer(Folk/Jazz/Pop).\nTilmelding på mail: broagerhus@broager.dk eller på sms 26738130 senest 2 dage før. Entré 150\,- inkl. Bobler & Kransekage skal betales pr. mobilePay 65610 eller på konto 9797/000133992 senest 2 dage før. Husk at opgive navn ved indbetaling. Baren er åben med billige drikkevare.
URL:https://folkalender.dk/arrangement/nytaarskur-koncert-med-the-crazy-kingdom-new-year-band/
LOCATION:Broagerhus\, Allégade 4\,\, Broager\, 6310
CATEGORIES:Koncert
ORGANIZER;CN="BookMusik.Nu":MAILTO:brian_odriscoll@hotmail.com
GEO:54.8882104;9.6750133
X-APPLE-STRUCTURED-LOCATION;VALUE=URI;X-ADDRESS=Broagerhus Allégade 4 Broager 6310;X-APPLE-RADIUS=500;X-TITLE=Allégade 4\,:geo:9.6750133,54.8882104
END:VEVENT
BEGIN:VEVENT
DTSTART;TZID=Europe/Helsinki:20221119T180000
DTEND;TZID=Europe/Helsinki:20221119T223000
DTSTAMP:20260419T214617
CREATED:20220928T213521Z
LAST-MODIFIED:20220928T213521Z
UID:4681-1668880800-1668897000@folkalender.dk
SUMMARY:Macnas Croí på Broagerhus
DESCRIPTION:Koncert med Macnas Croí og fællesspisning.\n6 mands band – kom med på en rejse rundt I ærlig og kærlig\nfolkemusik med “Macnas Croí”. Tunes\, ballader\nog folkelige sange. Sunget og spillet lige fra hjertet.\nKl. 18.00 Koncert inkl. Tapasanretning + 1 øl/vand/1 gl.vin kr. 200\,00 pr. deltager\nKl. 19.00 Koncert alene kr. 100\,00. Tilmelding til e-mail. Broagerhus@broager.dk eller sms til 26738130 / 51231272 – 4 dage før!
URL:https://folkalender.dk/arrangement/macnas-croi-paa-broagerhus/
LOCATION:Broagerhus\, Allégade 4\,\, Broager\, 6310
CATEGORIES:Koncert
ORGANIZER;CN="BookMusik.Nu":MAILTO:brian_odriscoll@hotmail.com
GEO:54.8882104;9.6750133
X-APPLE-STRUCTURED-LOCATION;VALUE=URI;X-ADDRESS=Broagerhus Allégade 4 Broager 6310;X-APPLE-RADIUS=500;X-TITLE=Allégade 4\,:geo:9.6750133,54.8882104
END:VEVENT
END:VCALENDAR