BEGIN:VCALENDAR
VERSION:2.0
PRODID:-//Folkalender - ECPv6.10.1.1//NONSGML v1.0//EN
CALSCALE:GREGORIAN
METHOD:PUBLISH
X-ORIGINAL-URL:https://folkalender.dk
X-WR-CALDESC:Begivenheder for Folkalender
REFRESH-INTERVAL;VALUE=DURATION:PT1H
X-Robots-Tag:noindex
X-PUBLISHED-TTL:PT1H
BEGIN:VTIMEZONE
TZID:Europe/Helsinki
BEGIN:DAYLIGHT
TZOFFSETFROM:+0200
TZOFFSETTO:+0300
TZNAME:EEST
DTSTART:20220327T010000
END:DAYLIGHT
BEGIN:STANDARD
TZOFFSETFROM:+0300
TZOFFSETTO:+0200
TZNAME:EET
DTSTART:20221030T010000
END:STANDARD
BEGIN:DAYLIGHT
TZOFFSETFROM:+0200
TZOFFSETTO:+0300
TZNAME:EEST
DTSTART:20230326T010000
END:DAYLIGHT
BEGIN:STANDARD
TZOFFSETFROM:+0300
TZOFFSETTO:+0200
TZNAME:EET
DTSTART:20231029T010000
END:STANDARD
BEGIN:DAYLIGHT
TZOFFSETFROM:+0200
TZOFFSETTO:+0300
TZNAME:EEST
DTSTART:20240331T010000
END:DAYLIGHT
BEGIN:STANDARD
TZOFFSETFROM:+0300
TZOFFSETTO:+0200
TZNAME:EET
DTSTART:20241027T010000
END:STANDARD
END:VTIMEZONE
BEGIN:VEVENT
DTSTART;TZID=Europe/Helsinki:20241108T190000
DTEND;TZID=Europe/Helsinki:20241108T233000
DTSTAMP:20260422T010944
CREATED:20240927T163639Z
LAST-MODIFIED:20241013T141434Z
UID:10099-1731092400-1731108600@folkalender.dk
SUMMARY:Irsk Jam session
DESCRIPTION:Det er fredag – det er musik – det er JAM og hygge… 🥰\nEn aften i den Irske musiks tegn på Bobuska!\nMed et par garvede session-musikere ved roret bliver der åbnet op for at at spille tunes og synge sange fra den grønne ø aftenen lang.\nTag dit yndlingsinstrument med\, smør sangstemmen\, eller kom forbi og få en øl – næææh mange… og nyd musikken. Alle er velkomne!\nDet er GRATIS ❤️
URL:https://folkalender.dk/arrangement/irsk-jam-session-2/
LOCATION:Bobuska\, Linnesgade 24 kælder tv\, Copenhagen\, Denmark\, København K\, 1361
ATTACH;FMTTYPE=image/jpeg:https://folkalender.dk/wp-content/uploads/2024/09/IMG_0806-1.jpeg
GEO:55.6845206;12.5713976
X-APPLE-STRUCTURED-LOCATION;VALUE=URI;X-ADDRESS=Bobuska Linnesgade 24 kælder tv Copenhagen Denmark København K 1361;X-APPLE-RADIUS=500;X-TITLE=Linnesgade 24 kælder tv\, Copenhagen\, Denmark:geo:12.5713976,55.6845206
END:VEVENT
BEGIN:VEVENT
DTSTART;TZID=Europe/Helsinki:20241025T190000
DTEND;TZID=Europe/Helsinki:20241025T233000
DTSTAMP:20260422T010944
CREATED:20241013T140251Z
LAST-MODIFIED:20241013T140522Z
UID:10241-1729882800-1729899000@folkalender.dk
SUMMARY:Bodach – keltisk musik
DESCRIPTION:Vi åbner op for jam før og efter koncerten.\nKoncert-start 21.30 \nTag et kig forbi Bobuska når det dansk/britiske band Bodach spiller keltisk musik i verdensklasse på violin og sækkepibe smukt akkompagneret af trommer\, elbas og guitar.  \nVi glæder os til at høre disse fine dygtige musikere og vi glæder os til at se jer💪😊 \nEntré 60kr🧚 Købes i døren \n🪵🪵🪵🪵🪵🪵🪵🪵🪵🪵🪵🪵🪵
URL:https://folkalender.dk/arrangement/bodach-keltisk-musik/
LOCATION:Bobuska\, Linnesgade 24 kælder tv\, Copenhagen\, Denmark\, København K\, 1361
CATEGORIES:Koncert
ATTACH;FMTTYPE=image/jpeg:https://folkalender.dk/wp-content/uploads/2024/10/IMG_0809.jpeg
GEO:55.6845206;12.5713976
X-APPLE-STRUCTURED-LOCATION;VALUE=URI;X-ADDRESS=Bobuska Linnesgade 24 kælder tv Copenhagen Denmark København K 1361;X-APPLE-RADIUS=500;X-TITLE=Linnesgade 24 kælder tv\, Copenhagen\, Denmark:geo:12.5713976,55.6845206
END:VEVENT
BEGIN:VEVENT
DTSTART;TZID=Europe/Helsinki:20220923T193000
DTEND;TZID=Europe/Helsinki:20220923T230000
DTSTAMP:20260422T010944
CREATED:20220915T112804Z
LAST-MODIFIED:20220915T112804Z
UID:4584-1663961400-1663974000@folkalender.dk
SUMMARY:SangAften
DESCRIPTION:FolkAmok\, KBH FolkJam og Bobuska er gået sammen om at lave en sang aften. \nMen hvad er sådan en sangaften? Det er en aften\, hvor vi mødes om sangen og efter bedste jam-stil synger med hinanden på nye såvel som velkendte sange. \nAlle kan være med og skulle man selv have en lille sang\, man vil lære ud eller bare synge for\, skal man være så hjertens velkommen. Vi vil gerne mødes i fællesskab om sang. \nHar man en guitar\, en tromme eller andet man gerne vil akkompagnere med\, er det også velkomment\, men fokus denne aften bliver på sangen.\nDer er altid plads til ekstra publikum.
URL:https://folkalender.dk/arrangement/sangaften/
LOCATION:Bobuska\, Linnesgade 24 kælder tv\, Copenhagen\, Denmark\, København K\, 1361
CATEGORIES:Jam
GEO:55.6845206;12.5713976
X-APPLE-STRUCTURED-LOCATION;VALUE=URI;X-ADDRESS=Bobuska Linnesgade 24 kælder tv Copenhagen Denmark København K 1361;X-APPLE-RADIUS=500;X-TITLE=Linnesgade 24 kælder tv\, Copenhagen\, Denmark:geo:12.5713976,55.6845206
END:VEVENT
END:VCALENDAR