BEGIN:VCALENDAR
VERSION:2.0
PRODID:-//Folkalender - ECPv6.10.1.1//NONSGML v1.0//EN
CALSCALE:GREGORIAN
METHOD:PUBLISH
X-WR-CALNAME:Folkalender
X-ORIGINAL-URL:https://folkalender.dk
X-WR-CALDESC:Begivenheder for Folkalender
REFRESH-INTERVAL;VALUE=DURATION:PT1H
X-Robots-Tag:noindex
X-PUBLISHED-TTL:PT1H
BEGIN:VTIMEZONE
TZID:Europe/Helsinki
BEGIN:DAYLIGHT
TZOFFSETFROM:+0200
TZOFFSETTO:+0300
TZNAME:EEST
DTSTART:20220327T010000
END:DAYLIGHT
BEGIN:STANDARD
TZOFFSETFROM:+0300
TZOFFSETTO:+0200
TZNAME:EET
DTSTART:20221030T010000
END:STANDARD
BEGIN:DAYLIGHT
TZOFFSETFROM:+0200
TZOFFSETTO:+0300
TZNAME:EEST
DTSTART:20230326T010000
END:DAYLIGHT
BEGIN:STANDARD
TZOFFSETFROM:+0300
TZOFFSETTO:+0200
TZNAME:EET
DTSTART:20231029T010000
END:STANDARD
BEGIN:DAYLIGHT
TZOFFSETFROM:+0200
TZOFFSETTO:+0300
TZNAME:EEST
DTSTART:20240331T010000
END:DAYLIGHT
BEGIN:STANDARD
TZOFFSETFROM:+0300
TZOFFSETTO:+0200
TZNAME:EET
DTSTART:20241027T010000
END:STANDARD
END:VTIMEZONE
BEGIN:VEVENT
DTSTART;TZID=Europe/Helsinki:20240421T140000
DTEND;TZID=Europe/Helsinki:20240421T160000
DTSTAMP:20260421T192736
CREATED:20240415T105701Z
LAST-MODIFIED:20240415T105701Z
UID:8495-1713708000-1713715200@folkalender.dk
SUMMARY:Brian ODriscoll - solo
DESCRIPTION:Dansk/Irsk Sanger og Guitarist.\nFolkelig\, festlig og hyggelig musik. Syng med sange på dansk og engelsk. Nyt og gammelt\, lånt og\noriginalt. Med stor forkærlighed til den irske folkemusik og sangskat.\nForvent sange der kan synges med på. Blandt andet sange fra The Dubliners\, Bob Dylan\, The\nProclaimers\, Kim Larsen\, Christy Moore\, Dropkick Murphys\, Willie Nelson\, Monty Python\, Elvis\nog meget mere.\nPop – Folk – Rock – Oldies – Country.\nBrian Vandt I slutningen af 2019 Sønderborg Musikråds Musikpris for sit musikalske virke.\nBrian fik I 2022 Kong Frederik Fondens mindelegat for sit musikvirke I Sønderjylland.\nMedvirker også I disse bands O’Hein\, ODriscoll &\nFriends\, Brian & Hlynur Party Duo\, Downtown Dynt\, Alle Knapper mod Øst og det store 12 mands Back to the Root Session orkester og har i de forskellige sammenhænge optrådt til et væld af festivaler og andre sammenhænge. Alt lige fra busker jobs I Tyskland til de helt\nstore folkscener og festivaler I Danmark og på flere turneer I Norge\, Danmark\, Tyskland og på Kreta. Har også spillet\nmasser af jobs på spillesteder\, pubs\, værtshuse\, gågader og stræder og til private fester.\nHar sammen med Downtown Dynt udgivet 3 albums og I andre sammenhænge flere Ep’er og\nindspilninger. Ep’er og singler med Heartlands\, Macnas Croí og Jesper Gloor m.m.. Arbejder for tiden\npå at indspille et fuldt album med Bandet OHein.\nBrian er ejer og stifter af BookMusikNu\, er festival leder for Back to the Roots Festival\,\nbestyrelsesmedlem I Sønderborg Musik Råd og Næstformand/bestyrelsesmedlem I Dansk Musiker Forbund –\nSønderborg.\nOm det er et lille indslag\, fuld koncert eller andet\, så kan han og alle mulighederne bookes til\nsolo/duo/trio eller med fuldt band og i de ovennævnte konstellationer på 25339497.\nSe mere på:\nhttps://www.facebook.com/TheOtherODriscoll/\nhttps://bookmusik.nu/hvad-kan-vi-tilbyde
URL:https://folkalender.dk/arrangement/brian-odriscoll-solo-2/
LOCATION:Bentes Pølse og Isbar\, Sønderhav\, Kollund\, 6340
CATEGORIES:Koncert
ATTACH;FMTTYPE=image/png:https://folkalender.dk/wp-content/uploads/2024/04/Brian.png
ORGANIZER;CN="BookMusik.Nu":MAILTO:brian_odriscoll@hotmail.com
GEO:54.8603727;9.4978419
X-APPLE-STRUCTURED-LOCATION;VALUE=URI;X-ADDRESS=Bentes Pølse og Isbar Sønderhav Kollund 6340;X-APPLE-RADIUS=500;X-TITLE=Sønderhav:geo:9.4978419,54.8603727
END:VEVENT
BEGIN:VEVENT
DTSTART;TZID=Europe/Helsinki:20220606T130000
DTEND;TZID=Europe/Helsinki:20220606T150000
DTSTAMP:20260421T192736
CREATED:20220530T075226Z
LAST-MODIFIED:20220530T075338Z
UID:3845-1654520400-1654527600@folkalender.dk
SUMMARY:ODriscoll & Gloor
DESCRIPTION:Jesper Gloor og Brian O’Driscoll spiller koncert i de smukke omgivelser ved Bentes Pølse og Isbar i Sønderhav ved Kollund. Musikken er en skøn blanding af egne sange og sange fra folkemusik/Roots genren. Jesper er PT aktuel med flere sange. Blandt andet sangen Night Train from Kyiv. https://www.youtube.com/watch?v=IUBtLYoOhIk
URL:https://folkalender.dk/arrangement/odriscoll-gloor/
LOCATION:Bentes Pølse og Isbar\, Sønderhav\, Kollund\, 6340
CATEGORIES:Koncert
GEO:54.8603727;9.4978419
X-APPLE-STRUCTURED-LOCATION;VALUE=URI;X-ADDRESS=Bentes Pølse og Isbar Sønderhav Kollund 6340;X-APPLE-RADIUS=500;X-TITLE=Sønderhav:geo:9.4978419,54.8603727
END:VEVENT
END:VCALENDAR