BEGIN:VCALENDAR
VERSION:2.0
PRODID:-//Folkalender - ECPv6.10.1.1//NONSGML v1.0//EN
CALSCALE:GREGORIAN
METHOD:PUBLISH
X-ORIGINAL-URL:https://folkalender.dk
X-WR-CALDESC:Begivenheder for Folkalender
REFRESH-INTERVAL;VALUE=DURATION:PT1H
X-Robots-Tag:noindex
X-PUBLISHED-TTL:PT1H
BEGIN:VTIMEZONE
TZID:Europe/Helsinki
BEGIN:DAYLIGHT
TZOFFSETFROM:+0200
TZOFFSETTO:+0300
TZNAME:EEST
DTSTART:20260329T010000
END:DAYLIGHT
BEGIN:STANDARD
TZOFFSETFROM:+0300
TZOFFSETTO:+0200
TZNAME:EET
DTSTART:20261025T010000
END:STANDARD
END:VTIMEZONE
BEGIN:VEVENT
DTSTART;TZID=Europe/Helsinki:20260505T193000
DTEND;TZID=Europe/Helsinki:20260505T230000
DTSTAMP:20260419T182959
CREATED:20250612T123543Z
LAST-MODIFIED:20250612T123543Z
UID:12343-1778009400-1778022000@folkalender.dk
SUMMARY:Folk Friends
DESCRIPTION:Med rødderne solidt plantet i den vestjyske muld har folkemusik-veteranerne i Folk Friends gennem mere end en menneskealder leveret god musik og godt humør. \nKærligheden til den irske folkemusik skinner tydeligt igennem\, når trioen går på scenen\, men som årene er gået\, er der kommet flere og flere danske sange med. \nSvend Erik Larsen er i forgrunden\, med sit sprudlende humør\, sin guitar og en masse gode sange i bagagen. Han har selv skrevet og oversat mange sange og disse er blevet en naturlig del af Folk Friends´ program. \nLyder Horsted er manden\, som lægger en solid og sikker bund i orkestrets lyd med sin elbas. Sammen med Svend Erik Larsen har han set de fleste spillesteder i Danmark indefra. De to er gode\, gamle venner og har de inviteret endnu en erfaren musiker med i vennekredsen. \nBent Skourup er en legende på folkemusik-scenen\, hvor han blandt andre har spillet med La Porta Band\, Bayous\, Carsten Kjær og Thomas Kjellerup. I Folk Friends bidrager han til et nyt og opdateret lydbillede med guitar\, violin og flerstemmigt kor. \nAftenen vil bringe godt humør\, gode historier og skøn musik til såvel det lyttende som det medsyngende publikum. En god afrunding af endnu en keltisk sæson i Baltoppen LIVE. \n170\,- (+ et ordregebyr)\nSiddepladser på balkon\nSkotsk & Irsk Musikscene på Baltoppen LIVE \nBaltoppen LIVEs café tilbyder fra kl. 18:00 forudbestilt sæsonbuffet. 195\,-
URL:https://folkalender.dk/arrangement/folk-friends/
LOCATION:Baltoppen LIVE\, Baltorpvej 20\, Ballerup\, 2750
CATEGORIES:Koncert
ATTACH;FMTTYPE=image/jpeg:https://folkalender.dk/wp-content/uploads/2025/06/Folk_Freinds2.jpg
GEO:55.7305364;12.3522152
X-APPLE-STRUCTURED-LOCATION;VALUE=URI;X-ADDRESS=Baltoppen LIVE Baltorpvej 20 Ballerup 2750;X-APPLE-RADIUS=500;X-TITLE=Baltorpvej 20:geo:12.3522152,55.7305364
END:VEVENT
END:VCALENDAR