BEGIN:VCALENDAR
VERSION:2.0
PRODID:-//Folkalender - ECPv6.10.1.1//NONSGML v1.0//EN
CALSCALE:GREGORIAN
METHOD:PUBLISH
X-WR-CALNAME:Folkalender
X-ORIGINAL-URL:https://folkalender.dk
X-WR-CALDESC:Begivenheder for Folkalender
REFRESH-INTERVAL;VALUE=DURATION:PT1H
X-Robots-Tag:noindex
X-PUBLISHED-TTL:PT1H
BEGIN:VTIMEZONE
TZID:Europe/Helsinki
BEGIN:DAYLIGHT
TZOFFSETFROM:+0200
TZOFFSETTO:+0300
TZNAME:EEST
DTSTART:20250330T010000
END:DAYLIGHT
BEGIN:STANDARD
TZOFFSETFROM:+0300
TZOFFSETTO:+0200
TZNAME:EET
DTSTART:20251026T010000
END:STANDARD
END:VTIMEZONE
BEGIN:VEVENT
DTSTART;TZID=Europe/Helsinki:20250205T120000
DTEND;TZID=Europe/Helsinki:20250514T170000
DTSTAMP:20260420T233228
CREATED:20241229T131032Z
LAST-MODIFIED:20241229T131718Z
UID:10898-1738756800-1747242000@folkalender.dk
SUMMARY:Violin – Folkemusik – Skanderborg
DESCRIPTION:Violin for alle\nEt kursusforløb består af 12 gange à 30 minutter. Undervisningen foregår hos AOF Skanderborg\, Asylgade 18. Tidspunkt og dag aftales ved at maile til underviseren.\nMaja Kjær Jacobsen træffes på: maja.k.jacobsen@gmail.com \nOm undervisningen\nVil du lære at spille alle de sange du kender – med eller uden noder? Eller er du nysgerrig på folkemusik? Så start til folkemusik-violin hos Maja Kjær! For Maja er det vigtigt\, at det er sjovt at beskæftige sig med musik\, uanset om man er begynder eller øvet og ambitiøs. Undervisningen bliver derfor altid tilpasset den enkelte elevs ønsker og niveau. Vi kan bl.a. tage fat på grundlæggende teknik\, repertoire\, nodelære og rytmisk forståelse\, udenadslære\, spillestil eller improvisation (folkemusik). \nUndervisningen er for alle: Begyndere\, let øvede og øvede\, og du behøver ikke kende til genren når du starter.So­lo­un­der­vis­ning 30 min. pr. elev. Det er muligt at lægge timerne sammen til hold med flere elever.Tidspunkt er onsdag mellem 12.00 og 17.00. Online undervisning er også en mulighed. Individuelle hensyn aftales med Maja. \nMulighed for leje af violin\, kr. 30\,00 pr. uge eller kr. 400\,00 for en sæson. \nKursusdetaljer\nAOF\, Asylgade 18\, 8660 Skanderborg\nOnsdag\, 12:00 – 17:00\n12 lektioner\, 12 mødegange\nHold nr.: 7525107310\nKontakt: Skanderborg-Odder AOF\n1.650 kr./person \nUnderviser \nMaja Kjær Jacobsen\nMaja Kjær er violinist\, tra­di­tions­bæ­rer og komponist indenfor dansk og nordisk folkemusik/spil­le­mands­mu­sik. Hun har ca. 15 års erfaring som underviser\, bl.a. på mange musikskoler og aftenskoler i hele landet\, samt workshops i udlandet i forb. m. sine mange turnéer. Derudover har hun udgivet en nodebog\, en podcast og 6 musikalbums med forskellige bands.Maja er uddannet violinist ved Syddansk Mu­sik­kon­ser­va­to­ri­um i Odense som BA i 2009 og KA i 2012\, har været på udveksling i Limerick (Irland) og taget yderligere kurser i Norsk Folkelig Dans på NTNU i Trondheim (Norge). Lige nu er hun i gang med at afslutte uddannelsen som solist på linjen Contemporary Creative Artist på Syddansk Mu­sik­kon­ser­va­to­ri­um i Esbjerg\, hvor hun spiller sin debutkoncert i marts 2025.
URL:https://folkalender.dk/arrangement/violin-folkemusik-silkeborg/
LOCATION:AOF Skanderborg\, Asylgade 18\, Skanderborg\, 8660
CATEGORIES:Kursus
ATTACH;FMTTYPE=image/jpeg:https://folkalender.dk/wp-content/uploads/2024/12/241014FruSkagerrak0016-cropped-kopi-1.jpg
ORGANIZER;CN="AOF Skanderborg":MAILTO:skan-odder@aof.dk
END:VEVENT
BEGIN:VEVENT
DTSTART;TZID=Europe/Helsinki:20250317T190000
DTEND;TZID=Europe/Helsinki:20250317T210000
DTSTAMP:20260420T233228
CREATED:20250309T193500Z
LAST-MODIFIED:20250309T193557Z
UID:11720-1742238000-1742245200@folkalender.dk
SUMMARY:MEDBRING EGNE TRÆSKO
DESCRIPTION:MEDBRING EGNE TRÆSKO\nEn folkemusikforestilling om arv\, identitet og fællesskab \nDen silkeborg-baserede komponist\, violinist og folkemusiker\, Maja Kjær\, debuterer med noget så usædvanligt som en folkemusikforestilling – og har givet den en titel med en slet skjult opfordring. \nNår silkeborgensiske Maja Kjær Jacobsen debuterer fra solistlinjen Contemporary Creative Artist ved Syddansk Musikkonservatorium i Esbjerg\, er det med noget så usædvanligt som en folkemusikforestilling. \nMaja fortæller: “Medbring Egne Træsko er mit forsøg på at skabe en historie som er almengyldig\, med poesi og humor\, hvor jeg kan gøre den nordiske spillemandsmusik til fortæller\, hvilket man til gengæld ikke er så vant til at se i den sammenhæng. \nForestillingen handler om søgen efter arv og identitet\, og skildrer en dannelsesrejse fra mit første møde med den danske spillemandsmusik i 2003 til den følelse af identitet og forankring som den har givet mig i dag\, og viser nogle af de oplevelser\, jeg har haft i mødet med musikken\, dansen og det miljø den bliver brugt i. Vi kommer også omkring emner som hierarki\, ensomhed\, længsel og fordomme\, men også især fællesskab.” \nHvorfor lige en træsko?\n“I forestillingen er træskoen et symbol på alt det kulturelle gods\, vi har fået i arv fra tidligere generationer. Når jeg tager træskoen med ind i historien\, er det fordi den repræsenterer en fordom om folkemusik\, som har hængt ved længe\, og jeg syntes det ville være spændende at se hvordan den kan være med til at fortælle historien\, og om den kan røre ved noget hos folk.” \n“Som udøvende folkemusiker har jeg oplevet fordomme og ambivalens\, misforståelser og endda vurdering af musikkens værdi\, både indenfor og udenfor folkemusikmiljøet\, på amatørplan og på højere uddannelsesinstitutioner. Nogle opfatter den endda som “farlig at røre ved”. Det undrer mig og gør mig ærgerlig på genrens og et i mine øjne vigtigt stykke levende kulturarvs vegne\, fordi den for mig og mange andre er et højt skattet middel til et stort fællesskab.” \n“Jeg vil gerne skabe mere synlighed og oplysning om folkemusikgenren\, og inspirere både publikum og andre komponister. Det er en livslang proces\, som denne forestilling er en del af\, og jeg håber at den kan være med til at rykke ved folks opfattelse af arv\, traditioner og dansk og nordisk spillemandsmusik i Danmark. Det er nemlig noget der\, efter min mening\, kan være med til at give en følelse af identitet og et sted at høre til.” \nFolkemusikforestillingen “Medbring Egne Træsko” spiller her:\nMaskinhallen i Frederikshavn d. 5. marts 2025 kl. 20.00\nSyddansk Musikkonservatorium i Esbjerg d. 17. marts 2025 kl. 19.00 som Majas debutkoncert fra solistuddannelsen Contemporary Creative Artist. \nFor mere info\, læs videre på www.majakjaer.dk/traesko
URL:https://folkalender.dk/arrangement/medbring-egne-traesko/
LOCATION:Syddansk Musikkonservatorium\, Esbjerg\, Kirkegade 61\, Esbjerg\, 6700
CATEGORIES:Koncert
ATTACH;FMTTYPE=image/jpeg:https://folkalender.dk/wp-content/uploads/2025/03/250127_Maja11054-thumbnail.jpg
ORGANIZER;CN="Syddansk Musikkonservatorium":MAILTO:info@sdmk.dk
END:VEVENT
BEGIN:VEVENT
DTSTART;TZID=Europe/Helsinki:20250318T150000
DTEND;TZID=Europe/Helsinki:20250318T230000
DTSTAMP:20260420T233228
CREATED:20250318T132858Z
LAST-MODIFIED:20250318T132858Z
UID:11789-1742310000-1742338800@folkalender.dk
SUMMARY:O'Hein & Graubæk - Cafe Victoria Tønder
DESCRIPTION:Vi fejrer at det har været St Patricks Day fredag d. 21. marts.🍀på Cafe Victoria i Tønder\nkig forbi og nyd øl\, mad og skøn musik. \nVi laver en koncert om eftermiddagen fra ca. kl. 15:00 og en koncert igen om aftenen fra ca kl. 20:30.
URL:https://folkalender.dk/arrangement/ohein-graubaek-cafe-victoria-toender/
LOCATION:Cafe Victoria Tønder\, Storegade 9\, Tønder\, 6270\, Danmark
CATEGORIES:Koncert
ATTACH;FMTTYPE=image/jpeg:https://folkalender.dk/wp-content/uploads/2025/03/cafe-vic-saint-patricks-2025.jpg
END:VEVENT
BEGIN:VEVENT
DTSTART;TZID=Europe/Helsinki:20250318T193000
DTEND;TZID=Europe/Helsinki:20250318T230000
DTSTAMP:20260420T233228
CREATED:20250114T123619Z
LAST-MODIFIED:20250114T123619Z
UID:11045-1742326200-1742338800@folkalender.dk
SUMMARY:Breabach (SCO)
DESCRIPTION:Ét af de mest succesfulde bands fra Skotland.  \nBreabach\, der er højt rangeret blandt Skotlands vibrante folkemusikbands\, forener traditionelle rødder fra højlandet og fra ø-havet med den moderne skotske musikscene. \nI 2022 udgav de deres seneste studiealbum ‘Fàs’ og vandt prisen ‘Folk Band of the Year’ ved Scots Trad Music Awards. \nBandet har udgivet i alt syv albums\, med stigende anerkendelse\, alt i mens de bl.a. har samarbejdet med den BAFTA-prisvindende animator Cat Bruce om kortfilmen Dùsgadh\, de australske kunstnere Moana & The Tribe\, Quebec’s succesombruste Le Vent du Nord\, videospilskomponisten Big Giant Circles og som artists-in-residence ved Celtic Colours-festival sammen med det canadiske band Beòlach. \nEfter en succesfuld turné i USA fortsætter bandet med at turnere i Storbritannien og i Europa med deres nyeste album Fàs i bagagen. På albummet viser Breabach mere progressivitet end i de tidligere albums. \nIgennem sine 20 år har bandet optrådt på scener fra Sydney Opera House til Central Park i New York og en masse andre ind imellem disse længde- og breddegrader. \nDe har høstet en imponerende række af anerkendelser\, herunder seks ‘Scots Trad Music Awards’\, nomineringer som ‘Best Group’ (BBC Radio 2 Folk Awards)\, ‘European Album of the Year’ (Songlines Music Awards) og ‘Quarterly Critic’s Choice’ ‘ (Tysk pladekritikerpris 2023). \nBandet\, der havde sin debut i Danmark på Tønder Festival i 2019\, består af:\nMegan Henderson – violin og vokal\nJames Lindsay – kontrabas\, moog og vokal\nCalum MacCrimmon – sækkepiber\, fløjter\, bouzouki og vokal\nConal McDonagh – sækkepiber og fløjter\nEwan Robertson – guitar\, vokal og cajon \n★★★★★\n“Matching fiery intensity with exquisite finesse\, this was a magnificent set”\nThe Scotsman \n“Exhilarating\, energetic and accomplished”\nSonglines \n160\,-\nSiddepladser på balkon\nSkotsk/Irsk Musikscene i Baltoppen LIVE
URL:https://folkalender.dk/arrangement/breabach-sco-2/
LOCATION:Baltoppen LIVE\, Baltorpvej 20\, Ballerup\, 2750
CATEGORIES:Koncert
ATTACH;FMTTYPE=image/jpeg:https://folkalender.dk/wp-content/uploads/2025/01/Baltoppen_LIVE_468x260_Breabach.jpg
GEO:55.7305364;12.3522152
X-APPLE-STRUCTURED-LOCATION;VALUE=URI;X-ADDRESS=Baltoppen LIVE Baltorpvej 20 Ballerup 2750;X-APPLE-RADIUS=500;X-TITLE=Baltorpvej 20:geo:12.3522152,55.7305364
END:VEVENT
BEGIN:VEVENT
DTSTART;TZID=Europe/Helsinki:20250320T193000
DTEND;TZID=Europe/Helsinki:20250320T213000
DTSTAMP:20260420T233228
CREATED:20250117T142649Z
LAST-MODIFIED:20250117T142845Z
UID:11098-1742499000-1742506200@folkalender.dk
SUMMARY:Phønix & Sangka – Thy Folkemusik – Stenbjerg Kro
DESCRIPTION:Et unikt musikalsk kulturmøde mellem øst og vest! \nDer er lagt op til en helt speciel koncertoplevelse\, når Phønix inviterer den kinesiske Guzhengspiller SangKa med på scenen. Sammen skaber de et helt nyt og unikt lydunivers\, i mødet mellem to meget forskellige musikalske traditioner. Guzheng’en har en drømmende harpe-agtig pentaton lyd\, som på smuk vis spiller op imod Phønix’ energiske og groovende melodier og sange. Det bliver en koncert på højt musikalsk niveau\, med vægt på nærvær\, energi\, virtuositet og et stærkt visuelt udtryk. \n“Phønix og SangKa præsenterer albummets 9 numre så rafineret\, at det lyder som en homogen enhed. Livlige og rolige passager veksler med hinanden. “Groovy Guzheng” er en fantastisk præstation uden at gå på kompromis” – Global Music Magazine \nEventyret mellem øst og vest begyndte i en rå fabrikshal i Beijings nye art district 798. Ved åbningen af det nye danske kulturinstitut i Beijing i 2014\, skulle Phønix spille dansk folkemusik i den ene ende af en stor fabrikshal\, mens SangKa stod i den anden ende og lod tonerne flyde fra sit kinesiske instrument. Siden har de spillet sammen flere gange\, på SPOT-festival\, Kulturmødet på Mors\, Musik i Tide festival samt på koncerturnéer i Danmark og Guangdong-provins i Kina. \nBilletpris: 200 kr.\nBilletpris medlemmer: 175 kr.\nHusk at tilkøbe den lækre kroplatte\, der serveres kl 18.00!\npris kun 155.-
URL:https://folkalender.dk/arrangement/phoenix-sangka-thy-folkemusik-stenbjerg-kro/
LOCATION:Stenbjerg Kro\, Stenbjerg Kirke Vej 21\, Snedsted\, 7752\, Danmark
CATEGORIES:Koncert
ATTACH;FMTTYPE=image/jpeg:https://folkalender.dk/wp-content/uploads/2025/01/PH-Pressefoto25.jpg
GEO:56.9175785;8.3647412
X-APPLE-STRUCTURED-LOCATION;VALUE=URI;X-ADDRESS=Stenbjerg Kro Stenbjerg Kirke Vej 21 Snedsted 7752 Danmark;X-APPLE-RADIUS=500;X-TITLE=Stenbjerg Kirke Vej 21:geo:8.3647412,56.9175785
END:VEVENT
BEGIN:VEVENT
DTSTART;TZID=Europe/Helsinki:20250320T193000
DTEND;TZID=Europe/Helsinki:20250320T220000
DTSTAMP:20260420T233228
CREATED:20241209T170549Z
LAST-MODIFIED:20241209T170549Z
UID:10826-1742499000-1742508000@folkalender.dk
SUMMARY:Som Os
DESCRIPTION:Årets Nye Rootsnavn ved DMA Roots 2024\n​\nDen vidtfavnende folk-kvintet Som Os sammensætter deres mange musikalske billeder til en samlet Mosaik\, der på smuk vis fremviser bredden af folkemusikken og dens mange grene ud i genrehorisonten. Her bliver du ført fra rock/funk\, over jazz til de mange forskellige folkemusikalske traditioner\, som musikerne tilsammen afspejler med deres brogede baggrund. \nBandet har allerede slået deres navn fast med koncerter rundt omkring i Danmark og på nogle af landets største folkefestivaler bl.a Tønder Festival\, Nordic Folk Alliance\, Musik over Præstø fjord og Copenhagen Jazz Festival. Som Os modtog i november 2024 prisen som Årets Nye navn ved DMA Roots\, og var også nomineret med deres debutalbum – Mosaik\, som Årets Roots udgivelse.\nDebutalbummet Mosaik udkom i september 6. 2023. \nDen instrumentale musik fortæller historier om steder\, situationer og oplevelser\, som musikerne har oplevet sammen\, og hver for sig er blevet rundet af. Det er disse fortællinger\, som du bliver inviteret ind i\, når bandet kommer rundt i landet for at vise hvad folkemusikken også kan.  \nSom Os er:\nAnnelene Toft Christensen – Violin\nTim Ewé Jensen  – Kornet/trompet\nJakob Kragesand – Kontrabas\nMichael Hornhaver – Guitar\nChris Falkenberg – Trommer
URL:https://folkalender.dk/arrangement/som-os/
LOCATION:Gimle\, Roskilde\, Helligkorsvej 2\, Roskilde\, 4000
CATEGORIES:Koncert
ATTACH;FMTTYPE=image/jpeg:https://folkalender.dk/wp-content/uploads/2024/12/SomOs-1190x1190-1.jpg
GEO:55.6398348;12.0714186
X-APPLE-STRUCTURED-LOCATION;VALUE=URI;X-ADDRESS=Gimle Roskilde Helligkorsvej 2 Roskilde 4000;X-APPLE-RADIUS=500;X-TITLE=Helligkorsvej 2:geo:12.0714186,55.6398348
END:VEVENT
BEGIN:VEVENT
DTSTART;TZID=Europe/Helsinki:20250321T190000
DTEND;TZID=Europe/Helsinki:20250321T220000
DTSTAMP:20260420T233228
CREATED:20250119T212114Z
LAST-MODIFIED:20250120T210305Z
UID:11152-1742583600-1742594400@folkalender.dk
SUMMARY:Trio Mio og Henrik Larsen – koncertbal
DESCRIPTION:Koncert-bal med Trio Mio og Henrik Larsen 21. marts 2025 \nMåske nogen har kigget længe efter vort traditionsrige Vintherbal?\nI år bliver det et forårsbal med Trio Mio\, som vi glæder os til at danse og lytte til.\nDette i samarbejde med Henrik Larsen\, der styrer dansens gang med trin\, tramp og tricks\nVi kalder det koncert-bal\, da det både i den ene side af salen er muligt at nyde musikken og i den anden side af salen vil være muligt at danse\, – og dette med Henriks kyndige vejledning.\nNogle Trio Mio-numre vil være “kun til ørerne”\, og dansere kan få et hvil og et smut til baren. \nHenrik Larsen vil desuden sammen med Kristine holde en lille hurtig workshop fra kl 19-19.30\, programmet vil blive lagt\, så der er en naturlig øgning af dansenes sværhedsgrad hen over aftenen\, så alle kan følge med.  \nKoncert-ballet holdes i Truckhallen.  \nOm Trio Mio:\nI hjertet af Trio Mio´s musik ligger et brændende ønske om at give nyt liv til dansk/svensk folkemusik. De spiller musikken på deres egen måde\, gør den til nutidig musik som bevarer dyb respekt for den tradition hvoraf musikken er rundet.\nResultatet er ny\, forfriskende og helt særegen: kontemporær folkemusik skabt fra det specielle punkt hvor traditionen møder nutiden og lader sig inspirere af andre stilarter som jazz og klassisk musik.\nMan er aldrig helt sikker på hvad der skal ske: Smukke\, rolige og luftige melodier bliver afløst af hurtige\, uforudsigelige og til tider vilde improvisationer. Men sikkert er det\, at musikken spilles med intensitet\, virtuositet og glæde\, som efterlader lytteren åndeløs – og smilende.\nTRIO MIO består af\nKristine Heebøll : violin\nJens Ulvsand : bouzouki\, guitar og sang\nPeter Rosendal : klaver\, wurlitzer og flugabone \nHenrik Larsen:\nHenrik Larsen har været på Klaverfabrikken flere gange og holdt danse-kursus.\nHenrik formår at holde trin og retning med sin inspirerende og pædagogiske tilgang til de danske folkedanse.  \nHenrik vil være på gulvet hele aftenen og sørge for trin og retning i dansene.
URL:https://folkalender.dk/arrangement/trio-mio-og-henrik-larsen-koncertbal/
LOCATION:Klaverfabrikken\, Hillerød\, Fredensvej 12A\, Hillerød\, 3400
CATEGORIES:Bal
ATTACH;FMTTYPE=image/jpeg:https://folkalender.dk/wp-content/uploads/2025/01/trio-mio-til-folkalender.jpg
ORGANIZER;CN="KlaverfabrikkenFOLK":MAILTO:thougaard@c.dk
GEO:55.9273762;12.2969322
X-APPLE-STRUCTURED-LOCATION;VALUE=URI;X-ADDRESS=Klaverfabrikken Hillerød Fredensvej 12A Hillerød 3400;X-APPLE-RADIUS=500;X-TITLE=Fredensvej 12A:geo:12.2969322,55.9273762
END:VEVENT
BEGIN:VEVENT
DTSTART;TZID=Europe/Helsinki:20250321T193000
DTEND;TZID=Europe/Helsinki:20250321T220000
DTSTAMP:20260420T233228
CREATED:20250121T173330Z
LAST-MODIFIED:20250121T173330Z
UID:11211-1742585400-1742594400@folkalender.dk
SUMMARY:Laugsaften med Ribe Danse- og Spillemandslaug
DESCRIPTION:Har du lyst til at danse\, spille\, lytte eller se\, så er det her det foregår.\nVi spiller til dans fra kl. 19:30 – ca. 22.30. Der vil blive instrueret i dansene efter behov så kom frit frem både nybegyndere og øvede. Midt på aftenen drikker vi kaffe og spiser hjemmebagt kage.\nI kaffepausen kan der være forskelligt underholdning så som\, fælles sang\, div. solooptræden med musik eller sang og historie fortælling mm.\nKom og deltag i de hyggelige aftener som lauget har afholdt i mere end 40 år
URL:https://folkalender.dk/arrangement/laugsaften-med-ribe-danse-og-spillemandslaug-12/
LOCATION:Rosen Alle 3\, 6760 Ribe\, Rosen Alle 3\, Ribe\, 6760
CATEGORIES:Bal
ATTACH;FMTTYPE=image/jpeg:https://folkalender.dk/wp-content/uploads/2025/01/Logo_Ribelaug-1-1.jpg
ORGANIZER;CN="Ribe Danse- og Spillemandslaug":MAILTO:ribelaug@gmail.com
GEO:55.3285578;8.7700979
X-APPLE-STRUCTURED-LOCATION;VALUE=URI;X-ADDRESS=Rosen Alle 3 6760 Ribe Rosen Alle 3 Ribe 6760;X-APPLE-RADIUS=500;X-TITLE=Rosen Alle 3:geo:8.7700979,55.3285578
END:VEVENT
BEGIN:VEVENT
DTSTART;TZID=Europe/Helsinki:20250321T193000
DTEND;TZID=Europe/Helsinki:20250321T223000
DTSTAMP:20260420T233228
CREATED:20240917T143017Z
LAST-MODIFIED:20250205T164822Z
UID:9951-1742585400-1742596200@folkalender.dk
SUMMARY:Dansting
DESCRIPTION:Dansting med Nøkkens Galocher & Vanløse Almindelige Danseorkester. \nTingluti inviterer til Dansting fredag d. 15. november kl. 19.30 – 22.30 \nmed danske/nordiske og internationale folkedanse med orkestrene: \nNøkkens Galocher: kl. 19.30 – 20.45 cirka\, \nVanløse Almindelige Danseorkester: kl. 21.15 – 22.30 \ni Osramhuset i Valhalsgade 4 på 1. sal \nDøren er låst\, så ring på den opsatte dørklokke eller på mobilnummeret\, så kommer vi og åbner døren. \nDet er gratis at deltage. \nDer kan købes brød\, øl og vand til rimelige priser. \nHvis du holder af at danse og er nysgerrig på at lære nyt\, er det en oplagt mulighed. Det er ikke nødvendigt at have en partner for at deltage. \nBus 6A holder nær Valhalsgade.\nNærmeste S-togsstation er Bispebjerg St.\nNærmeste Metrostation er Skjolds Plads (100 m)
URL:https://folkalender.dk/arrangement/dansting-7/
LOCATION:Osramhuset\, Valhalsgade 4\, København\, 2200 N
CATEGORIES:Legestue
ATTACH;FMTTYPE=image/jpeg:https://folkalender.dk/wp-content/uploads/2024/09/Mariann2023-09-04thumbnail_IMG_6525.jpg
GEO:55.7029919;12.5495133
X-APPLE-STRUCTURED-LOCATION;VALUE=URI;X-ADDRESS=Osramhuset Valhalsgade 4 København 2200 N;X-APPLE-RADIUS=500;X-TITLE=Valhalsgade 4:geo:12.5495133,55.7029919
END:VEVENT
BEGIN:VEVENT
DTSTART;TZID=Europe/Helsinki:20250322T140000
DTEND;TZID=Europe/Helsinki:20250322T230000
DTSTAMP:20260420T233228
CREATED:20250310T132350Z
LAST-MODIFIED:20250310T132350Z
UID:11736-1742652000-1742684400@folkalender.dk
SUMMARY:Tæft\, Trit og retning
DESCRIPTION:Æ Tinuser – spille-og danseworkshop og bal\nTre legendariske spillemænd surfede på toppen af 70’ernes folk-revival\, og gjorde den vestjyske folkemusik kendt for sin tæft\, taw og legesyge energi. Trioen blev kaldt Æ Tinuser\, og bestod af brødrene Hans\, Karl & Ejnar\, som havde lært musikken af deres far Martinus\, og med dem har Tinus-musikken spredt sig over hele landet. Tæft\, Trit & Retning spiller Tinus-musikken i fri fortolkning\, men med samme tæft og legende lethed. Det er musik til dansefødderne og som navnet antyder signalerer det en fast rytme og bal i gaden. \nMusikkerne i Tæft\, Trit & Retning har godt fat i rødderne af den vestjyske musik\, og den nye trio har endda samme besætning som Æ Tinuser\, men det er ikke noget kopiband! Tæft\, Trit & Retning spiller musik med personlighed\, elegance og vildskab og samspillet med publikum og danserne er essentielt. \nMalene D. Beck: klaver. Malene har spillet med utallige danske spillemænd og er kendt for sit skønne rå’swingende klaverspil. Hun er også kendt som bassisten i Instinkt og for sit mangeårige samarbejde med violinisten Tove de Friis. \nChristoffer Thorhauge Dam: violin. Christoffer er opvokset midt i Tinus-land med en far\, der har gået til fest og bal med Æ Tinuser\, og han lærte derfor musikken som barn. Christoffer er også kendt fra gruppen Trias\, og er siden flyttet til Sønderho for at fordybe sig i Fanø-musikken. \nAnders Ringgaard: trækbasun. Da Anders forsøgte at snige sig ind i folkemusik-miljøet med en harmonika på maven\, blev det hurtigt afsløret\, at han oprindelig er basunist\, og Tinus-musikken blev hans nye fyrtårn. Anders har siden erhvervet sig Ejnars gamle trækbasun\, som han har trakteret i grupperne TrioTinus\, Habadekuk og Basco. \nOg Anders Christensen fortæller samt instruerer sammen med Kirstine Nurdug til danseworkshop. \nProgram:\n14-18 Introduktion og musikalsk samvær\, danse- og spilleworkshops\, kaffepause\n18.30 Middag\n20-23 Bal\, kaffe \nPriser: Eftermiddag 100 kr.\, 80 kr. for medlemmer\nMiddag 130 kr med tilmelding fredag forinden før 16 på MobilePay 8480XR\nAften/Bal 120 kr.\, 100 kr. for medlemmer
URL:https://folkalender.dk/arrangement/taeft-trit-og-retning/
CATEGORIES:Bal,Danseworkshop,Spilleworkshop
ATTACH;FMTTYPE=image/jpeg:https://folkalender.dk/wp-content/uploads/2025/03/Taeft-Trit-Retning.jpg
ORGANIZER;CN="Folkekulturv&aelig%3Brkstedet Broby Gamle Skole":MAILTO:pha@bgsbroby.dk
END:VEVENT
BEGIN:VEVENT
DTSTART;TZID=Europe/Helsinki:20250322T180000
DTEND;TZID=Europe/Helsinki:20250322T233000
DTSTAMP:20260420T233228
CREATED:20221223T162849Z
LAST-MODIFIED:20221223T162849Z
UID:6066-1742666400-1742686200@folkalender.dk
SUMMARY:Folkemusik jam i Flensborg
DESCRIPTION:Violin-spiller Andreas von Hippel fra Flensborg organiserer normalt hver 4. Lørdag / måned en jam i Flensborg\ni “Kulturcafe Tableau”. I kan forvente musik fra de\nanglo-skandinaviske egne.\nDet er et hyggeligt mødested især for danske og tyske folk-musikere. \nDer Geigenspieler Andreas von Hippel aus Flensburg organisiert jeden 4. Samstag im Monat eine Session\nim Kulturcafe Tableau in Flensburg. Es soll gerne um Folkmusik\naus dem anglo-skandinavischen Raum gehen. An der Schnittstelle zwischen Deutschland und Dänemark ist\ndie Session insbesondere ein Treffpunkt zwischen deutschen und dänischen Folk-Musikern.
URL:https://folkalender.dk/arrangement/folkemusik-session-i-flensborg/2025-03-22/
LOCATION:Kulturcafe Tableau\, Kurze Straße 1\, Flensborg\, 24937
CATEGORIES:Jam
ATTACH;FMTTYPE=image/png:https://folkalender.dk/wp-content/uploads/2022/12/flensburg_session_dezember2022_screenshot.png
GEO:54.7875536;9.439317
X-APPLE-STRUCTURED-LOCATION;VALUE=URI;X-ADDRESS=Kulturcafe Tableau Kurze Straße 1 Flensborg 24937;X-APPLE-RADIUS=500;X-TITLE=Kurze Straße 1:geo:9.439317,54.7875536
END:VEVENT
BEGIN:VEVENT
DTSTART;TZID=Europe/Helsinki:20250323T140000
DTEND;TZID=Europe/Helsinki:20250323T150000
DTSTAMP:20260420T233228
CREATED:20250117T143434Z
LAST-MODIFIED:20250117T145331Z
UID:11104-1742738400-1742742000@folkalender.dk
SUMMARY:Phønix & Sangka – Familiekoncert Kalundborg
DESCRIPTION:Der er lagt op til en helt speciel koncertoplevelse\, når danske Phønix inviterer den kinesiske guzheng-spiller SangKa med på scenen. Sammen skaber de et helt nyt og unikt lydunivers i mødet mellem to meget forskellige musiktraditioner.  \nSangKas guzheng har en drømmende harpe-lignende lyd\, som spiller smukt op imod Phønix’ energiske sange og melodier. Publikum bliver præsenteret for traditionelle sange\, nye melodier\, groovy rytmer og dramatiske historier\, som vokser direkte ud af den kinesiske og danske musikkultur. \nDet bliver en koncert med vægt på nærvær\, energi og kulturmødet i musikken. \nArr:\nLMS-Levende Musik i Skolen\nKalundborg Bibliotek
URL:https://folkalender.dk/arrangement/phoenix-sangka-familiekoncert-kalundborg/
LOCATION:Musisk Skole\, Kalundborg\, Skovbrynet 55\, Kalundborg\, 4400
CATEGORIES:Koncert
ATTACH;FMTTYPE=image/jpeg:https://folkalender.dk/wp-content/uploads/2025/01/PH-Pressefoto25-1.jpg
GEO:55.690814;11.083721
X-APPLE-STRUCTURED-LOCATION;VALUE=URI;X-ADDRESS=Musisk Skole Kalundborg Skovbrynet 55 Kalundborg 4400;X-APPLE-RADIUS=500;X-TITLE=Skovbrynet 55:geo:11.083721,55.690814
END:VEVENT
BEGIN:VEVENT
DTSTART;TZID=Europe/Helsinki:20250323T140000
DTEND;TZID=Europe/Helsinki:20250323T170000
DTSTAMP:20260420T233228
CREATED:20240425T110350Z
LAST-MODIFIED:20241121T121530Z
UID:8727-1742738400-1742749200@folkalender.dk
SUMMARY:Søndagsdans på Museum Rebild
DESCRIPTION:Hver søndag eftermiddag året rundt inviterer Rebild Spillemændene til gammeldans i museets sal. Repertoiret er for alle\, også nybegyndere i gammeldans og folkedans.  \nTraditionen med søndagsdans har eksisteret siden museets start i 1951. Her vedligeholdes den himmerlandske dansetradition\, som den har været kendt i mange generationer. Det foregår som et regulært bal\, hvor musikken leveres af en af gruppe fra Rebild Spillemandslaug.  \nSom nybegynder er der rig mulighed for at danse med rutinerede dansere\, hvilket er en god måde at lære trinene på. Alle kan deltage\, selv om de ikke kender til folkedans i forvejen. Der er erfarne dansere\, som kan lære fra sig\, så alle får et par sjove og lærerige timer og måske bliver bidt af folkedansen. Der danses i et par timer\, afbrudt af en kaffepause\, hvor der kan købes kaffe og brød i museets cafe. Café og butik er åben søndage fra kl 13. Der er mulighed for at forudbestille kaffe og kage kl.14 når musikken starter\, så er det klar til pausen kl. 15.30.
URL:https://folkalender.dk/arrangement/soendagsdans-paa-museum-rebild/2025-03-23/
LOCATION:Museum Rebild\, Rebildvej 25B\, Rebild\, Skørping\, 9520
CATEGORIES:Bal,Legestue
ATTACH;FMTTYPE=image/jpeg:https://folkalender.dk/wp-content/uploads/2024/04/dans_i_Salen.jpg
ORGANIZER;CN="Museum Rebild":MAILTO:spillemandsmuseet@mail.dk
END:VEVENT
END:VCALENDAR