BEGIN:VCALENDAR
VERSION:2.0
PRODID:-//Folkalender - ECPv6.10.1.1//NONSGML v1.0//EN
CALSCALE:GREGORIAN
METHOD:PUBLISH
X-ORIGINAL-URL:https://folkalender.dk
X-WR-CALDESC:Begivenheder for Folkalender
REFRESH-INTERVAL;VALUE=DURATION:PT1H
X-Robots-Tag:noindex
X-PUBLISHED-TTL:PT1H
BEGIN:VTIMEZONE
TZID:Europe/Helsinki
BEGIN:DAYLIGHT
TZOFFSETFROM:+0200
TZOFFSETTO:+0300
TZNAME:EEST
DTSTART:20250330T010000
END:DAYLIGHT
BEGIN:STANDARD
TZOFFSETFROM:+0300
TZOFFSETTO:+0200
TZNAME:EET
DTSTART:20251026T010000
END:STANDARD
END:VTIMEZONE
BEGIN:VEVENT
DTSTART;TZID=Europe/Helsinki:20250205T120000
DTEND;TZID=Europe/Helsinki:20250514T170000
DTSTAMP:20260420T190942
CREATED:20241229T131032Z
LAST-MODIFIED:20241229T131718Z
UID:10898-1738756800-1747242000@folkalender.dk
SUMMARY:Violin – Folkemusik – Skanderborg
DESCRIPTION:Violin for alle\nEt kursusforløb består af 12 gange à 30 minutter. Undervisningen foregår hos AOF Skanderborg\, Asylgade 18. Tidspunkt og dag aftales ved at maile til underviseren.\nMaja Kjær Jacobsen træffes på: maja.k.jacobsen@gmail.com \nOm undervisningen\nVil du lære at spille alle de sange du kender – med eller uden noder? Eller er du nysgerrig på folkemusik? Så start til folkemusik-violin hos Maja Kjær! For Maja er det vigtigt\, at det er sjovt at beskæftige sig med musik\, uanset om man er begynder eller øvet og ambitiøs. Undervisningen bliver derfor altid tilpasset den enkelte elevs ønsker og niveau. Vi kan bl.a. tage fat på grundlæggende teknik\, repertoire\, nodelære og rytmisk forståelse\, udenadslære\, spillestil eller improvisation (folkemusik). \nUndervisningen er for alle: Begyndere\, let øvede og øvede\, og du behøver ikke kende til genren når du starter.So­lo­un­der­vis­ning 30 min. pr. elev. Det er muligt at lægge timerne sammen til hold med flere elever.Tidspunkt er onsdag mellem 12.00 og 17.00. Online undervisning er også en mulighed. Individuelle hensyn aftales med Maja. \nMulighed for leje af violin\, kr. 30\,00 pr. uge eller kr. 400\,00 for en sæson. \nKursusdetaljer\nAOF\, Asylgade 18\, 8660 Skanderborg\nOnsdag\, 12:00 – 17:00\n12 lektioner\, 12 mødegange\nHold nr.: 7525107310\nKontakt: Skanderborg-Odder AOF\n1.650 kr./person \nUnderviser \nMaja Kjær Jacobsen\nMaja Kjær er violinist\, tra­di­tions­bæ­rer og komponist indenfor dansk og nordisk folkemusik/spil­le­mands­mu­sik. Hun har ca. 15 års erfaring som underviser\, bl.a. på mange musikskoler og aftenskoler i hele landet\, samt workshops i udlandet i forb. m. sine mange turnéer. Derudover har hun udgivet en nodebog\, en podcast og 6 musikalbums med forskellige bands.Maja er uddannet violinist ved Syddansk Mu­sik­kon­ser­va­to­ri­um i Odense som BA i 2009 og KA i 2012\, har været på udveksling i Limerick (Irland) og taget yderligere kurser i Norsk Folkelig Dans på NTNU i Trondheim (Norge). Lige nu er hun i gang med at afslutte uddannelsen som solist på linjen Contemporary Creative Artist på Syddansk Mu­sik­kon­ser­va­to­ri­um i Esbjerg\, hvor hun spiller sin debutkoncert i marts 2025.
URL:https://folkalender.dk/arrangement/violin-folkemusik-silkeborg/
LOCATION:AOF Skanderborg\, Asylgade 18\, Skanderborg\, 8660
CATEGORIES:Kursus
ATTACH;FMTTYPE=image/jpeg:https://folkalender.dk/wp-content/uploads/2024/12/241014FruSkagerrak0016-cropped-kopi-1.jpg
ORGANIZER;CN="AOF Skanderborg":MAILTO:skan-odder@aof.dk
END:VEVENT
BEGIN:VEVENT
DTSTART;TZID=Europe/Helsinki:20250225T190000
DTEND;TZID=Europe/Helsinki:20250225T210000
DTSTAMP:20260420T190942
CREATED:20250217T125347Z
LAST-MODIFIED:20250217T125738Z
UID:11577-1740510000-1740517200@folkalender.dk
SUMMARY:Danmarks Nye folkemusik Ensemble // Frølageret
DESCRIPTION:Snart debuterer folkemusikkens nye professionelle ensemble\nI vinteren 2024 blev sløret løftet for Danmarks kommende professionelle folkemusik ensemble. \nInitiativtager Annelene Toft Christensen kunne løfte sløret for navnene på de fem erfarne musikere\, der de næste to år er udvalgt til at rejse region Syddanmark tynd og præsentere deres musik på spillesteder\, skoler\, musikskoler og institutioner. Ensemblet debuterer i februar 2025 med en flot turnéplan rundt i regionen. \nHer gæster de Frølageret den 25. februar i Odense\, Skårup Kirke den 26. februar i Svendborg Kommune\, Koldinghus i Ruinsalen den 27. februar i Kolding og turnéen afsluttes på Syddansk Musikkonservatorium (SDMK) den 28. februar i Esbjerg.\nDanmarks nye professionelle Folkemusik Ensemble sætter en ny standard for folkemusikken med en dyb respekt for både nyskrevet og traditionelle danske musiktraditioner. Ensemblet består af fem talentfulde musikere\, som hver især bidrager med deres unikke musikalske baggrund og udtryk\, hvilket skaber et rigt og varieret lydbillede. \nEnsemblets medlemmer er:\n– Annelene Toft Christensen – Violin & Bratsch\n– Maja Aarøe Freese – Cello & Sang\n– Anja Præst Mikkelsen – Klarinet & Basklarinet\n– Frederik Mensink – Kontrabas & Diatonisk Harmonika\n– Anders Ringgaard Andersen – Harmonika & Basun\nPublikum kan forvente en intens\, livlig og følelsesladet oplevelse\, hvor de danske musiktraditioner møder en moderne klang og arrangementer\, men der er selvfølgelig også plads til en god polka. \nBillet: 50 kr. https://kulturmaskinen.dk/events/folk-ensemble-1\nSted: Frøalgeret – Kulturmaskinen Odense\nTid: 19:00
URL:https://folkalender.dk/arrangement/danmarks-nye-folkemusik-ensemble-froelageret/
LOCATION:Kulturmaskinen\, Frølageret\, Odense\, Farvergården 7\, Odense\, 5000
CATEGORIES:Koncert
ATTACH;FMTTYPE=image/jpeg:https://folkalender.dk/wp-content/uploads/2025/02/Folk-Ensemble-v1-6-min_11zon_11zon-scaled.jpg
ORGANIZER;CN="Kulturmaskinen":MAILTO:kulturmaskinen@odense.dk
GEO:55.3949194;10.3811208
X-APPLE-STRUCTURED-LOCATION;VALUE=URI;X-ADDRESS=Kulturmaskinen Frølageret Odense Farvergården 7 Odense 5000;X-APPLE-RADIUS=500;X-TITLE=Farvergården 7:geo:10.3811208,55.3949194
END:VEVENT
BEGIN:VEVENT
DTSTART;TZID=Europe/Helsinki:20250225T193000
DTEND;TZID=Europe/Helsinki:20250225T213000
DTSTAMP:20260420T190942
CREATED:20241210T195912Z
LAST-MODIFIED:20241210T202221Z
UID:10838-1740511800-1740519000@folkalender.dk
SUMMARY:Mette Kathrine i Bredstrup-Pjedsted foredragsforening
DESCRIPTION:Fra Thy til Christiania
URL:https://folkalender.dk/arrangement/mette-kathrine-i-bredstrup-pjedsted-foredragsforening/
CATEGORIES:Foredrag
ATTACH;FMTTYPE=image/jpeg:https://folkalender.dk/wp-content/uploads/2024/12/DSC_4283_2_resize-1.jpg
END:VEVENT
BEGIN:VEVENT
DTSTART;TZID=Europe/Helsinki:20250225T200000
DTEND;TZID=Europe/Helsinki:20250225T220000
DTSTAMP:20260420T190942
CREATED:20250212T121435Z
LAST-MODIFIED:20250212T121435Z
UID:11548-1740513600-1740520800@folkalender.dk
SUMMARY:Baba and The Tonebones
DESCRIPTION:Harders byder på en stemningsfuld aften for bluesentusiaster den 25. februar\, hvor bluesaften arrangementet  i Folk For Folk finder sted. Det er her\, man kan opleve den inderlige og medrivende atmosfære af ægte bluesmusik\, mens Baba and The Tonebones står klar til at fylde lokalet med deres smagfulde og funky toner. \nMed en besætning bestående af nogle af Fyns mest dygtige musikere\, lover aftenen at blive en musikalsk fornøjelse. Bandet ledes af Klaus B. Jensen\, hvis guitar og vokal fører an i et repertoire af originale sange med dybe rødder i den klassiske amerikanske blues. Med sig har han Heine Hansen ved Würlitzer og piano\, Søren Lund på bassen\, og Poul Amaliel bag trommerne. \nIkke nok med at de mesterer deres instrumenter til perfektion\, Baba and The Tonebones er også aktuelle med deres nye album “Throw Them Bones”\, som byder på 11 sange der med garanti vil få enhver bluesfan til at nikke anerkendende. \nFor de interesserede er det muligt at sikre sig billetter til arrangementet via folkforfolk.dk eller følgende link: https://folkforfolk.nemtilmeld.dk/. Så tag venner og familie under armen og forbered jer på en aften med musik\, som er som at træde ind i en juke joint i hjertet af Louisiana og New Orleans. \nArrangementet finder sted i Harders\, beliggende på Møllergade 36A\, den 25. februar klokken 20:00.
URL:https://folkalender.dk/arrangement/baba-and-the-tonebones/
LOCATION:Harders\, spillestedet\, Møllegade 36\, Svendborg\, 5700
ORGANIZER;CN="Folk For Folk":MAILTO:bassist@jensholgersen.dk
GEO:55.0177447;10.6090395
X-APPLE-STRUCTURED-LOCATION;VALUE=URI;X-ADDRESS=Harders spillestedet Møllegade 36 Svendborg 5700;X-APPLE-RADIUS=500;X-TITLE=Møllegade 36:geo:10.6090395,55.0177447
END:VEVENT
BEGIN:VEVENT
DTSTART;TZID=Europe/Helsinki:20250226T183000
DTEND;TZID=Europe/Helsinki:20250226T200000
DTSTAMP:20260420T190942
CREATED:20250217T130131Z
LAST-MODIFIED:20250217T130131Z
UID:11582-1740594600-1740600000@folkalender.dk
SUMMARY:Danmarks nye folkemusik ensemble // Skårup Kirke
DESCRIPTION:d. 26. Feb.\nKoncert kl. 19.00\ndørene åbner kl. 18.30\nGratis Entré \nSkårup Kirke – Svendborg  \nSnart debuterer folkemusikkens nye professionelle ensemble\nI vinteren 2024 blev sløret løftet for Danmarks kommende professionelle folkemusik ensemble. Initiativtager Annelene Toft Christensen kunne løfte sløret for navnene på de fem erfarne musikere\, der de næste to år er udvalgt til at rejse region Syddanmark tynd og præsentere deres musik på spillesteder\, skoler\, musikskoler og institutioner. Ensemblet debuterer i februar 2025 med en flot turnéplan rundt i regionen. Her gæster de Frølageret den 25. februar i Odense\, Skårup Kirke den 26. februar i Svendborg Kommune\, Koldinghus i Ruinsalen den 27. februar i Kolding og turnéen afsluttes på Syddansk Musikkonservatorium (SDMK) den 28. februar i Esbjerg.\nDanmarks nye professionelle Folkemusik Ensemble sætter en ny standard for folkemusikken med en dyb respekt for både nyskrevet og traditionelle danske musiktraditioner. Ensemblet består af fem talentfulde musikere\, som hver især bidrager med deres unikke musikalske baggrund og udtryk\, hvilket skaber et rigt og varieret lydbillede. \nEnsemblets medlemmer er:\n– Annelene Toft Christensen – Violin & Bratsch\n– Maja Aarøe Freese – Cello & Sang\n– Anja Præst Mikkelsen – Klarinet & Basklarinet\n– Frederik Mensink – Kontrabas & Diatonisk Harmonika\n– Anders Ringgaard Andersen – Harmonika & Basun\nPublikum kan forvente en intens\, livlig og følelsesladet oplevelse\, hvor de danske musiktraditioner møder en moderne klang og arrangementer\, men der er selvfølgelig også plads til en god polka.
URL:https://folkalender.dk/arrangement/danmarks-nye-folkemusik-ensemble-skaarup-kirke/
LOCATION:Skårup kirke\, Skårup Kirkebakke 1\, Skårup Fyn\, 5881
CATEGORIES:Koncert
ATTACH;FMTTYPE=image/jpeg:https://folkalender.dk/wp-content/uploads/2025/02/Folk-Ensemble-v1-6-min_11zon_11zon-1-scaled.jpg
ORGANIZER;CN="Harders":MAILTO:mads@harders.nu
GEO:55.0937886;10.687069
X-APPLE-STRUCTURED-LOCATION;VALUE=URI;X-ADDRESS=Skårup kirke Skårup Kirkebakke 1 Skårup Fyn 5881;X-APPLE-RADIUS=500;X-TITLE=Skårup Kirkebakke 1:geo:10.687069,55.0937886
END:VEVENT
BEGIN:VEVENT
DTSTART;TZID=Europe/Helsinki:20250226T190000
DTEND;TZID=Europe/Helsinki:20250226T213000
DTSTAMP:20260420T190942
CREATED:20241129T122409Z
LAST-MODIFIED:20241213T132749Z
UID:10741-1740596400-1740605400@folkalender.dk
SUMMARY:Bal med to grupper
DESCRIPTION:Fattiggårdens Spillemænd fra Korsør og Folkemusiklauget Fynboerne spiller op til dans. Allerede kl. 18.30 kan du lære nogle grundtrin så du lettere kan være med når ballet starter kl 19.00. Støt os ved at handle I baren.
URL:https://folkalender.dk/arrangement/bal-med-to-grupper/
LOCATION:Kulturmaskinen Odense\, Farvergården 7\, Odense\, 5000
CATEGORIES:Bal
ATTACH;FMTTYPE=image/jpeg:https://folkalender.dk/wp-content/uploads/2024/11/20241030_190042-1.jpg
GEO:55.3955926;10.3808671
X-APPLE-STRUCTURED-LOCATION;VALUE=URI;X-ADDRESS=Kulturmaskinen Odense Farvergården 7 Odense 5000;X-APPLE-RADIUS=500;X-TITLE=Farvergården 7:geo:10.3808671,55.3955926
END:VEVENT
BEGIN:VEVENT
DTSTART;TZID=Europe/Helsinki:20250227T160000
DTEND;TZID=Europe/Helsinki:20250227T170000
DTSTAMP:20260420T190942
CREATED:20250217T130514Z
LAST-MODIFIED:20250217T130514Z
UID:11588-1740672000-1740675600@folkalender.dk
SUMMARY:Danmarks nye Folkemusik Ensemble // Koldinghus
DESCRIPTION:Snart debuterer folkemusikkens nye professionelle ensemble\nI vinteren 2024 blev sløret løftet for Danmarks kommende professionelle folkemusik ensemble. Initiativtager Annelene Toft Christensen kunne løfte sløret for navnene på de fem erfarne musikere\, der de næste to år er udvalgt til at rejse region Syddanmark tynd og præsentere deres musik på spillesteder\, skoler\, musikskoler og institutioner. Ensemblet debuterer i februar 2025 med en flot turnéplan rundt i regionen.  \nHer gæster de Frølageret den 25. februar i Odense\, Skårup Kirke den 26. februar i Svendborg Kommune\, Koldinghus i Ruinsalen den 27. februar i Kolding og turnéen afsluttes på Syddansk Musikkonservatorium (SDMK) den 28. februar i Esbjerg. \nDanmarks nye professionelle Folkemusik Ensemble sætter en ny standard for folkemusikken med en dyb respekt for både nyskrevet og traditionelle danske musiktraditioner. Ensemblet består af fem talentfulde musikere\, som hver især bidrager med deres unikke musikalske baggrund og udtryk\, hvilket skaber et rigt og varieret lydbillede. \nEnsemblets medlemmer er:\n– Annelene Toft Christensen – Violin & Bratsch\n– Maja Aarøe Freese – Cello & Sang\n– Anja Præst Mikkelsen – Klarinet & Basklarinet\n– Frederik Mensink – Kontrabas & Diatonisk Harmonika\n– Anders Ringgaard Andersen – Harmonika & Basun \nPublikum kan forvente en intens\, livlig og følelsesladet oplevelse\, hvor de danske musiktraditioner møder en moderne klang og arrangementer\, men der er selvfølgelig også plads til en god polka. \nEntré til museet: https://www.kongernessamling.dk/kol…/billetter-koldinghus/\nSted: Koldinghus Ruinsalen – Kolding\nTid: 16:00 – 17:00\nSe mere her: https://www.kongernessamling.dk/…/koncert-med-folk…/
URL:https://folkalender.dk/arrangement/danmarks-nye-folkemusik-ensemble-koldinghus/
LOCATION:koldinghus\, Koldinghus 1\, Kolding\, 6000
CATEGORIES:Koncert
ATTACH;FMTTYPE=image/jpeg:https://folkalender.dk/wp-content/uploads/2025/02/Folk-Ensemble-v1-6-min_11zon_11zon-2-scaled.jpg
ORGANIZER;CN="kolding hus":MAILTO:koldinghus@kosa.dk
END:VEVENT
BEGIN:VEVENT
DTSTART;TZID=Europe/Helsinki:20250228T190000
DTEND;TZID=Europe/Helsinki:20250228T210000
DTSTAMP:20260420T190942
CREATED:20250217T130939Z
LAST-MODIFIED:20250217T130939Z
UID:11595-1740769200-1740776400@folkalender.dk
SUMMARY:Danmark nye Folkemusik Ensemble // Syddansk musikkonservatorium - Esbjerg
DESCRIPTION:Snart debuterer folkemusikkens nye professionelle ensemble\nI vinteren 2024 blev sløret løftet for Danmarks kommende professionelle folkemusik ensemble. Initiativtager Annelene Toft Christensen kunne løfte sløret for navnene på de fem erfarne musikere\, der de næste to år er udvalgt til at rejse region Syddanmark tynd og præsentere deres musik på spillesteder\, skoler\, musikskoler og institutioner. \n Ensemblet debuterer i februar 2025 med en flot turnéplan rundt i regionen. Her gæster de Frølageret den 25. februar i Odense\, Skårup Kirke den 26. februar i Svendborg Kommune\, Koldinghus i Ruinsalen den 27. februar i Kolding og turnéen afsluttes på Syddansk Musikkonservatorium (SDMK) den 28. februar i Esbjerg. \nDanmarks nye professionelle Folkemusik Ensemble sætter en ny standard for folkemusikken med en dyb respekt for både nyskrevet og traditionelle danske musiktraditioner. Ensemblet består af fem talentfulde musikere\, som hver især bidrager med deres unikke musikalske baggrund og udtryk\, hvilket skaber et rigt og varieret lydbillede. \nEnsemblets medlemmer er:\n– Annelene Toft Christensen – Violin & Bratsch\n– Maja Aarøe Freese – Cello & Sang\n– Anja Præst Mikkelsen – Klarinet & Basklarinet\n– Frederik Mensink – Kontrabas & Diatonisk Harmonika\n– Anders Ringgaard Andersen – Harmonika & Basun\nPublikum kan forvente en intens\, livlig og følelsesladet oplevelse\, hvor de danske musiktraditioner møder en moderne klang og arrangementer\, men der er selvfølgelig også plads til en god polka. \nKoncerten er gratis.\nSted: Syddansk Musikkonservatorium Esbjerg\nTid: 19:30 – dørene åbner kl 19:00
URL:https://folkalender.dk/arrangement/danmark-nye-folkemusik-ensemble-syddansk-musikkonservatorium-esbjerg/
LOCATION:Syddansk Musikkonservatorium\, Kirkegade 61\, Esbjerg\, 6700
CATEGORIES:Koncert
ATTACH;FMTTYPE=image/jpeg:https://folkalender.dk/wp-content/uploads/2025/02/Folk-Ensemble-v1-6-min_11zon_11zon-3-scaled.jpg
ORGANIZER;CN="Syddansk Musikkonservatorium":MAILTO:info@sdmk.dk
GEO:55.4704807;8.4506539
X-APPLE-STRUCTURED-LOCATION;VALUE=URI;X-ADDRESS=Syddansk Musikkonservatorium Kirkegade 61 Esbjerg 6700;X-APPLE-RADIUS=500;X-TITLE=Kirkegade 61:geo:8.4506539,55.4704807
END:VEVENT
BEGIN:VEVENT
DTSTART;TZID=Europe/Helsinki:20250228T193000
DTEND;TZID=Europe/Helsinki:20250228T230000
DTSTAMP:20260420T190942
CREATED:20250121T122344Z
LAST-MODIFIED:20250121T122344Z
UID:11192-1740771000-1740783600@folkalender.dk
SUMMARY:Vinterbal med Køge Spillemandsforening
DESCRIPTION:Køge Spillemandsforening holder ÅbentHus\, hvor foreningens forskellige grupper underholder med spil til dans og med sang.\nArrangementet er støttet af Køge Kommune.
URL:https://folkalender.dk/arrangement/vinterbal-med-koege-spillemandsforening-2/
LOCATION:Ellemarkskolen\, Gymnasievej 10\, Køge\, 4600
CATEGORIES:Bal,Legestue
ATTACH;FMTTYPE=image/jpeg:https://folkalender.dk/wp-content/uploads/2025/01/faelles3_1600.jpg
ORGANIZER;CN="K&oslash%3Bge Spillemandsforening":MAILTO:webmaster@koegespillemand.dk
GEO:55.454587;12.1643207
X-APPLE-STRUCTURED-LOCATION;VALUE=URI;X-ADDRESS=Ellemarkskolen Gymnasievej 10 Køge 4600;X-APPLE-RADIUS=500;X-TITLE=Gymnasievej 10:geo:12.1643207,55.454587
END:VEVENT
BEGIN:VEVENT
DTSTART;TZID=Europe/Helsinki:20250228T200000
DTEND;TZID=Europe/Helsinki:20250228T220000
DTSTAMP:20260420T190942
CREATED:20250225T123134Z
LAST-MODIFIED:20250225T123134Z
UID:11663-1740772800-1740780000@folkalender.dk
SUMMARY:HJ & Roots
DESCRIPTION:En ny og spændende americana-trio der er værd at holde øje med. \nDet går godt for den akustiske americana-trio Henrik Johannessen & the Roots\, der siden 2022 har spillet over 70 danske koncerter\, været nomineret v. Danish Music Awards Blues og vundet Acoustical Performance Of The Year ved Texas Sounds\, USA.\nSidste år udgav Hj&Roots EP’en Dreamer\, og arbejder nu på første album. Publikum kan dog se frem til at blive præsenteret for flere nye sange\, når trioen i 2024/25 drager på deres fjerde turné. \nHenrik Johannessen udgav i 2021 det anmelderroste debutalbum Farm Sessions (mastered af grammyvinder Pete Lyman\, Nashville). Efter sammenslutning med kontrabassist Peter Pelle og strengemand Kevin Monie\, er resultatet en stærk akustisk trio der med sine velskrevne sange (samt enkelte fortolkninger af Chris Stapleton\, Tyler Childers\, Jason Isbell ect.) og traditionelle roots-instrumenter (kontrabas\, mandolin\, lapsteel\, banjo\, guitar\, stortromme) svinger fænomenalt og sender publikum direkte til Nashville.
URL:https://folkalender.dk/arrangement/hj-roots/
LOCATION:Maritza-salen\,  Frederiksgade 78C\, 8000 Aarhus C\, Frederiksgade 78C\, Aarhus C\, 8000\, Danmark
CATEGORIES:Koncert
GEO:56.1538014;10.2030116
X-APPLE-STRUCTURED-LOCATION;VALUE=URI;X-ADDRESS=Maritza-salen  Frederiksgade 78C 8000 Aarhus C Frederiksgade 78C Aarhus C 8000 Danmark;X-APPLE-RADIUS=500;X-TITLE=Frederiksgade 78C:geo:10.2030116,56.1538014
END:VEVENT
BEGIN:VEVENT
DTSTART;TZID=Europe/Helsinki:20250301T120000
DTEND;TZID=Europe/Helsinki:20250301T133000
DTSTAMP:20260420T190942
CREATED:20241031T130636Z
LAST-MODIFIED:20241031T130636Z
UID:10402-1740830400-1740835800@folkalender.dk
SUMMARY:Katrine Schmidt
DESCRIPTION:Når sangerinden Katrine Schmidt træder frem på scenen\, indtager hun rummet med sin ydmyge person og indfølende\, smukke vokal. Stemningen af noget ganske særligt sættes med det samme. \nHurtigt sidder følelserne uden på tøjet\, for Katrine Schmidt er ikke bange for at være helt ærlig og sårbar i sine tekster. Med sit sublime band i ryggen løftes det hele til de højere luftlag\, en lethed og en melankoli\, der går hånd i hånd og griber lytteren. \nSådan er en koncert med Katrine Schmidt. Rørende\, smuk\, ekstremt musikalsk og medrivende. Hun bevæger sig i roots-genrerne med stærke elementer af folk\, americana\, country og jazz og hun fremfører sine originale sange med en så stor stemme\, at man ikke tror\, at den kan fremføres af så ung en kvinde! \nSiden 2012 har Katrine Schmidt været en aktiv del af den danske folk- og roots scene medvirkende i flere konstellationer som sanger og sangskriver. I marts 2021 udgav hun sit debutalbum – ?Laying My Burdens Down?. Alle sangene på albummet er meget personlige og ærlige\, og indeholder emner så som længsel\, håb\, afhængighed\, misbrug og kærlighed – om at være menneske på godt og ondt. \nKatrine Schmidt får mange flotte ord med på vejen for sin musik og sine koncerter. \n“Et talent udover det sædvanlige”\, “Fantastisk stemme”\, “Katrine er autentisk\, jordnær og nærværende”\, “En unik oplevelse”\, “Hvor er I dygtige. En engel der synger!”
URL:https://folkalender.dk/arrangement/katrine-schmidt/
LOCATION:Fermaten\, Smallegade 4\, Herning\, 7400
CATEGORIES:Koncert
ATTACH;FMTTYPE=image/png:https://folkalender.dk/wp-content/uploads/2024/10/Skaermbillede-2024-10-31-140559.png
ORGANIZER;CN="Fermaten":MAILTO:mail@fermaten.dk
GEO:56.1368467;8.970104
X-APPLE-STRUCTURED-LOCATION;VALUE=URI;X-ADDRESS=Fermaten Smallegade 4 Herning 7400;X-APPLE-RADIUS=500;X-TITLE=Smallegade 4:geo:8.970104,56.1368467
END:VEVENT
BEGIN:VEVENT
DTSTART;TZID=Europe/Helsinki:20250301T193000
DTEND;TZID=Europe/Helsinki:20250301T230000
DTSTAMP:20260420T190942
CREATED:20250210T214029Z
LAST-MODIFIED:20250210T223330Z
UID:11498-1740857400-1740870000@folkalender.dk
SUMMARY:Bal i Metronomen på Frederiksberg
DESCRIPTION:Københavns Folkemusikhus (KFMH) inviterer til bal den første lørdag i hver måned. \nProgram for 1. marts\n19:00 Dørene til Metronomen åbner\n19:30 spiller Frøberg orkester dansevenlig musik\, til ca. 21.00\n21:00 – 21:30 pause\, hvor vi synger sange efter deltagernes ønsker\n21:30 – 23 spiller Folkets Hus Spillefolk op til dans \nSted:\nMetronomen\, Godthåbsvej 33\, 2000 Frederiksberg\nVed metrostationen ”Aksel Møllers Have” (M3) \nPris: 30kr. eller 120kr. for et år. (incl. Kaffe og kage) \nLæs mere om Københavns Folkemusikhus: kfmh.dk\nDownload appen Folkets Hus Spillefolk  \nHer kan du se en video hvor Frøberg spiller:
URL:https://folkalender.dk/arrangement/bal-i-metronomen-paa-frederiksberg/
LOCATION:Metronomen\, Godthåbsvej 33\, Frederiksberg\, 2000
ATTACH;FMTTYPE=image/jpeg:https://folkalender.dk/wp-content/uploads/2025/02/Metronomen1.jpg
GEO:55.6860703;12.5334068
X-APPLE-STRUCTURED-LOCATION;VALUE=URI;X-ADDRESS=Metronomen Godthåbsvej 33 Frederiksberg 2000;X-APPLE-RADIUS=500;X-TITLE=Godthåbsvej 33:geo:12.5334068,55.6860703
END:VEVENT
BEGIN:VEVENT
DTSTART;TZID=Europe/Helsinki:20250302T140000
DTEND;TZID=Europe/Helsinki:20250302T170000
DTSTAMP:20260420T190942
CREATED:20240425T110350Z
LAST-MODIFIED:20241121T121529Z
UID:8724-1740924000-1740934800@folkalender.dk
SUMMARY:Søndagsdans på Museum Rebild
DESCRIPTION:Hver søndag eftermiddag året rundt inviterer Rebild Spillemændene til gammeldans i museets sal. Repertoiret er for alle\, også nybegyndere i gammeldans og folkedans.  \nTraditionen med søndagsdans har eksisteret siden museets start i 1951. Her vedligeholdes den himmerlandske dansetradition\, som den har været kendt i mange generationer. Det foregår som et regulært bal\, hvor musikken leveres af en af gruppe fra Rebild Spillemandslaug.  \nSom nybegynder er der rig mulighed for at danse med rutinerede dansere\, hvilket er en god måde at lære trinene på. Alle kan deltage\, selv om de ikke kender til folkedans i forvejen. Der er erfarne dansere\, som kan lære fra sig\, så alle får et par sjove og lærerige timer og måske bliver bidt af folkedansen. Der danses i et par timer\, afbrudt af en kaffepause\, hvor der kan købes kaffe og brød i museets cafe. Café og butik er åben søndage fra kl 13. Der er mulighed for at forudbestille kaffe og kage kl.14 når musikken starter\, så er det klar til pausen kl. 15.30.
URL:https://folkalender.dk/arrangement/soendagsdans-paa-museum-rebild/2025-03-02/
LOCATION:Museum Rebild\, Rebildvej 25B\, Rebild\, Skørping\, 9520
CATEGORIES:Bal,Legestue
ATTACH;FMTTYPE=image/jpeg:https://folkalender.dk/wp-content/uploads/2024/04/dans_i_Salen.jpg
ORGANIZER;CN="Museum Rebild":MAILTO:spillemandsmuseet@mail.dk
END:VEVENT
BEGIN:VEVENT
DTSTART;TZID=Europe/Helsinki:20250302T193000
DTEND;TZID=Europe/Helsinki:20250302T220000
DTSTAMP:20260420T190942
CREATED:20240612T110442Z
LAST-MODIFIED:20240612T110442Z
UID:8982-1740943800-1740952800@folkalender.dk
SUMMARY:Eleanor Shanley & John Feely
DESCRIPTION:En af de helt store kvindelige sangere fra Irland vender tilbage til de danske scener i 2025. Eleanor Shanley følges i denne omgang med sin ven og kollega\, John Feely. De to har brugt foråret til at indspille et album sammen\, og nu skal vi altså lægge ryg eller nærmere sceneplads til denne turné debut.\nEleanor Shanley er en af Irlands mest kendte og elskede sangerinder. Hun er verdenskendt for sin smukke sangstemme og sine fortolkninger af traditionelle irske sange. I de seneste år har hun blandet sit traditionelle repertoire med musik af nyere sangskrivere. Hun debuterede i irske DeDannan i 1989 og sang i gruppen til 1995\, hvor hun startede sin solokarriere. Siden har hun udgivet albums alene og i samarbejde med blandt andre Ronnie Drew\, Dolores Keane og Eddi Reader. \nSenest har vi her i landet set hende sammen med M.C. Hansen og The Sentimentals. Alle de største festivaler for folkemusik – i Danmark såvel som Europa og USA – har haft besøg af Eleanor Shanley. Skagen Festivalen skænkede hende folkemusikprisen i 2015\, hvor hun samtidig optrådte på festivalen sammen med De Dannan. \nJohn Feely har spillet op på festivaler som Guitar Festival of Ireland\, Bath International Guitar Festival\, Dundee International Guitar Festival og Wirral International Guitar Festival. Han har vundet adskillige priser\, herunder Special Award for fortolkning i Mauro Giuliani-konkurrencen 1984\, Italien. Han har optrådt som solist med The American Symphony Orchestra i Carnegie Hall\, samt flere internationale Irske ensembler\nHan er en entusiastisk forkæmper for moderne irsk musik og har i denne egenskab fået bestilt værker fra mange af Irlands førende komponister\, herunder Seoirse Bodley\, John Buckley\, Jerome de Bromhead\, Jane O’Leary\, Brent Parker og Eric Sweeney. Han har også stor interesse for traditionel irsk og skotsk musik og har indspillet med The Chieftains og udgivet sine egne arrangementer af traditionelle melodier\, og nu også sammen med Eleanor Shanley.\nHan er blevet beskrevet af The Washington Post som ‘Irlands førende klassiske guitarist’
URL:https://folkalender.dk/arrangement/eleanor-shanley-john-feely/
LOCATION:Gimle\, Roskilde\, Helligkorsvej 2\, Roskilde\, 4000
CATEGORIES:Koncert
ATTACH;FMTTYPE=image/jpeg:https://folkalender.dk/wp-content/uploads/2024/06/image001-523x523px.jpg
GEO:55.6398348;12.0714186
X-APPLE-STRUCTURED-LOCATION;VALUE=URI;X-ADDRESS=Gimle Roskilde Helligkorsvej 2 Roskilde 4000;X-APPLE-RADIUS=500;X-TITLE=Helligkorsvej 2:geo:12.0714186,55.6398348
END:VEVENT
END:VCALENDAR