BEGIN:VCALENDAR
VERSION:2.0
PRODID:-//Folkalender - ECPv6.10.1.1//NONSGML v1.0//EN
CALSCALE:GREGORIAN
METHOD:PUBLISH
X-WR-CALNAME:Folkalender
X-ORIGINAL-URL:https://folkalender.dk
X-WR-CALDESC:Begivenheder for Folkalender
REFRESH-INTERVAL;VALUE=DURATION:PT1H
X-Robots-Tag:noindex
X-PUBLISHED-TTL:PT1H
BEGIN:VTIMEZONE
TZID:Europe/Helsinki
BEGIN:DAYLIGHT
TZOFFSETFROM:+0200
TZOFFSETTO:+0300
TZNAME:EEST
DTSTART:20250330T010000
END:DAYLIGHT
BEGIN:STANDARD
TZOFFSETFROM:+0300
TZOFFSETTO:+0200
TZNAME:EET
DTSTART:20251026T010000
END:STANDARD
END:VTIMEZONE
BEGIN:VEVENT
DTSTART;TZID=Europe/Helsinki:20250205T120000
DTEND;TZID=Europe/Helsinki:20250514T170000
DTSTAMP:20260420T173847
CREATED:20241229T131032Z
LAST-MODIFIED:20241229T131718Z
UID:10898-1738756800-1747242000@folkalender.dk
SUMMARY:Violin – Folkemusik – Skanderborg
DESCRIPTION:Violin for alle\nEt kursusforløb består af 12 gange à 30 minutter. Undervisningen foregår hos AOF Skanderborg\, Asylgade 18. Tidspunkt og dag aftales ved at maile til underviseren.\nMaja Kjær Jacobsen træffes på: maja.k.jacobsen@gmail.com \nOm undervisningen\nVil du lære at spille alle de sange du kender – med eller uden noder? Eller er du nysgerrig på folkemusik? Så start til folkemusik-violin hos Maja Kjær! For Maja er det vigtigt\, at det er sjovt at beskæftige sig med musik\, uanset om man er begynder eller øvet og ambitiøs. Undervisningen bliver derfor altid tilpasset den enkelte elevs ønsker og niveau. Vi kan bl.a. tage fat på grundlæggende teknik\, repertoire\, nodelære og rytmisk forståelse\, udenadslære\, spillestil eller improvisation (folkemusik). \nUndervisningen er for alle: Begyndere\, let øvede og øvede\, og du behøver ikke kende til genren når du starter.So­lo­un­der­vis­ning 30 min. pr. elev. Det er muligt at lægge timerne sammen til hold med flere elever.Tidspunkt er onsdag mellem 12.00 og 17.00. Online undervisning er også en mulighed. Individuelle hensyn aftales med Maja. \nMulighed for leje af violin\, kr. 30\,00 pr. uge eller kr. 400\,00 for en sæson. \nKursusdetaljer\nAOF\, Asylgade 18\, 8660 Skanderborg\nOnsdag\, 12:00 – 17:00\n12 lektioner\, 12 mødegange\nHold nr.: 7525107310\nKontakt: Skanderborg-Odder AOF\n1.650 kr./person \nUnderviser \nMaja Kjær Jacobsen\nMaja Kjær er violinist\, tra­di­tions­bæ­rer og komponist indenfor dansk og nordisk folkemusik/spil­le­mands­mu­sik. Hun har ca. 15 års erfaring som underviser\, bl.a. på mange musikskoler og aftenskoler i hele landet\, samt workshops i udlandet i forb. m. sine mange turnéer. Derudover har hun udgivet en nodebog\, en podcast og 6 musikalbums med forskellige bands.Maja er uddannet violinist ved Syddansk Mu­sik­kon­ser­va­to­ri­um i Odense som BA i 2009 og KA i 2012\, har været på udveksling i Limerick (Irland) og taget yderligere kurser i Norsk Folkelig Dans på NTNU i Trondheim (Norge). Lige nu er hun i gang med at afslutte uddannelsen som solist på linjen Contemporary Creative Artist på Syddansk Mu­sik­kon­ser­va­to­ri­um i Esbjerg\, hvor hun spiller sin debutkoncert i marts 2025.
URL:https://folkalender.dk/arrangement/violin-folkemusik-silkeborg/
LOCATION:AOF Skanderborg\, Asylgade 18\, Skanderborg\, 8660
CATEGORIES:Kursus
ATTACH;FMTTYPE=image/jpeg:https://folkalender.dk/wp-content/uploads/2024/12/241014FruSkagerrak0016-cropped-kopi-1.jpg
ORGANIZER;CN="AOF Skanderborg":MAILTO:skan-odder@aof.dk
END:VEVENT
BEGIN:VEVENT
DTSTART;TZID=Europe/Helsinki:20250220T110000
DTEND;TZID=Europe/Helsinki:20250220T130000
DTSTAMP:20260420T173847
CREATED:20250123T112320Z
LAST-MODIFIED:20250123T112320Z
UID:11264-1740049200-1740056400@folkalender.dk
SUMMARY:Dans og hygge
DESCRIPTION:Kom og dans med os.\nSå bliver du glad og en del af et lattermildt fællesskab.\nVi danser især danske folkedanse næsten uden hop til levende musik. Den 6. og 20. februar 2025 har vi åbent hus\, hvor du kan prøve helt gratis.\nDu kan komme alene eller sammen med andre. Vi får alle med i fællesskabet.\nVi danser i vores almindelige tøj\, men husk skiftesko du kan danse i.\nTorsdagsholdet danser i alt otte torsdage i februar og marts.\nSe mere om Herlev Folkedanserforening\, medlemskontingentet og vores øvrige hold på hjemmesiden www.herlevfolkedans.dk.\nHar du spørgsmål? Kontakt Sonja på formand@herlevfolkedans.dk eller 28 928 908.
URL:https://folkalender.dk/arrangement/dans-og-hygge/2025-02-20/
LOCATION:Hjortespring Foreningshus\, Gammel Klausdalsbrovej 444\, Herlev\, 2730
CATEGORIES:Danseworkshop,Folkedanserforening
ATTACH;FMTTYPE=image/jpeg:https://folkalender.dk/wp-content/uploads/2025/01/Giv_en_haand.jpg
ORGANIZER;CN="Herlev Folkedanserforening":MAILTO:formand@herlevfolkedans.dk
GEO:55.7438357;12.4221379
X-APPLE-STRUCTURED-LOCATION;VALUE=URI;X-ADDRESS=Hjortespring Foreningshus Gammel Klausdalsbrovej 444 Herlev 2730;X-APPLE-RADIUS=500;X-TITLE=Gammel Klausdalsbrovej 444:geo:12.4221379,55.7438357
END:VEVENT
BEGIN:VEVENT
DTSTART;TZID=Europe/Helsinki:20250220T193000
DTEND;TZID=Europe/Helsinki:20250220T204500
DTSTAMP:20260420T173847
CREATED:20241023T112249Z
LAST-MODIFIED:20241023T112249Z
UID:10285-1740079800-1740084300@folkalender.dk
SUMMARY:Zenobia
DESCRIPTION:Koncert med danske viser og sange samt Zenobias egne numre.\nVarighed 70 min. uden pause.\nDer vil være entré.
URL:https://folkalender.dk/arrangement/zenobia-64/
LOCATION:Halk Kirke\, Halkvej 52\, Haderslev\, 6100
CATEGORIES:Koncert
ATTACH;FMTTYPE=image/jpeg:https://folkalender.dk/wp-content/uploads/2024/10/Zenobia_2_web.jpg
END:VEVENT
BEGIN:VEVENT
DTSTART;TZID=Europe/Helsinki:20250221T140000
DTEND;TZID=Europe/Helsinki:20250221T170000
DTSTAMP:20260420T173847
CREATED:20250205T210147Z
LAST-MODIFIED:20250205T210444Z
UID:11355-1740146400-1740157200@folkalender.dk
SUMMARY:Vi slipper CD og nodebogen ”Toner i Ullits” løs på Spillemandsmuseet i Rebild.
DESCRIPTION:Du inviteres hermed til reception i anledning af udgivelse af CD og nodebog med ”Toner i Ullits – Spillemandsmusik fra Ullits i Vesthimmerland 1827” med Rebild Spillemændene.\nDer vil være præsentation af projektet\, musikken spilles\, nogen af dansene afprøves\, og museet serverer forfriskninger og lidt at spise. \n”Toner i Ullits” er navnet på en musikalsk hilsen fra 1827\, nedskrevet på noder af en 16-årig spillemand og senere gårdejer Hans Christian Sørensen\, Ullits. – De gamle noder har været gennem hænderne – og instrumenterne – på nutidige spillemænd fra Rebild.  \nResultatet er blevet til en CD-indspilning med 15 af melodierne og en nodebog med beskrivelse af vejen fra 3 gulnede nodebøger fundet i Folkemusikarkivets pengeskab\, og beskrivelse af musikkens baggrund og de danse\, som den har været spillet til.  \nNodebogen ”Toner i Ullits” præsenterer desuden et udvalg på 75 af bøgernes hele 260 melodier. Disse 75 melodier er renskrevne og bearbejdede. ”Toner i Ullits” er rigt illustreret med dels fotos bl.a. af de originale noder\, dels fine og karakteristiske illustrationer af kunstneren Luise Vandborg Foldager. \nRebild Spillemændene – Gruppe 1 har gennem et stykke tid inddraget en række af Ullits melodierne i vores repertoire og testet dem til ”Søndagsdansen” på Spillemandsmuseet i Rebild. – Læs mere på. https://folkemusikarkivet.dk/?page_id=3597 \nProjektet er støttet af Saugmann Bjerregaards fond og har involveret mange mennesker med info og historisk dokumentation\, korrekturlæsning\, fotos og illustrationer.  \nVi glæder os til at se jer alle – venlig hilsen Gruppe 1.\nGunner Friis\, Jens Peter Hansen\, Arne Skou\, Kai Bylling (1944-2024)\, Else Schmidt og Niels Jørn Østergaard.  \nNBNB! Tilmelding spillemandsmuseet@mail.dk eller til Niels Jørn Østergård på 98391604 eller 21422949.\nMuseum Rebild – Rebildvej 25 B\, Rebild\, 9520 Skørping.
URL:https://folkalender.dk/arrangement/vi-slipper-cd-og-nodebogen-toner-i-ullits-loes-paa-spillemandsmuseet-i-rebild/
LOCATION:Museum Rebild\, Rebildvej 25B\, Rebild\, Skørping\, 9520
ATTACH;FMTTYPE=image/jpeg:https://folkalender.dk/wp-content/uploads/2025/02/facebook_ill_red.jpg
ORGANIZER;CN="Rebild Spillem%C3%A6ndene":MAILTO:spillemandsmuseet@mail.dk
END:VEVENT
BEGIN:VEVENT
DTSTART;TZID=Europe/Helsinki:20250221T193000
DTEND;TZID=Europe/Helsinki:20250221T223000
DTSTAMP:20260420T173847
CREATED:20241129T114339Z
LAST-MODIFIED:20241129T114339Z
UID:10696-1740166200-1740177000@folkalender.dk
SUMMARY:Bal med Svøbsk:Maren Halberg og Jørgen Dickmeiss
DESCRIPTION:Entré 100 kr.\, dog kun 50 kr. for unge under 25 år\, folk med tilknytning til Aftenskolen Skibhus 17:48\, Grønland og Folkemusiklauget Fynboerne. Ballet er støttet af Odense Musikudvalg\, Statens Kunstfond og Marie Rasmussens Fond.
URL:https://folkalender.dk/arrangement/bal-med-svoebskmaren-halberg-og-joergen-dickmeiss/
LOCATION:Kulturmaskinen\, Frølageret\, Odense\, Farvergården 7\, Odense\, 5000
CATEGORIES:Bal
ATTACH;FMTTYPE=image/jpeg:https://folkalender.dk/wp-content/uploads/2024/11/MG_8392bw2_www_000-300x300-1.jpg
GEO:55.3949194;10.3811208
X-APPLE-STRUCTURED-LOCATION;VALUE=URI;X-ADDRESS=Kulturmaskinen Frølageret Odense Farvergården 7 Odense 5000;X-APPLE-RADIUS=500;X-TITLE=Farvergården 7:geo:10.3811208,55.3949194
END:VEVENT
BEGIN:VEVENT
DTSTART;TZID=Europe/Helsinki:20250221T193000
DTEND;TZID=Europe/Helsinki:20250221T223000
DTSTAMP:20260420T173847
CREATED:20250121T173147Z
LAST-MODIFIED:20250121T173147Z
UID:11206-1740166200-1740177000@folkalender.dk
SUMMARY:Laugsaften med Ribe Danse- og Spillemandslaug
DESCRIPTION:Har du lyst til at danse\, spille\, lytte eller se\, så er det her det foregår.\nVi spiller til dans fra kl. 19:30 – ca. 22.30. Der vil blive instrueret i dansene efter behov så kom frit frem både nybegyndere og øvede. Midt på aftenen drikker vi kaffe og spiser hjemmebagt kage.\nI kaffepausen kan der være forskelligt underholdning så som\, fælles sang\, div. solooptræden med musik eller sang og historie fortælling mm.\nKom og deltag i de hyggelige aftener som lauget har afholdt i mere end 40 år
URL:https://folkalender.dk/arrangement/laugsaften-med-ribe-danse-og-spillemandslaug-11/
LOCATION:Rosen Alle 3\, 6760 Ribe\, Rosen Alle 3\, Ribe\, 6760
CATEGORIES:Bal
ATTACH;FMTTYPE=image/jpeg:https://folkalender.dk/wp-content/uploads/2025/01/Logo_Ribelaug-1.jpg
ORGANIZER;CN="Ribe Danse- og Spillemandslaug":MAILTO:ribelaug@gmail.com
GEO:55.3285578;8.7700979
X-APPLE-STRUCTURED-LOCATION;VALUE=URI;X-ADDRESS=Rosen Alle 3 6760 Ribe Rosen Alle 3 Ribe 6760;X-APPLE-RADIUS=500;X-TITLE=Rosen Alle 3:geo:8.7700979,55.3285578
END:VEVENT
BEGIN:VEVENT
DTSTART;TZID=Europe/Helsinki:20250222T140000
DTEND;TZID=Europe/Helsinki:20250222T150000
DTSTAMP:20260420T173847
CREATED:20250208T100709Z
LAST-MODIFIED:20250208T101455Z
UID:11369-1740232800-1740236400@folkalender.dk
SUMMARY:Jensen & Bugge spiller børnekoncert
DESCRIPTION:Børnekoncert
URL:https://folkalender.dk/arrangement/jensen-bugge-spiller-boernekoncert/
LOCATION:Jegerup Forsamlingshus\, Bygaden\, Vojens\, 6500\, Denmark
CATEGORIES:Koncert
ATTACH;FMTTYPE=image/jpeg:https://folkalender.dk/wp-content/uploads/2025/02/Jensen-Bugge-i-Korro-3-rotated.jpg
GEO:55.2796789;9.2920406
X-APPLE-STRUCTURED-LOCATION;VALUE=URI;X-ADDRESS=Jegerup Forsamlingshus Bygaden Vojens 6500 Denmark;X-APPLE-RADIUS=500;X-TITLE=Bygaden:geo:9.2920406,55.2796789
END:VEVENT
BEGIN:VEVENT
DTSTART;TZID=Europe/Helsinki:20250222T180000
DTEND;TZID=Europe/Helsinki:20250222T233000
DTSTAMP:20260420T173847
CREATED:20221223T162849Z
LAST-MODIFIED:20221223T162849Z
UID:5853-1740247200-1740267000@folkalender.dk
SUMMARY:Folkemusik jam i Flensborg
DESCRIPTION:Violin-spiller Andreas von Hippel fra Flensborg organiserer normalt hver 4. Lørdag / måned en jam i Flensborg\ni “Kulturcafe Tableau”. I kan forvente musik fra de\nanglo-skandinaviske egne.\nDet er et hyggeligt mødested især for danske og tyske folk-musikere. \nDer Geigenspieler Andreas von Hippel aus Flensburg organisiert jeden 4. Samstag im Monat eine Session\nim Kulturcafe Tableau in Flensburg. Es soll gerne um Folkmusik\naus dem anglo-skandinavischen Raum gehen. An der Schnittstelle zwischen Deutschland und Dänemark ist\ndie Session insbesondere ein Treffpunkt zwischen deutschen und dänischen Folk-Musikern.
URL:https://folkalender.dk/arrangement/folkemusik-session-i-flensborg/2025-02-22/
LOCATION:Kulturcafe Tableau\, Kurze Straße 1\, Flensborg\, 24937
CATEGORIES:Jam
ATTACH;FMTTYPE=image/png:https://folkalender.dk/wp-content/uploads/2022/12/flensburg_session_dezember2022_screenshot.png
GEO:54.7875536;9.439317
X-APPLE-STRUCTURED-LOCATION;VALUE=URI;X-ADDRESS=Kulturcafe Tableau Kurze Straße 1 Flensborg 24937;X-APPLE-RADIUS=500;X-TITLE=Kurze Straße 1:geo:9.439317,54.7875536
END:VEVENT
BEGIN:VEVENT
DTSTART;TZID=Europe/Helsinki:20250222T193000
DTEND;TZID=Europe/Helsinki:20250222T213000
DTSTAMP:20260420T173848
CREATED:20250119T211143Z
LAST-MODIFIED:20250119T231944Z
UID:11148-1740252600-1740259800@folkalender.dk
SUMMARY:Gunni Torp Trio
DESCRIPTION:Det er nærmest ukrudt\, en spring-balsamin\, i skovbrynet vokser den. Kun kortvarigt. Men kraftfuldt.\nBørn elsker den. Frøene springer. Den er gul og fin som en orkidé.\nDet er som bekendt på de vilde buske\, verdens sjældne blomster gror.\nSpring-balsamin er også titlen på Gunni Torps nye album. Det er Torps 5. album. På dansk. \nHun kan synge et publikum op; sætte gang i dansegulvet og så er hun en blændende harmonikaspiller.\nGunni Torp har turneret land og rige rundt. På bodegaer\, i forsamlingshuse\, på festivaler og spillesteder.\nHelt alene kan hun stille sig på en ølkasse; og publikum er fanget. Fanget ind af politiske sange med kant. Det skæve. Det humoristiske. Fest i gaden og i gården. \nGunni Torps sangunivers og tekstlighed trækker på det urfolkelige. Vuggevisen. Drukvisen. Skillingsvisen.\nDet er bløde balkantoner med schwung\, så man får lyst til rødvin og sene nattetimer.\nSunget med en indfølt og egenartig stemme. Gunni Torp har hele livet været en del af den danske undergrunds-folk-scene; spillemænd\, der spiller fordi de ikke kan lade være. \nHun udgiver sit 5. album i samarbejde med guitarist og producer Boi Holm.\nPå albummet medvirker i øvrigt trommeslager Matthias Arbo Klein\, vibrafonist Bent\nClausen\, rapper Kasper Spez og Gunni selv på saxofoner og keys.\nFrø\, der springer og spirer på ny. Det er springbalsamin.
URL:https://folkalender.dk/arrangement/gunni-torp-trio-2/
LOCATION:Klaverfabrikken\, Hillerød\, Fredensvej 12A\, Hillerød\, 3400
CATEGORIES:Koncert
ATTACH;FMTTYPE=image/jpeg:https://folkalender.dk/wp-content/uploads/2025/01/gunni-torp-paa-laesoe.jpg
ORGANIZER;CN="KlaverfabrikkenFOLK":MAILTO:thougaard@c.dk
GEO:55.9273762;12.2969322
X-APPLE-STRUCTURED-LOCATION;VALUE=URI;X-ADDRESS=Klaverfabrikken Hillerød Fredensvej 12A Hillerød 3400;X-APPLE-RADIUS=500;X-TITLE=Fredensvej 12A:geo:12.2969322,55.9273762
END:VEVENT
BEGIN:VEVENT
DTSTART;TZID=Europe/Helsinki:20250223T103000
DTEND;TZID=Europe/Helsinki:20250223T140000
DTSTAMP:20260420T173848
CREATED:20240808T075251Z
LAST-MODIFIED:20240808T075251Z
UID:9268-1740306600-1740319200@folkalender.dk
SUMMARY:Folkedans med Fru. Madsens Team
DESCRIPTION:Folkedans med Fru. Madsens Team \nEr du til dans øvet eller ej – så kom og dans på Fru. Madsens Team!  \nHoldet er et ungt og tempofyldt hold\, som mødes den sidste søndag i måneden til nordisk folkedans\, socialt samvær og masser af grin. \nVi har fællesskabet i fokus\, alle er velkomne og vigtigst af alt\, så har vi det sjovt når vi danser! Lyder det som noget for dig? Så læs med herunder. \nPraktiske informationer:\nHoldet ledes af Cathrine og Jørgen til toner fra vores to faste spillemænd Jan og Simon\nDu skal være fyldt 13 år.\nFørste gang er gratis\nMan behøver ikke medbringe en dansepartner. Her danser alle med alle.\nMedbring frokost og vandflaske\n Entrepris:\nMedlemmer over 25 år: 45 kr.\nMedlemmer under 25 år/studerende: 20 kr.\nIkke-medlemmer over 25 år: 80 kr.\nIkke-medlemmer under 25 år/studerende: 40 kr.  \nVi garanterer sved på panden\, masser af grin og sjove stunder.  \nVi glæder os til at se dig!
URL:https://folkalender.dk/arrangement/folkedans-med-fru-madsens-team-6/
LOCATION:Huset No.7 7400 Herning\, Nørregade 7\, Herning\, 7400
CATEGORIES:Danseworkshop,Folkedanserforening
ATTACH;FMTTYPE=image/jpeg:https://folkalender.dk/wp-content/uploads/2024/08/FMT-1-5.jpg
GEO:56.1379678;8.9778805
X-APPLE-STRUCTURED-LOCATION;VALUE=URI;X-ADDRESS=Huset No.7 7400 Herning Nørregade 7 Herning 7400;X-APPLE-RADIUS=500;X-TITLE=Nørregade 7:geo:8.9778805,56.1379678
END:VEVENT
BEGIN:VEVENT
DTSTART;TZID=Europe/Helsinki:20250223T140000
DTEND;TZID=Europe/Helsinki:20250223T170000
DTSTAMP:20260420T173848
CREATED:20240425T110350Z
LAST-MODIFIED:20241121T121529Z
UID:8723-1740319200-1740330000@folkalender.dk
SUMMARY:Søndagsdans på Museum Rebild
DESCRIPTION:Hver søndag eftermiddag året rundt inviterer Rebild Spillemændene til gammeldans i museets sal. Repertoiret er for alle\, også nybegyndere i gammeldans og folkedans.  \nTraditionen med søndagsdans har eksisteret siden museets start i 1951. Her vedligeholdes den himmerlandske dansetradition\, som den har været kendt i mange generationer. Det foregår som et regulært bal\, hvor musikken leveres af en af gruppe fra Rebild Spillemandslaug.  \nSom nybegynder er der rig mulighed for at danse med rutinerede dansere\, hvilket er en god måde at lære trinene på. Alle kan deltage\, selv om de ikke kender til folkedans i forvejen. Der er erfarne dansere\, som kan lære fra sig\, så alle får et par sjove og lærerige timer og måske bliver bidt af folkedansen. Der danses i et par timer\, afbrudt af en kaffepause\, hvor der kan købes kaffe og brød i museets cafe. Café og butik er åben søndage fra kl 13. Der er mulighed for at forudbestille kaffe og kage kl.14 når musikken starter\, så er det klar til pausen kl. 15.30.
URL:https://folkalender.dk/arrangement/soendagsdans-paa-museum-rebild/2025-02-23/
LOCATION:Museum Rebild\, Rebildvej 25B\, Rebild\, Skørping\, 9520
CATEGORIES:Bal,Legestue
ATTACH;FMTTYPE=image/jpeg:https://folkalender.dk/wp-content/uploads/2024/04/dans_i_Salen.jpg
ORGANIZER;CN="Museum Rebild":MAILTO:spillemandsmuseet@mail.dk
END:VEVENT
BEGIN:VEVENT
DTSTART;TZID=Europe/Helsinki:20250223T160000
DTEND;TZID=Europe/Helsinki:20250223T170000
DTSTAMP:20260420T173848
CREATED:20241008T051456Z
LAST-MODIFIED:20241008T051734Z
UID:10195-1740326400-1740330000@folkalender.dk
SUMMARY:Morten Alfred & Vingården giver koncert i Sankt Johannes Kirken\, Nørrebro KBH
DESCRIPTION:Morten Alfred & Vingården\nNy akustisk musik fra Danmark \n”Det talstærke publikums taktfaste bifald udløste et ekstranummer: ”Slottet”\, der indledtes i violinen med en smuk ballade\, som saxofon og guitar gled ind i. En meget sangbar melodi\, lige til at nynne med på – og det gjorde publikum så sandelig\, også i den grad. En dejlig afslutning på en fornøjelig koncert.” – Helsingør Dagblad\, aug. 2023 (Sthens Kirke\, Helsingør) \nI Morten Alfred & Vingården skriver bandets medlemmer selv deres materiale. De forarbejder og forædler såvel de lidt ældre og vel modnede melodier\, som de perlende friske og nyskrevne kompositioner med titler som Høstfesten\, Balladen om Huset ved havet\, Ingelas Vals ogYlva’s Velkomst. \nEfterfølgende deler bandet det færdige resultat med publikum til koncert og/eller til dans. Musikken er ganske vist ny\, men samtidig dybt inspireret af bl.a. den traditionelle danske og nordiske musik. \nVingårdens instrumenter er bl.a. sopran- og barytonsaxofon\, violin\, guitar\, mundharmonika og vokal (tral)\, og musikken er præget af de medvirkende musikeres baggrund i genrer som barokmusik\, kirkemusik\, traditionel dansk folkemusik\, skifflemusik\, bryllupsmusik\, og meget mere. \nI foråret 2023 udgav Vingården EPen Druer/Grapes på pladeselskabet Go Danish Folk Music og på diverse streamingtjenester. \nMorten Alfred & Vingården besøger i 2024 kirker\, spillesteder og festivaler i bl.a. Danmark\, Tyskland og Schweiz:  \nSthens Kirke (Helsingør)\, Herstedvester Kirke\, Kulturkøbmanden (Øster Assels\, Mors)\, Hawkraft Kulturhotel (Vestervig\, Thy)\, Musikhuset Metronomen (Frederiksberg\, KBH)\, Godtfolk Festival (Fanø)\, Kellertheater Langnau (Langnau\, Schweiz)\, Urwaldhaus (Rehetobel\, Schweiz)\, Zürich Folk Club (Zürich\, Schweitz) m.fl.
URL:https://folkalender.dk/arrangement/morten-alfred-vingaarden-giver-koncert-i-sankt-johannes-kirken-noerrebro-kbh/
LOCATION:sankt johannes kirke\, Blegdamsvej\, København\, 2200\, Denmark
CATEGORIES:Koncert
ATTACH;FMTTYPE=image/jpeg:https://folkalender.dk/wp-content/uploads/2024/10/bloeb-scaled.jpg
GEO:55.6918026;12.561818
X-APPLE-STRUCTURED-LOCATION;VALUE=URI;X-ADDRESS=sankt johannes kirke Blegdamsvej København 2200 Denmark;X-APPLE-RADIUS=500;X-TITLE=Blegdamsvej:geo:12.561818,55.6918026
END:VEVENT
END:VCALENDAR