BEGIN:VCALENDAR
VERSION:2.0
PRODID:-//Folkalender - ECPv6.10.1.1//NONSGML v1.0//EN
CALSCALE:GREGORIAN
METHOD:PUBLISH
X-WR-CALNAME:Folkalender
X-ORIGINAL-URL:https://folkalender.dk
X-WR-CALDESC:Begivenheder for Folkalender
REFRESH-INTERVAL;VALUE=DURATION:PT1H
X-Robots-Tag:noindex
X-PUBLISHED-TTL:PT1H
BEGIN:VTIMEZONE
TZID:Europe/Helsinki
BEGIN:DAYLIGHT
TZOFFSETFROM:+0200
TZOFFSETTO:+0300
TZNAME:EEST
DTSTART:20240331T010000
END:DAYLIGHT
BEGIN:STANDARD
TZOFFSETFROM:+0300
TZOFFSETTO:+0200
TZNAME:EET
DTSTART:20241027T010000
END:STANDARD
END:VTIMEZONE
BEGIN:VEVENT
DTSTART;TZID=Europe/Helsinki:20241007T190000
DTEND;TZID=Europe/Helsinki:20241007T201500
DTSTAMP:20260421T201258
CREATED:20240902T074423Z
LAST-MODIFIED:20240902T074423Z
UID:9593-1728327600-1728332100@folkalender.dk
SUMMARY:Zenobia
DESCRIPTION:Koncert med danske viser og sange samt Zenobias egne numre.\nBilletter købes i døren.\nVarighed: 70 min. uden pause.
URL:https://folkalender.dk/arrangement/zenobia-61/
LOCATION:Christianskirken\, Fredericia\, Christiansvej 4\, Fredericia\, 7000
CATEGORIES:Koncert
ATTACH;FMTTYPE=image/jpeg:https://folkalender.dk/wp-content/uploads/2024/09/Zenobia_2_web-1.jpg
GEO:55.5797258;9.7576973
X-APPLE-STRUCTURED-LOCATION;VALUE=URI;X-ADDRESS=Christianskirken Fredericia Christiansvej 4 Fredericia 7000;X-APPLE-RADIUS=500;X-TITLE=Christiansvej 4:geo:9.7576973,55.5797258
END:VEVENT
BEGIN:VEVENT
DTSTART;TZID=Europe/Helsinki:20241008T193000
DTEND;TZID=Europe/Helsinki:20241008T230000
DTSTAMP:20260421T201258
CREATED:20240618T114739Z
LAST-MODIFIED:20240618T114739Z
UID:9010-1728415800-1728428400@folkalender.dk
SUMMARY:Goitse
DESCRIPTION:Irlands førende traditionelle band af den nye generation. \nDen populære og multi-prisvindende irske kvintet Goitse blev dannet i 2010 i den hvidglødende kreative digel på Limericks Irish World Academy i Dublin. \nGoitse er blevet kåret til Live Irelands “Traditional Group of the Year”\, Chicago Irish American News’ “Group of the Year”\, samt vandt den prestigefyldte “Freiburger International Leiter 2016”-pris i Tyskland\, og er blevet udråbt som det førende af den nye generations irske traditionelle bands. \nGoitse har udgivet seks anmelderroste albums og turnerer året rundt i bl.a. Irland\, Storbritannien\, Tyskland\, Frankrig og USA. \nDeres karakteristiske lyd bunder i kvaliteten af deres egne kompositioner blandet med ældgamle traditionelle melodier\, som gør hver optræden unik. Læs mere på Baltoppenlive.dk. \nKoncerten er en del af medlemsklubben ’Skotsk & Irsk Musikscene’ på Baltoppen LIVE\, der præsenterer 10 keltiske folkemusikkoncerter i sæsonen fra september til maj – primært på tirsdage ca. én gang om måneden. Årskortbillet for sæson 2024/2025 kan købes for 650\,- så lenge der er ledige pladser\, og kun frem til nytår:\nhttps://baltoppen.billetten.dk/…/eventde…/eventno/125316 \nLøssalg: 160\,- (siddepladser på balkon) \nMenu i Baltoppen LIVEs café fra kl. 18:00: Sæsonbuffet (195\,-). Skal forudbestilles senest 2 hverdage før koncerten – med forbehold for udsolgt.
URL:https://folkalender.dk/arrangement/goitse/
LOCATION:Baltoppen LIVE\, Baltorpvej 20\, Ballerup\, 2750
CATEGORIES:Koncert
ATTACH;FMTTYPE=image/jpeg:https://folkalender.dk/wp-content/uploads/2024/06/Baltoppen_LIVE_468x260_Goitse.jpg
GEO:55.7305364;12.3522152
X-APPLE-STRUCTURED-LOCATION;VALUE=URI;X-ADDRESS=Baltoppen LIVE Baltorpvej 20 Ballerup 2750;X-APPLE-RADIUS=500;X-TITLE=Baltorpvej 20:geo:12.3522152,55.7305364
END:VEVENT
BEGIN:VEVENT
DTSTART;TZID=Europe/Helsinki:20241009T190000
DTEND;TZID=Europe/Helsinki:20241009T214500
DTSTAMP:20260421T201258
CREATED:20231211T135836Z
LAST-MODIFIED:20231211T135836Z
UID:7667-1728500400-1728510300@folkalender.dk
SUMMARY:Fynbo bal
DESCRIPTION:Folkemusiklauget Fynboerne spiller op til dans. Allerede fra kl. 18.30 er det muligt at lære nogle trin og enkle danse\, så du kan være med når ballet starter kl. 19.00. Alle er velkomne. Øl\, vand\, kaffe og kage købes i baren. Gratis adgang.
URL:https://folkalender.dk/arrangement/fynbo-bal/2024-10-09/
LOCATION:Kulturmaskinen Odense\, Farvergården 7\, Odense\, 5000
CATEGORIES:Bal
ATTACH;FMTTYPE=image/jpeg:https://folkalender.dk/wp-content/uploads/2023/12/20231129_195635-scaled.jpg
GEO:55.3955926;10.3808671
X-APPLE-STRUCTURED-LOCATION;VALUE=URI;X-ADDRESS=Kulturmaskinen Odense Farvergården 7 Odense 5000;X-APPLE-RADIUS=500;X-TITLE=Farvergården 7:geo:10.3808671,55.3955926
END:VEVENT
BEGIN:VEVENT
DTSTART;TZID=Europe/Helsinki:20241010T193000
DTEND;TZID=Europe/Helsinki:20241010T220000
DTSTAMP:20260421T201258
CREATED:20240923T045124Z
LAST-MODIFIED:20240923T045526Z
UID:10042-1728588600-1728597600@folkalender.dk
SUMMARY:Kasper Buch med band
DESCRIPTION:Kasper Buch ligger næppe skjul på at rødderne er solidt plantet i folkemusikmiljøet i og omkring Tønder\, som han er vokset op i. \nMusikken er af stor rytmisk karakter og skulle man beskrive den med få ord\, vil mange sige energisk og nærværende. \nI foråret 2024 udgiver han sit andet fuldlængde album med arbejdertitlen “Working Hard”. Et optimistisk udspil som beskriver det hårde arbejde som Kasper Buch har udvist de sidste par år. \nAlbummet rummer dynamik\, inspirationer fra øverste hylde\, en nærvær samt en nerve som Kasper Buch har skabt\ni Lundgaard Studio\, med resten af hans fantastiske band bag sig. \n“Vi har formået at skabe et album\, som ligger så tæt op af den Live lyd vi skaber ude blandt publikum!” \nPublikum har allerede udpeget ham som et navn på den danske folkemusikscene. Med det fortalt\, har Skagen- og Stribfestival som betegnes som nogle af de førende scener inde for genren\, ligeledes budt på den unge Tønderdreng. \nMediernes søgelys har ligeledes skabt overskrifter for Kasper Buch i forskellige sammenhænge. En del radiotid på DR P4 og\nDR P5 samt TV tid\, har yderligere skabt ringe i vandene. Senest lå nummeret ‘Holding On’ i en flot 8 ugers rotation på DR P4. \nHele to musikpriser er det blevet til på ganske kort tid\, hvilket har skabt stor motivation for Kasper Buch til at fortsætte den rejse\nhan i øjeblikket er på. \nKasper Buch band er:\nKasper Buch – Vokal/Guitar\nThomas Nykjær Sørensen – Guitar/Kor\nMarkus Kjeldsen – Piano/Kor\nChristian Thorstensen – Bas/Kor\nDan Sandhøj Fromm – Trommer\nCharlie Jensen – Lyd/Teknik
URL:https://folkalender.dk/arrangement/kasper-buch-med-band/
LOCATION:Gimle\, Roskilde\, Helligkorsvej 2\, Roskilde\, 4000
CATEGORIES:Koncert
ATTACH;FMTTYPE=image/jpeg:https://folkalender.dk/wp-content/uploads/2024/09/IMG_0806.jpeg
GEO:55.6398348;12.0714186
X-APPLE-STRUCTURED-LOCATION;VALUE=URI;X-ADDRESS=Gimle Roskilde Helligkorsvej 2 Roskilde 4000;X-APPLE-RADIUS=500;X-TITLE=Helligkorsvej 2:geo:12.0714186,55.6398348
END:VEVENT
BEGIN:VEVENT
DTSTART;TZID=Europe/Helsinki:20241010T200000
DTEND;TZID=Europe/Helsinki:20241010T220000
DTSTAMP:20260421T201258
CREATED:20240920T202730Z
LAST-MODIFIED:20240920T202730Z
UID:9993-1728590400-1728597600@folkalender.dk
SUMMARY:Tradish - Musikforeningen MIDTI\, Hedensted
DESCRIPTION:Tradish (www.tradish.dk)\nIrsk musik uden grænser \nInden koncerten kan man kl. 18.30 nyde en lækker tapas-menu til 125\,- kr\, som bestilles hos Bo på tlf. 75891158. \nMedlemspris: 220 kr.\nGæstepris: 250 kr \nDørene åbner: 19:30 \nTradish er:\nJohn Pilkington: vokal\, guitar\, bouzouki\nLouise Ring Vangsgaard: violin\, viola\, vokal\nBrian Woetmann: bodhrán\, percussion\, mandolin\, vokal\, step \nSiden de blev dannet i 2009\, har Tradish optrådt på hundredvis af scener på tværs af Europa. Bandet har mødt og genset et publikum\, der værdsætter den åbne og personlige tilgang til den traditionelle irske musik\, der kendetegner Tradish. Som en del af den levende irske musiktradition\, spiller Tradish sig ind i en spændende og livsbekræftende blanding af det gamle og det nye\, fortid og nutid\, med en stærk forankring og respekt for rødderne.
URL:https://folkalender.dk/arrangement/tradish-musikforeningen-midti-hedensted/
LOCATION:Hedensted Sognegård\, Bytorvet\, Hedensted\, 8722\, Denmark
CATEGORIES:Koncert
GEO:55.7691765;9.7003084
X-APPLE-STRUCTURED-LOCATION;VALUE=URI;X-ADDRESS=Hedensted Sognegård Bytorvet Hedensted 8722 Denmark;X-APPLE-RADIUS=500;X-TITLE=Bytorvet:geo:9.7003084,55.7691765
END:VEVENT
BEGIN:VEVENT
DTSTART;TZID=Europe/Helsinki:20241011T193000
DTEND;TZID=Europe/Helsinki:20241011T223000
DTSTAMP:20260421T201258
CREATED:20231211T134524Z
LAST-MODIFIED:20231211T134524Z
UID:7650-1728675000-1728685800@folkalender.dk
SUMMARY:Bal med Heebøll & Vinther
DESCRIPTION:Heebøll & Vinther spiller en god blanding af nykomponeret dansemusik og traditionel dansemusik fra bl.a. Thy\, Læsø og Vestjylland. Kristine Heebøll og Jesper Vinther har sammen udviklet og forfinet deres dansespil i denne duo siden 2001\, men har også tidligere spillet sammen\, bl.a. i det anerkendte danske band Phønix. De er begge uddannede fra konservatoriets folkemusiklinje og har desuden\, fødderne solidt plantet i den danske folkemusiktradition\, med et brændende hjerte og respekt for traditionen og stor glæde og lyst til videreudvikling. Der er garanti for et godt bal med kræs til øret og brændstof til benene! Ballet er støttet økonomisk af Odense Kulturudvalg og Statens Kunstfond. Entré 100 kr.\, dog kun 50 kr. for unge under 25 år\, folk med tilknytning til Aftenskolen 17:48\, Grønland og medlemmer af Folkemusiklauget Fynboerne.
URL:https://folkalender.dk/arrangement/bal-med-heeboell-vinther/
LOCATION:Kulturmaskinen Odense\, Farvergården 7\, Odense\, 5000
CATEGORIES:Bal
ATTACH;FMTTYPE=image/jpeg:https://folkalender.dk/wp-content/uploads/2023/12/161011_Vinther_Heeboll_0087_2048px-1024x683-1.jpg
GEO:55.3955926;10.3808671
X-APPLE-STRUCTURED-LOCATION;VALUE=URI;X-ADDRESS=Kulturmaskinen Odense Farvergården 7 Odense 5000;X-APPLE-RADIUS=500;X-TITLE=Farvergården 7:geo:10.3808671,55.3955926
END:VEVENT
BEGIN:VEVENT
DTSTART;TZID=Europe/Helsinki:20241011T200000
DTEND;TZID=Europe/Helsinki:20241011T220000
DTSTAMP:20260421T201258
CREATED:20240411T101516Z
LAST-MODIFIED:20240411T103550Z
UID:8460-1728676800-1728684000@folkalender.dk
SUMMARY:H.P. Lange Big Gumbo i Haslev Folk Club
DESCRIPTION:H.P. Lange er et velkendt og afholdt navn i klubben\, så vi ved alle\, at bandet Big Gumbo står for god og solid blues. Men på det seneste er de også begyndt at blande deres musik lidt op med mountain music og cajun.  \nGumbo er en fantastisk gryderet fra de amerikanske sydstater hvor man ud over nogle faste ingredienser tilføjer det man har lyst til og det man synes passer. Det er netop sådan musikken er i Big Gumbo – umiskendeligt blues men tilsat cajun og mountain music\, fiddle og banjo i tilpasse mængder. \nH.P. Lange har været professionel musiker inden for blues-genren siden 1986. Han har rejst og været bosat i Amerikas sydstater i flere perioder\, så han har fået øvelsen og inspirationen med direkte fra rødderne. I Danmark har han haft en del blues-bands i forskellige konstellationer\, og har modtaget flere musikpriser.  \nH.P. Lange har 2024 haft en tætpakket kalender\, så vi er glade for\, at han har tid til at berige os med en blues-aften.  \nUd over H.P. selv består bandet\, Big Gumbo\, af J.K. Dam på trommer\, Dave Stevens på bas og Niels Bonefaas på banjo og fiddle.  \nHaslev Folk Club er støttet af Statens Kunstråd og Faxe Kommune
URL:https://folkalender.dk/arrangement/h-p-lange-big-gumbo-i-haslev-folk-club/
LOCATION:Kultunariet\, Haslev\, Søndergade 12\, Haslev\, 4690
CATEGORIES:Koncert
ATTACH;FMTTYPE=image/jpeg:https://folkalender.dk/wp-content/uploads/2024/04/hp-lange-big-gumbo-kvartet_scaled.jpg
GEO:55.325162;11.956355
X-APPLE-STRUCTURED-LOCATION;VALUE=URI;X-ADDRESS=Kultunariet Haslev Søndergade 12 Haslev 4690;X-APPLE-RADIUS=500;X-TITLE=Søndergade 12:geo:11.956355,55.325162
END:VEVENT
BEGIN:VEVENT
DTSTART;TZID=Europe/Helsinki:20241012T200000
DTEND;TZID=Europe/Helsinki:20241012T220000
DTSTAMP:20260421T201258
CREATED:20240508T094108Z
LAST-MODIFIED:20241009T093146Z
UID:8668-1728763200-1728770400@folkalender.dk
SUMMARY:Folk Lovers spiller på Ribe Bryghus
DESCRIPTION:Ribe Bryghus bliver fyldt med dejlig Skotsk og Irsk folkmusik når Folk Lovers spiller op. \nFolk Lovers er en folkduo bestående af Hanne og Niels-Jørgen Hvidberg.\nHanne spiller fløjter\, cajon\, bodhran og synger og Niels-Jørgen spiller guitar\, banjo\, mandolin\, bodhran og synger.\nRepertoiret er hentet fra den skotske og irske folkemusik iblandet danske numre samt egne numre.\nFolk Lovers spiller en bred vifte af iørefaldende\, smukke\, bevægende\, lystige\, sjove\, livlige og medrivende sange. Det hele krydres med små anekdoter og korte fortællinger om sangene.\nKort sagt: Folk Lovers er garant for en god oplevelse og en god stemning. \nEntré: Vides ikke p.t
URL:https://folkalender.dk/arrangement/folk-lovers-spiller-paa-ribe-bryghus/
LOCATION:Ribe Bryghus\, Seminarievej 16b\, Ribe\, 6760
CATEGORIES:Koncert
ATTACH;FMTTYPE=image/png:https://folkalender.dk/wp-content/uploads/2024/05/DSC_0547_web-1.png
GEO:55.330581;8.7722326
X-APPLE-STRUCTURED-LOCATION;VALUE=URI;X-ADDRESS=Ribe Bryghus Seminarievej 16b Ribe 6760;X-APPLE-RADIUS=500;X-TITLE=Seminarievej 16b:geo:8.7722326,55.330581
END:VEVENT
BEGIN:VEVENT
DTSTART;TZID=Europe/Helsinki:20241013T100000
DTEND;TZID=Europe/Helsinki:20241013T113000
DTSTAMP:20260421T201258
CREATED:20241001T171800Z
LAST-MODIFIED:20241001T171800Z
UID:10139-1728813600-1728819000@folkalender.dk
SUMMARY:Koncertgudstjeneste med folkemusik
DESCRIPTION:En gudstjeneste\, hvor musik spiller en væsentlig rolle og overtager dele af liturgien. \nFolkemusikgruppen Phønix spiller i forbindelse med gudstjenesten. Phønix dykker ned i de gamle danske salmer og salmemelodier\, som har rod i folkemusikken. Mange salmer blev skrevet på folke- og visemelodier\, sange og dansemusik\, som menigheden kendte og holdt af og derfor nemt kunne synge med på. Tempoet og udførelse har med årene taget melodierne et nyt sted hen og ikke mange tænker på\, at det de synger ved gudstjenesten\, engang var dansemusik. Bandet består af Jesper Falch\, percussion\, Anja Præst Mikkelsen\, klarinet\, Karen Mose Nørgaard\, sang og keys samt Jesper Vinther\, harmonika.﻿
URL:https://folkalender.dk/arrangement/koncertgudstjeneste-med-folkemusik/
LOCATION:Vestervig kirke\, Klostergade\, Vestervig\, 7770\, Denmark
CATEGORIES:Gudstjeneste
ATTACH;FMTTYPE=image/jpeg:https://folkalender.dk/wp-content/uploads/2024/10/Phoenix1-lavlav.jpg
ORGANIZER;CN="Vestervig kirke":MAILTO:hhgl@mail.dk
GEO:56.7731488;8.3172854
X-APPLE-STRUCTURED-LOCATION;VALUE=URI;X-ADDRESS=Vestervig kirke Klostergade Vestervig 7770 Denmark;X-APPLE-RADIUS=500;X-TITLE=Klostergade:geo:8.3172854,56.7731488
END:VEVENT
BEGIN:VEVENT
DTSTART;TZID=Europe/Helsinki:20241013T100000
DTEND;TZID=Europe/Helsinki:20241017T170000
DTSTAMP:20260421T201258
CREATED:20240807T092937Z
LAST-MODIFIED:20240807T093717Z
UID:9247-1728813600-1729184400@folkalender.dk
SUMMARY:Folkemusikkursus på Sejerø
DESCRIPTION:Mangler du inspiration til dit sammenspilshold/band?\nSynes du det er svært at være med i en jam?\nVil du gerne lære en ny melodi eller du savner en måde at akkompagnere en polka på? \nTrænger du til at more dig og give den gas sammen med andre glade musikere? \nMartin Strange åbner dørene til folkemusikken og dens mange facetter og muligheder. \nGennem sit mangeårige virke som instrumentalist og dansemusiker deler han ud af sine\nerfaringer og betragtninger.\nMartin vil fortælle og guide i\, hvordan man spiller sammen\, og hvordan man lytter til hinanden.\nHvordan er lagene i musikken og hvordan og hvorfor er “less is more” nogen gange rigtigt. \nRepertoiret tager udgangspunkt i den nordiske tradition – primært den danske. \nAlle kan være med\, uanset niveau\, instrument eller musikalsk baggrund.\nFor det er netop magien ved folkemusikken:\nBegynderen finder glæde og udfordring i det enkelte akkompagnement\, hvor den øvede og professionelle konstant kan forfine sit spil ved at nørde i detaljen. \nVi afslutter dagene med en koncert i Kulturhuset eller andet sted på øen.
URL:https://folkalender.dk/arrangement/folkemusikkursus-paa-sejeroe/
LOCATION:Øernes Højskole \, Sejerø
CATEGORIES:Kursus
ATTACH;FMTTYPE=image/jpeg:https://folkalender.dk/wp-content/uploads/2024/08/MartinStrangeLorenzen_teacher_1000px-600x600-1.jpeg
ORGANIZER;CN="%C3%98ernes H%C3%B8jskole":MAILTO:dittewest@dittewest.dk
END:VEVENT
BEGIN:VEVENT
DTSTART;TZID=Europe/Helsinki:20241013T133000
DTEND;TZID=Europe/Helsinki:20241013T153000
DTSTAMP:20260421T201258
CREATED:20231211T135020Z
LAST-MODIFIED:20231211T135020Z
UID:7655-1728826200-1728833400@folkalender.dk
SUMMARY:Familiedans
DESCRIPTION:Tag et barn ved hånden og kom denne søndag eftermiddag til Kulturmaskinen. Folkemusiklauget Fynboerne spiller til og Nicolas Sigvaldsen instruerer. Alle kan være med og alle er velkomne. Gratis adgang. Sodavand\, kaffe og kage kan købes i baren.
URL:https://folkalender.dk/arrangement/familiedans-4/2024-10-13/
LOCATION:Kulturmaskinen Odense\, Farvergården 7\, Odense\, 5000
CATEGORIES:Bal
ATTACH;FMTTYPE=image/jpeg:https://folkalender.dk/wp-content/uploads/2023/12/20231001_135324-scaled.jpg
GEO:55.3955926;10.3808671
X-APPLE-STRUCTURED-LOCATION;VALUE=URI;X-ADDRESS=Kulturmaskinen Odense Farvergården 7 Odense 5000;X-APPLE-RADIUS=500;X-TITLE=Farvergården 7:geo:10.3808671,55.3955926
END:VEVENT
BEGIN:VEVENT
DTSTART;TZID=Europe/Helsinki:20241013T140000
DTEND;TZID=Europe/Helsinki:20241013T170000
DTSTAMP:20260421T201258
CREATED:20240425T110350Z
LAST-MODIFIED:20241121T121526Z
UID:8704-1728828000-1728838800@folkalender.dk
SUMMARY:Søndagsdans på Museum Rebild
DESCRIPTION:Hver søndag eftermiddag året rundt inviterer Rebild Spillemændene til gammeldans i museets sal. Repertoiret er for alle\, også nybegyndere i gammeldans og folkedans.  \nTraditionen med søndagsdans har eksisteret siden museets start i 1951. Her vedligeholdes den himmerlandske dansetradition\, som den har været kendt i mange generationer. Det foregår som et regulært bal\, hvor musikken leveres af en af gruppe fra Rebild Spillemandslaug.  \nSom nybegynder er der rig mulighed for at danse med rutinerede dansere\, hvilket er en god måde at lære trinene på. Alle kan deltage\, selv om de ikke kender til folkedans i forvejen. Der er erfarne dansere\, som kan lære fra sig\, så alle får et par sjove og lærerige timer og måske bliver bidt af folkedansen. Der danses i et par timer\, afbrudt af en kaffepause\, hvor der kan købes kaffe og brød i museets cafe. Café og butik er åben søndage fra kl 13. Der er mulighed for at forudbestille kaffe og kage kl.14 når musikken starter\, så er det klar til pausen kl. 15.30.
URL:https://folkalender.dk/arrangement/soendagsdans-paa-museum-rebild/2024-10-13/
LOCATION:Museum Rebild\, Rebildvej 25B\, Rebild\, Skørping\, 9520
CATEGORIES:Bal,Legestue
ATTACH;FMTTYPE=image/jpeg:https://folkalender.dk/wp-content/uploads/2024/04/dans_i_Salen.jpg
ORGANIZER;CN="Museum Rebild":MAILTO:spillemandsmuseet@mail.dk
END:VEVENT
END:VCALENDAR