BEGIN:VCALENDAR
VERSION:2.0
PRODID:-//Folkalender - ECPv6.10.1.1//NONSGML v1.0//EN
CALSCALE:GREGORIAN
METHOD:PUBLISH
X-WR-CALNAME:Folkalender
X-ORIGINAL-URL:https://folkalender.dk
X-WR-CALDESC:Begivenheder for Folkalender
REFRESH-INTERVAL;VALUE=DURATION:PT1H
X-Robots-Tag:noindex
X-PUBLISHED-TTL:PT1H
BEGIN:VTIMEZONE
TZID:Europe/Helsinki
BEGIN:DAYLIGHT
TZOFFSETFROM:+0200
TZOFFSETTO:+0300
TZNAME:EEST
DTSTART:20240331T010000
END:DAYLIGHT
BEGIN:STANDARD
TZOFFSETFROM:+0300
TZOFFSETTO:+0200
TZNAME:EET
DTSTART:20241027T010000
END:STANDARD
END:VTIMEZONE
BEGIN:VEVENT
DTSTART;TZID=Europe/Helsinki:20241003T193000
DTEND;TZID=Europe/Helsinki:20241003T203000
DTSTAMP:20260421T154914
CREATED:20240902T071112Z
LAST-MODIFIED:20240902T071112Z
UID:9586-1727983800-1727987400@folkalender.dk
SUMMARY:Zenobia
DESCRIPTION:Koncert med danske viser og sange samt Zenobias egne numre.
URL:https://folkalender.dk/arrangement/zenobia-60/
LOCATION:Herringe Kirke\, Rudmevej\, Ringe\, 5750\, Denmark
CATEGORIES:Koncert
ATTACH;FMTTYPE=image/jpeg:https://folkalender.dk/wp-content/uploads/2024/09/Zenobia_2_web.jpg
GEO:55.2044419;10.4484371
X-APPLE-STRUCTURED-LOCATION;VALUE=URI;X-ADDRESS=Herringe Kirke Rudmevej Ringe 5750 Denmark;X-APPLE-RADIUS=500;X-TITLE=Rudmevej:geo:10.4484371,55.2044419
END:VEVENT
BEGIN:VEVENT
DTSTART;TZID=Europe/Helsinki:20241003T200000
DTEND;TZID=Europe/Helsinki:20241003T213000
DTSTAMP:20260421T154914
CREATED:20240806T073810Z
LAST-MODIFIED:20240806T073810Z
UID:9243-1727985600-1727991000@folkalender.dk
SUMMARY:Ben Caplan (CA)
DESCRIPTION:Ben Caplan er et bemærkelsesværdigt canadisk musiknavn\, hvis talent strækker sig ud over konventionelle grænser. Han er mest kendt for sin unikke blanding af folkemusik\, klezmer\, cabaret\, blues og rock\, der skaber en dybtfølt og dynamisk lyd\, der er svær at glemme. Med sin dybe\, raspede stemme og en imponerende udstråling har Caplan en umiskendelig tilstedeværelse på scenen\, der fanger publikums opmærksomhed fra første øjeblik. \nGennem årene har Ben Caplan opnået anerkendelse og respekt både i Canada og internationalt. Publikum\, der deltager i en Ben Caplan-koncert\, kan forvente en rejse gennem en bred vifte af følelser. Fra hjerteskærende ballader til energispækkede numre formår Caplan at tage sit publikum med på en emotionel rutsjebanetur. \nMed sit unikke musikalske udtryk og en autentisk tilgang til sin kunst fortsætter Ben Caplan med at imponere og begejstre publikum verden over. Gennem sine ærlige og vedkommende tekster\, fortæller Ben Caplan historier om livet og tilværelsen\, som sætter sig i sjælen hos dem\, der lytter. I oktober 2024 kommer Ben Caplan til DK i sin dygtige trio!
URL:https://folkalender.dk/arrangement/ben-caplan-ca/
LOCATION:Fermaten\, Smallegade 4\, Herning\, 7400
CATEGORIES:Koncert
ORGANIZER;CN="Fermaten":MAILTO:mail@fermaten.dk
GEO:56.1368467;8.970104
X-APPLE-STRUCTURED-LOCATION;VALUE=URI;X-ADDRESS=Fermaten Smallegade 4 Herning 7400;X-APPLE-RADIUS=500;X-TITLE=Smallegade 4:geo:8.970104,56.1368467
END:VEVENT
BEGIN:VEVENT
DTSTART;TZID=Europe/Helsinki:20241004T173000
DTEND;TZID=Europe/Helsinki:20241004T223000
DTSTAMP:20260421T154914
CREATED:20240516T061019Z
LAST-MODIFIED:20240516T061019Z
UID:8809-1728063000-1728081000@folkalender.dk
SUMMARY:Nybøl IKF & Group BUSSTOP's efterårsfest 2024
DESCRIPTION:NIKF & Group BUSSTOP inviterer til hygge/ danseaften med varm buffet fra Ahlmannsparken’s Cafeteria og et par timers nostalgisk 60’er + 70’er musik i BHJ Salen\, Gråsten.\nBilletpris kr. 295\,- pr. person \nProgram:\nkl. 17:30 – dørene og baren åbner\nkl. 18:00 – kort intro + den varme ta’-selv-buffet åbner\nkl. 20:00 – velkomst + Group BUSSTOP spiller første sæt nostalgisk 60’er + 70’er danse/ hyggemusik\nkl. 21:00 – pause med udlodning af diverse BUSSTOP effekter\, bl.a. de kendte vinglas med logo\nkl. 21:30 – Group BUSSTOP spiller andet sæt nostalgisk 60’er + 70’er danse/ hyggemusik\nkl. 22:30 – afslutning
URL:https://folkalender.dk/arrangement/nyboel-ikf-group-busstops-efteraarsfest-2024/
LOCATION:BHJ Salen\, BHJ-salen\, Ahlmannsparken\, Ahlefeldvej 4\,\, Gråsten\, 6300
CATEGORIES:Bal,Koncert
ATTACH;FMTTYPE=image/jpeg:https://folkalender.dk/wp-content/uploads/2024/05/2024-efteraarsfest-BHJ.jpg
ORGANIZER;CN="Nyb%C3%B8l Idr%C3%A6ts- og Kulturforening":MAILTO:info@nybol-if.dk
GEO:54.9194884;9.590485
X-APPLE-STRUCTURED-LOCATION;VALUE=URI;X-ADDRESS=BHJ Salen BHJ-salen Ahlmannsparken Ahlefeldvej 4 Gråsten 6300;X-APPLE-RADIUS=500;X-TITLE=BHJ-salen\, Ahlmannsparken\, Ahlefeldvej 4\,:geo:9.590485,54.9194884
END:VEVENT
BEGIN:VEVENT
DTSTART;TZID=Europe/Helsinki:20241004T190000
DTEND;TZID=Europe/Helsinki:20241004T210000
DTSTAMP:20260421T154914
CREATED:20240917T083616Z
LAST-MODIFIED:20240917T083645Z
UID:9921-1728068400-1728075600@folkalender.dk
SUMMARY:Koncert Rustik
DESCRIPTION:Med en blanding af folkemusik fra de britiske øer og Norden\, skaber de en dejlig stemning\, der får folk til at synge med og danse\nTid\n19:00 – 21:00\nSted\n2. sal\nBibliotek\nHovedbiblioteket\nAdresse\nØstergade 25\n7800 Skive\nDanmark\nMedlemmerne:\nHans Lund – guitar og sang\, der sætter tonen med sin varme stemme.\nJens Dalby – bas\, som giver dybde og groove til musikken.\nSøren Charlie Ladefoged – fløjte og mundharpe\, der tilføjer en legende melodi.\nArne Ralston – sang\, guitar og banjo\, der binder det hele sammen med sin energi.\nHans Vestergaard – sang\, violin\, mandolin og på en god dag også sækkepibe\, som bringer en ekstra dimension til lydbilledet. \nGør dig klar til en oplevelse\, der både er underholdende og uforglemmelig!\nKoncerten er gratis og foregår på 2. sal
URL:https://folkalender.dk/arrangement/koncert-rustik/
LOCATION:skive bibliotek\, Østergade\, Skive\, 7800\, Denmark
CATEGORIES:Koncert
ATTACH;FMTTYPE=image/jpeg:https://folkalender.dk/wp-content/uploads/2024/09/IMG_9300.jpeg
GEO:56.5665305;9.0287238
X-APPLE-STRUCTURED-LOCATION;VALUE=URI;X-ADDRESS=skive bibliotek Østergade Skive 7800 Denmark;X-APPLE-RADIUS=500;X-TITLE=Østergade:geo:9.0287238,56.5665305
END:VEVENT
BEGIN:VEVENT
DTSTART;TZID=Europe/Helsinki:20241004T200000
DTEND;TZID=Europe/Helsinki:20241004T200000
DTSTAMP:20260421T154914
CREATED:20240705T120222Z
LAST-MODIFIED:20240705T120658Z
UID:9090-1728072000-1728072000@folkalender.dk
SUMMARY:Floating Sofa Quartet (FSQ)
DESCRIPTION:Floating Sofa Quartet (FSQ) er et prisvindende samarbejde mellem fire unge nordiske spillemænd og -kvinder fra hhv. Sverige\, Finland og Danmark. Med en enestående sammensætning af akustiske instrumenter blander kvartetten nyt og gammelt og skaber et unikt musikalsk udtryk som fremstår både moderne\, traditionelt og tidløst. Repertoiret er varieret\, lyden er varm og imødekommende\, og musikken leveres med intensitet\, energi og mærkbar spilleglæde. \nGruppen har indtil videre to anmelderroste albumudgivelser bag sig: “The Moon We Watch is the Same” som var nomineret til to Danish Music Awards for Årets Folk Udgivelse og Årets Komponist (Clara Tesch) i 2017\, og opfølgeren “Neighbourhood” som vandt prisen for Årets Folk Udgivelse ved DMAfolk/world-prisfest i 2019. I begrundelsen stod der bl.a.: “Alle er de betagende instrumentalister\, og kendes for tilsammen at levere et formidabelt sammenspil og en nærværende liveperformance når de turnérer rundt.(…) Prisen gives for med indlevelse\, inderlighed og på et højt kvalitetsniveau at skabe personlige fortolkninger af såvel traditionel musik som egne kompositioner.(…)” \nEntré: 150 kr.  \nDet er mulitgt at tilkøbe en 2-retters menu inden koncerten\, ligeledes til 150 kr.\nSpisning starter kl. 18.00. \nBilletter bestilles på tlf: 61476267.
URL:https://folkalender.dk/arrangement/floating-sofa-quartet-fsq/
LOCATION:Thorøhuse Forsamlingshus\, Drejet 7\, Assens\, 5610
CATEGORIES:Koncert
ATTACH;FMTTYPE=image/png:https://folkalender.dk/wp-content/uploads/2024/07/Skaermbillede-2024-07-05-140418-2.png
GEO:55.2440877;9.8930038
X-APPLE-STRUCTURED-LOCATION;VALUE=URI;X-ADDRESS=Thorøhuse Forsamlingshus Drejet 7 Assens 5610;X-APPLE-RADIUS=500;X-TITLE=Drejet 7:geo:9.8930038,55.2440877
END:VEVENT
BEGIN:VEVENT
DTSTART;TZID=Europe/Helsinki:20241005T160000
DTEND;TZID=Europe/Helsinki:20241005T170000
DTSTAMP:20260421T154914
CREATED:20240828T090703Z
LAST-MODIFIED:20240828T091439Z
UID:9425-1728144000-1728147600@folkalender.dk
SUMMARY:Koncert med Ravdal\, v. Hårslev Kirkes Festival
DESCRIPTION:I forbindelse med dette års festival\, vil der lørdag eftermiddag være mulighed for at opleve Ravdal.  \nRavdal spiller skandinavisk folkemusik iklædt nye klange med dansende rytmer og fortæller medlevende anekdoter om musikken.\nDuoen består af Tobias Dahl på klaver og Nathasja Vosgerau Hansen på violin. \nInden koncerten er der mulighed for at købe kaffe og kage\, lige som der efter koncerten er mulighed for at købe mad og drikke i pausen inden aftenens koncert med Mads Granum og Regitze Glenthøj.  \nKom til Hårslev Kirkes Festival i dagene 4-6.oktober 2024 og oplev musik for alle aldre og i forskellige genrer.
URL:https://folkalender.dk/arrangement/koncert-med-ravdal-v-haarselv-kirkes-festival/
LOCATION:Hårslev kirke\, Søndersø\, Præstegårdsvænget 1\, Søndersø\, 5471
CATEGORIES:Festival,Koncert
ATTACH;FMTTYPE=image/jpeg:https://folkalender.dk/wp-content/uploads/2024/08/71085001_2633832366680696_5583681192466579456_n.jpg
GEO:55.4985281;10.0978514
X-APPLE-STRUCTURED-LOCATION;VALUE=URI;X-ADDRESS=Hårslev kirke Søndersø Præstegårdsvænget 1 Søndersø 5471;X-APPLE-RADIUS=500;X-TITLE=Præstegårdsvænget 1:geo:10.0978514,55.4985281
END:VEVENT
BEGIN:VEVENT
DTSTART;TZID=Europe/Helsinki:20241005T160000
DTEND;TZID=Europe/Helsinki:20241005T235900
DTSTAMP:20260421T154914
CREATED:20240904T103616Z
LAST-MODIFIED:20240904T103616Z
UID:9676-1728144000-1728172740@folkalender.dk
SUMMARY:Balstival
DESCRIPTION:Vi har de sidste to år lavet et arrangement\, hvor vi bringer folkemusik og folkedans af den fineste slags til Brenderup Højskole. Det er et møde mellem den etablerede folkedans\, dygtige musikere\, den spirende Nordisk Dans\, højskoleelever fra hele verden og andre fra nær og fjern\, som har mod på at kaste sig ud i dansen. \nProgram \n16.00 – 17.30   Danseworkshop for begyndere (m.fl.) Lene Sand og Sandstorm \n18.00               Aftensmad \n19.30–20.25    Ane Rebekkas Arkade – (bestående af Anna Egholm Pedersen\, Nathasja Vosgerau Hansen\, Julie Heebøll og Kristine Heebøll) i salen \n20.30-21.30     Ove Andersen og Julian Svejgaard i Halmhuset \n22.00-22.55     Ane Rebekkas Arkade i salen \n23.00-24.00     Ove Andersen og Julian Svejgaard i Halmhuset \nTilmelding til aftensmad: \nIndbetal 80 kr på MobilePay 11905 og skriv Aftensmad + dit navn senest søndag d. 29/9 \nEntre til Balstival (inklusive danseworkshop) 200 kr.  \nBilletter kan købes på https://v2.billetten.dk/search/brenderup\, i BrenderupHus eller ved indgangen.
URL:https://folkalender.dk/arrangement/balstival-3/
LOCATION:Brenderup Højskole\, Stationsvej 54\, Brenderup\, 5464
CATEGORIES:Bal,Danseworkshop
ATTACH;FMTTYPE=image/jpeg:https://folkalender.dk/wp-content/uploads/2024/09/image7.jpeg
ORGANIZER;CN="Brenderup H&oslash%3Bjskoles Musikforening":MAILTO:mail@b-h-m.dk
GEO:55.4910562;9.9728878
X-APPLE-STRUCTURED-LOCATION;VALUE=URI;X-ADDRESS=Brenderup Højskole Stationsvej 54 Brenderup 5464;X-APPLE-RADIUS=500;X-TITLE=Stationsvej 54:geo:9.9728878,55.4910562
END:VEVENT
BEGIN:VEVENT
DTSTART;TZID=Europe/Helsinki:20241005T183000
DTEND;TZID=Europe/Helsinki:20241005T223000
DTSTAMP:20260421T154914
CREATED:20240920T201326Z
LAST-MODIFIED:20240920T201326Z
UID:9985-1728153000-1728167400@folkalender.dk
SUMMARY:Tradish på Magion i Grindsted
DESCRIPTION:Vær med til en skøn aften med en lækker 2-retters menu og skønne toner når TRADISH spiller op med irsk musik. \nMenu\nSpisning: kl. 18.30 \nForret: Kåltærte – æbler – bacon\nHovedret: Klassisk irsk stew på oksekød \nSalg af irsk whisky – irsk øl – irish coffee \nSkulle I have yderligere spørgsmål vedrørende spisning eller specielle ønsker\, er I velkommen til at skrive en forespørgsel på oe@magion.dk eller ringe til caféen på 30 52 43 33. \nBilletter\nBilletsalget starter lørdag den 1. juni kl. 12.00 \nBilletpris for musik + spisning: 275 kr. + gebyr. \nKøb dine billetter her. \nPraktisk Information\nMusik og spisning afvikles på Torvet i MAGION. \n18.00 Dørene åbner\n18.30 – 20.00 Spisning\n20.00 – 20.45 Første sæt af koncerten\n20.45 – 21.15 Pause\n21.15 – 21.45 Danseinstruktion til irsk sætdans. Alle kan være med.\n21.45 – 22.15 Andet sæt af koncerten. \nYderligere praktisk information \nOvernatning – besøg Hotel Hedemarken eller Danhostel \nArrangør: MAGION Kultur- & Idrætscenter + UKH – Grindsteds Unge og Kulturhus
URL:https://folkalender.dk/arrangement/tradish-paa-magion-i-grindsted/
LOCATION:Magion\, Grindsted\, Tinghusgade\, Grindsted\, 7200\, Denmark
CATEGORIES:Koncert
ATTACH;FMTTYPE=image/jpeg:https://folkalender.dk/wp-content/uploads/2024/09/akustisk.jpeg
ORGANIZER;CN="Magion":MAILTO:kontakt@magion.dk
GEO:55.7528725;8.9212584
X-APPLE-STRUCTURED-LOCATION;VALUE=URI;X-ADDRESS=Magion Grindsted Tinghusgade Grindsted 7200 Denmark;X-APPLE-RADIUS=500;X-TITLE=Tinghusgade:geo:8.9212584,55.7528725
END:VEVENT
BEGIN:VEVENT
DTSTART;TZID=Europe/Helsinki:20241005T190000
DTEND;TZID=Europe/Helsinki:20241005T230000
DTSTAMP:20260421T154914
CREATED:20240804T120447Z
LAST-MODIFIED:20240804T120914Z
UID:9227-1728154800-1728169200@folkalender.dk
SUMMARY:Sønderho og Lejre danse
DESCRIPTION:Særegne og fantastiske danse og melodier på Lejreegnen for 100 – 200 år siden flettes med dans og musik i Sønderho for 50 år siden. Begge ses dermed i nyt lys.\nPoul Bjerager\, violin\nRune Barslund\, harmonika\nFrederik Mensink\, bas
URL:https://folkalender.dk/arrangement/soenderho-og-lejre-danse/
LOCATION:Broby Gamle Skole\, Broby\, Sorø\, Suserupvej 55\, Sorø\, 4180
CATEGORIES:Bal
ATTACH;FMTTYPE=image/jpeg:https://folkalender.dk/wp-content/uploads/2024/08/bjerager_barslund_mensink-.jpg
ORGANIZER;CN="Folkekulturv&aelig%3Brkstedet Broby Gamle Skole":MAILTO:pha@bgsbroby.dk
GEO:55.3960755;11.6182675
X-APPLE-STRUCTURED-LOCATION;VALUE=URI;X-ADDRESS=Broby Gamle Skole Broby Sorø Suserupvej 55 Sorø 4180;X-APPLE-RADIUS=500;X-TITLE=Suserupvej 55:geo:11.6182675,55.3960755
END:VEVENT
BEGIN:VEVENT
DTSTART;TZID=Europe/Helsinki:20241006T140000
DTEND;TZID=Europe/Helsinki:20241006T170000
DTSTAMP:20260421T154914
CREATED:20240425T110350Z
LAST-MODIFIED:20241121T121526Z
UID:8703-1728223200-1728234000@folkalender.dk
SUMMARY:Søndagsdans på Museum Rebild
DESCRIPTION:Hver søndag eftermiddag året rundt inviterer Rebild Spillemændene til gammeldans i museets sal. Repertoiret er for alle\, også nybegyndere i gammeldans og folkedans.  \nTraditionen med søndagsdans har eksisteret siden museets start i 1951. Her vedligeholdes den himmerlandske dansetradition\, som den har været kendt i mange generationer. Det foregår som et regulært bal\, hvor musikken leveres af en af gruppe fra Rebild Spillemandslaug.  \nSom nybegynder er der rig mulighed for at danse med rutinerede dansere\, hvilket er en god måde at lære trinene på. Alle kan deltage\, selv om de ikke kender til folkedans i forvejen. Der er erfarne dansere\, som kan lære fra sig\, så alle får et par sjove og lærerige timer og måske bliver bidt af folkedansen. Der danses i et par timer\, afbrudt af en kaffepause\, hvor der kan købes kaffe og brød i museets cafe. Café og butik er åben søndage fra kl 13. Der er mulighed for at forudbestille kaffe og kage kl.14 når musikken starter\, så er det klar til pausen kl. 15.30.
URL:https://folkalender.dk/arrangement/soendagsdans-paa-museum-rebild/2024-10-06/
LOCATION:Museum Rebild\, Rebildvej 25B\, Rebild\, Skørping\, 9520
CATEGORIES:Bal,Legestue
ATTACH;FMTTYPE=image/jpeg:https://folkalender.dk/wp-content/uploads/2024/04/dans_i_Salen.jpg
ORGANIZER;CN="Museum Rebild":MAILTO:spillemandsmuseet@mail.dk
END:VEVENT
END:VCALENDAR