BEGIN:VCALENDAR
VERSION:2.0
PRODID:-//Folkalender - ECPv6.10.1.1//NONSGML v1.0//EN
CALSCALE:GREGORIAN
METHOD:PUBLISH
X-ORIGINAL-URL:https://folkalender.dk
X-WR-CALDESC:Begivenheder for Folkalender
REFRESH-INTERVAL;VALUE=DURATION:PT1H
X-Robots-Tag:noindex
X-PUBLISHED-TTL:PT1H
BEGIN:VTIMEZONE
TZID:Europe/Helsinki
BEGIN:DAYLIGHT
TZOFFSETFROM:+0200
TZOFFSETTO:+0300
TZNAME:EEST
DTSTART:20230326T010000
END:DAYLIGHT
BEGIN:STANDARD
TZOFFSETFROM:+0300
TZOFFSETTO:+0200
TZNAME:EET
DTSTART:20231029T010000
END:STANDARD
END:VTIMEZONE
BEGIN:VEVENT
DTSTART;TZID=Europe/Helsinki:20231031T200000
DTEND;TZID=Europe/Helsinki:20231031T220000
DTSTAMP:20260423T073448
CREATED:20231009T104100Z
LAST-MODIFIED:20231009T104255Z
UID:7191-1698782400-1698789600@folkalender.dk
SUMMARY:BRAGR
DESCRIPTION:BRAGR – Lyden af skandinavien (bragr.dk) \nBandet giver den skandinaviske folkemusiktradition et nutidigt udtryk med både traditionelle melodier og egne kompositioner. Musikken fremstår brusende og frisk\, arrangementerne er spændende og overraskende.\nPerry Stenbäck: Nyckelharpa\, guitar\nChristine Dueholm: Loota Percussion trommesæt\, vocal\nKristian Bisgaard: Klaver\, harmonika\, vocal\nJesper Frost Bylling: Bas\, vocal
URL:https://folkalender.dk/arrangement/bragr-4/
LOCATION:Paletten\, Tingvej 20\, Viborg\, 8800
CATEGORIES:Koncert
ATTACH;FMTTYPE=image/jpeg:https://folkalender.dk/wp-content/uploads/2023/10/BRAGR-3.jpg
GEO:56.4550826;9.4039116
X-APPLE-STRUCTURED-LOCATION;VALUE=URI;X-ADDRESS=Paletten Tingvej 20 Viborg 8800;X-APPLE-RADIUS=500;X-TITLE=Tingvej 20:geo:9.4039116,56.4550826
END:VEVENT
BEGIN:VEVENT
DTSTART;TZID=Europe/Helsinki:20231101T193000
DTEND;TZID=Europe/Helsinki:20231101T223000
DTSTAMP:20260423T073448
CREATED:20231006T214022Z
LAST-MODIFIED:20231006T214247Z
UID:7154-1698867000-1698877800@folkalender.dk
SUMMARY:Bog-release - Mit musikalske modersmål
DESCRIPTION:Kom og vær med til at fejre bog-release på: Mit musikalske modersmål.\nOplæsning\, fortælling\, musik og lidt godt til ganen. Efter det er der forhåbentlig mere musik. Man kan jo tage et instrument med.. og så kan man købe mere drikkelse i baren.\nDer er gratis entre\, men man SKAL bestille (gratis)billetter\nel8230.dk\nVi har lov at feste\, spille\, snakke indtil midnat. Så nu må vi se\, hvor længe folk har lyst til at hænge ud 😃 ❤\nDer er et par stykker fra bogen\, der har meldt deres ankomst.\nMedvirkende i bogen:\nAnders Chr. N. Christensen\nBenny Holst\nFin Alfred Larsen\nPovl Dissing\nHans Jørgen Christensen\nVagn Dahl Hansen\nLeif Varmark\nLevino Enoch Jensen\nHarald Haugaard\nPoul Lendal\nCarl Erik Lundgaard\nKlaus Pindstrup\nLars Lilholt\nJacob Hogrebe\nLilian Vammen\nTove de Fries\nDwight Lamb
URL:https://folkalender.dk/arrangement/bog-release-mit-musikalske-modersmaal/
LOCATION:Elværket Åbyhøj\, Thorsvej 4\, Åbyhøj\, 8230
ATTACH;FMTTYPE=image/jpeg:https://folkalender.dk/wp-content/uploads/2023/10/230811Zenobia0106-2-1-scaled.jpg
GEO:56.1545532;10.1653251
X-APPLE-STRUCTURED-LOCATION;VALUE=URI;X-ADDRESS=Elværket Åbyhøj Thorsvej 4 Åbyhøj 8230;X-APPLE-RADIUS=500;X-TITLE=Thorsvej 4:geo:10.1653251,56.1545532
END:VEVENT
BEGIN:VEVENT
DTSTART;TZID=Europe/Helsinki:20231102T193000
DTEND;TZID=Europe/Helsinki:20231102T193000
DTSTAMP:20260423T073448
CREATED:20230909T204831Z
LAST-MODIFIED:20230909T204916Z
UID:6976-1698953400-1698953400@folkalender.dk
SUMMARY:Mirja Klippel
DESCRIPTION:Med en stor stemme\, et inderligt klangunivers og en sans for at skrive sange\, der forbinder personlige erfaringer med billeder fra den nordiske natur\, har den finske sangskriver og sanger markeret sig som et særlig talent på den alternative folk-scene. \nAllerede hendes debut-EP Lift Your Lion (2016) indbragte den københavner-baserede musiker en Danish Music Award Folk som Årets Sangskriver. Siden har hun turneret flittigt i Danmark\, såvel som resten af Europa og Nordatlanten\, ligesom hun i 2018 udsendte det roste fuldlængde-album River of Silver. Hendes seneste album\, Slow Coming Alive\, fik tre nominationer ved Danish Music Awards Roots i 2021. \nMed dette album føjer Klippel atter nye nuancer til sin alternative og poetiske folk og fortsætter med at udvide dybderne og højderne i sin sangskrivning. Med sin faste medmusiker Alex Jønsson\, drager hun publikum ind i et organisk og atmosfærisk univers\, hvor personlige erfaringer åbner op for psykologiske dybder\, og hvor intime rum går hånd i hånd med rå og vilde landskaber. \nLine up:\nMirja Klippel: sang\, guitar & waldzither\nAlex Jønsson: guitar\, kor
URL:https://folkalender.dk/arrangement/mirja-klippel-11/
LOCATION:Grundtvigs Højskole\, Frederiksværksgade 147\, Hillerød\, 3400
CATEGORIES:Koncert
ATTACH;FMTTYPE=image/jpeg:https://folkalender.dk/wp-content/uploads/2023/09/folkalender-1.jpg
GEO:55.9412936;12.2684996
X-APPLE-STRUCTURED-LOCATION;VALUE=URI;X-ADDRESS=Grundtvigs Højskole Frederiksværksgade 147 Hillerød 3400;X-APPLE-RADIUS=500;X-TITLE=Frederiksværksgade 147:geo:12.2684996,55.9412936
END:VEVENT
BEGIN:VEVENT
DTSTART;TZID=Europe/Helsinki:20231102T193000
DTEND;TZID=Europe/Helsinki:20231102T213000
DTSTAMP:20260423T073448
CREATED:20231015T075436Z
LAST-MODIFIED:20231015T080147Z
UID:7248-1698953400-1698960600@folkalender.dk
SUMMARY:Koncert med Blum & Haugaard Band
DESCRIPTION:Der venter en koncert med Danmarks folk-diva nr. 1 Helene Blum\, der sammen med violinisten Harald Haugaard har etableret sig som nogle af de fineste fortolkere og fornyere af den danske folkemusiktradition.
URL:https://folkalender.dk/arrangement/koncert-med-blum-haugaard-band/
LOCATION:Plantagehuset\, Plantagevej 18\, Thisted\, 7700
CATEGORIES:Koncert
ATTACH;FMTTYPE=image/jpeg:https://folkalender.dk/wp-content/uploads/2023/10/Blum-Haugaard-by-Ard-Jongsma-kopi-2-scaled.jpg
GEO:56.956506;8.690752
X-APPLE-STRUCTURED-LOCATION;VALUE=URI;X-ADDRESS=Plantagehuset Plantagevej 18 Thisted 7700;X-APPLE-RADIUS=500;X-TITLE=Plantagevej 18:geo:8.690752,56.956506
END:VEVENT
BEGIN:VEVENT
DTSTART;TZID=Europe/Helsinki:20231103T173000
DTEND;TZID=Europe/Helsinki:20231105T173000
DTSTAMP:20260423T073448
CREATED:20230925T112835Z
LAST-MODIFIED:20230925T113809Z
UID:7101-1699032600-1699205400@folkalender.dk
SUMMARY:Jamcon: Fokus på rytmer v. Poul Lendal
DESCRIPTION:Hvorfor er rytmen så vigtig for at få jammen til at swinge?\nHvordan spiller jeg rytmisk?\nKan rytmen jammes? \nGarvede Poul Lendal tager os i hånden og inspirerer til at fokusere på rytmerne i jammen. Vi garanterer råhygge\, god tid til fordybelse og tid til at finde hinanden i musikken.  \nJamcon er en hyggelig weekend\, hvor vi mødes og spiller musik\, lærer af hinanden og af en inspirator\, snakker om musik og alt muligt andet\, spiser god mad og spiller endnu mere musik! Jamcon er for alle: der er både plads til at give den fuld gas for de erfarne og til at prøve sig frem og være ny på sit instrument eller i jammen.  Hvis du tror du ikke er god nok\, så er du det helt sikkert <3  \nVi glæder os til at se dig 🙂
URL:https://folkalender.dk/arrangement/jamcon-fokus-paa-rytmer-v-poul-lendal/
LOCATION:Årslev\, Fyn\, Godthåbsvej 85\, 4. tv\, 2000
CATEGORIES:Jam,Kursus,Spilleworkshop,Stævne
ATTACH;FMTTYPE=image/png:https://folkalender.dk/wp-content/uploads/2023/09/Jamcon-logo.png
ORGANIZER;CN="Jamcon":MAILTO:JamCon@JamCon.dk
GEO:55.6887239;12.5231419
X-APPLE-STRUCTURED-LOCATION;VALUE=URI;X-ADDRESS=Årslev Fyn Godthåbsvej 85 4. tv 2000;X-APPLE-RADIUS=500;X-TITLE=Godthåbsvej 85\, 4. tv:geo:12.5231419,55.6887239
END:VEVENT
BEGIN:VEVENT
DTSTART;TZID=Europe/Helsinki:20231103T190000
DTEND;TZID=Europe/Helsinki:20231103T190000
DTSTAMP:20260423T073448
CREATED:20231013T101421Z
LAST-MODIFIED:20231013T103214Z
UID:7237-1699038000-1699038000@folkalender.dk
SUMMARY:TRADISH + Irish Revival – Irsk aften
DESCRIPTION:Irsk aften i Langtved forsamlingshus med to spændende bands: IRISH REVIVAL er et nydannet lokalt band med Joe Reilly i front\, der spiller de gode\, kendte irske sange. TRADISH blev dannet i 2009 og har optrådt på hundredvis af scener på tværs af Europa og som en del af den levende irske musiktradition spiller Tradish sig ind i en spændende og livsbekræftende blanding af det gamle og det nye\, fortid og nutid\, med en stærk forankring og respekt for rødderne.\nFredag den 3. november kl. 19. Pris: 300 kroner\, inklusiv spisning.
URL:https://folkalender.dk/arrangement/tradish-irsk-aften/
LOCATION:Langtved Forsamlingshus\, Langtvedvej 15\, Ullerslev\, 5540
CATEGORIES:Koncert
ATTACH;FMTTYPE=image/jpeg:https://folkalender.dk/wp-content/uploads/2023/10/thumb500-909573610d01c1b40a17131c4993f9280acaae.jpg
ORGANIZER;CN="Langtved Forsamlingshus":MAILTO:info@langtvedforsamlingshus.dk
GEO:55.3947109;10.6882838
X-APPLE-STRUCTURED-LOCATION;VALUE=URI;X-ADDRESS=Langtved Forsamlingshus Langtvedvej 15 Ullerslev 5540;X-APPLE-RADIUS=500;X-TITLE=Langtvedvej 15:geo:10.6882838,55.3947109
END:VEVENT
BEGIN:VEVENT
DTSTART;TZID=Europe/Helsinki:20231103T190000
DTEND;TZID=Europe/Helsinki:20231103T230000
DTSTAMP:20260423T073448
CREATED:20231003T150030Z
LAST-MODIFIED:20231003T151750Z
UID:7114-1699038000-1699052400@folkalender.dk
SUMMARY:Gammeldags Halmbal
DESCRIPTION:Bal i forsamlingshuset i Dåstrup ved Viby Sj. KontradansOrkestret og KontradansRoskilde/Lejre fyrer den af med ny-udgravede gamle danse og melodier fra Dåstrup og Roskilde/Lejregnen\, som nedskrevet i 1901. Superfede og overraskende ukendte danse. Vi viser og danser for og så kører dansen umiddelbart uden yderligere ord. Dettte bliver det første i en serie af “Halmballer”\, hvor vi bringer dansen og musikken tilbage til findestedet. Arr: Dåstrup Forsamlingshus.
URL:https://folkalender.dk/arrangement/gammeldags-halmbal/
LOCATION:Dåstrup Forsamlingshus\, Byvejen 15\, Dåstrup pr Viby\, 4130 Viby Sj.
CATEGORIES:Bal
ATTACH;FMTTYPE=image/jpeg:https://folkalender.dk/wp-content/uploads/2023/10/Kontrakvadrat.jpeg
GEO:55.5554905;12.011046
X-APPLE-STRUCTURED-LOCATION;VALUE=URI;X-ADDRESS=Dåstrup Forsamlingshus Byvejen 15 Dåstrup pr Viby 4130 Viby Sj.;X-APPLE-RADIUS=500;X-TITLE=Byvejen 15:geo:12.011046,55.5554905
END:VEVENT
BEGIN:VEVENT
DTSTART;TZID=Europe/Helsinki:20231103T193000
DTEND;TZID=Europe/Helsinki:20231103T223000
DTSTAMP:20260423T073448
CREATED:20221227T143948Z
LAST-MODIFIED:20221227T143948Z
UID:5203-1699039800-1699050600@folkalender.dk
SUMMARY:Farvergade
DESCRIPTION:Gruppen består af  Clara Tesch\, Julian Svejgaard Jørgensen og Mads Kjøller Henningsen og har taget navn efter stedet de spiller til dans I København. Arrangementet er støttet af Odense Musikudvalg\, Kunststyrelsen og Marie Rasmussens Fond
URL:https://folkalender.dk/arrangement/farvergade/
LOCATION:Kulturmaskinen Odense\, Farvergården 7\, Odense\, 5000
CATEGORIES:Bal
GEO:55.3955926;10.3808671
X-APPLE-STRUCTURED-LOCATION;VALUE=URI;X-ADDRESS=Kulturmaskinen Odense Farvergården 7 Odense 5000;X-APPLE-RADIUS=500;X-TITLE=Farvergården 7:geo:10.3808671,55.3955926
END:VEVENT
BEGIN:VEVENT
DTSTART;TZID=Europe/Helsinki:20231103T200000
DTEND;TZID=Europe/Helsinki:20231103T223000
DTSTAMP:20260423T073448
CREATED:20230410T144246Z
LAST-MODIFIED:20230410T144246Z
UID:6131-1699041600-1699050600@folkalender.dk
SUMMARY:Koncert med The Alt - John Doyle\, Nuala Kennedy og Eamon O'Leary
DESCRIPTION:Flotte vokalharmonier og musikalitet i topklasse er blot nogle af kendetegnene for den irske trio The Alt\, der tager deres navn efter en mytisk lysning af samme navn\, beliggende på den ene side af bjerget Knocknarea i County Sligo i Irland. Det bjerg som siges at huse gravstedet for den forhistoriske\, irske krigerdronning Meave.\nDet vil være nærliggende at kalde The Alt for en supergruppe\, men kernen i trioen er de tre medlemmers venskab og fælles kærlighed til gode sange. Samme kærlighed til sange\, som irerne i sin tid medbragte til Amerika\, da de bosatte sig i bl.a. Appalacherne og lagde grundstenen til country-\, bluegrass- og old-timemusikken.\nMåske kender du John Doyle fra gruppen Solas og for hans samarbejde med Michael McGoldrick og John McCusker? Måske kender du Nuala Kennedy fra samarbejdet med gruppen Himmerland?
URL:https://folkalender.dk/arrangement/koncert-med-the-alt-john-doyle-nuala-kennedy-og-eamon-oleary/
LOCATION:Kulturhuset Rejsestalden.\, Hovedgaden 29a\, Jægerspris\, 3630
CATEGORIES:Koncert
ATTACH;FMTTYPE=image/jpeg:https://folkalender.dk/wp-content/uploads/2023/04/LPxkVQK5.jpeg
ORGANIZER;CN="Musik mellem Fjordene":MAILTO:musikmellemfjordene@gmail.com
GEO:55.8554115;11.9825747
X-APPLE-STRUCTURED-LOCATION;VALUE=URI;X-ADDRESS=Kulturhuset Rejsestalden. Hovedgaden 29a Jægerspris 3630;X-APPLE-RADIUS=500;X-TITLE=Hovedgaden 29a:geo:11.9825747,55.8554115
END:VEVENT
BEGIN:VEVENT
DTSTART;VALUE=DATE:20231104
DTEND;VALUE=DATE:20231106
DTSTAMP:20260423T073448
CREATED:20230726T193518Z
LAST-MODIFIED:20230726T194100Z
UID:6661-1699056000-1699228799@folkalender.dk
SUMMARY:Børne-Unge balladeweekend
DESCRIPTION:Velkommen til balladeweekend på Broby Gamle Skole – et hyggeligt døgn med sang\, dans\, musik\, leg og fortællinger for små og store.\nAlle kan deltage – weekenden er planlagt\, så der både er plads til ”erfarne ballademagere” og dem\, der deltager for første gang. \nSe hjemmesiden for nærmere oplysninger om weekenden\, samt oplysninger om priser\, tilmelding og betaling
URL:https://folkalender.dk/arrangement/boerne-unge-balladeweekend-2/
LOCATION:Broby Gamle Skole\, Broby\, Sorø\, Suserupvej 55\, Sorø\, 4180
CATEGORIES:Stævne
ATTACH;FMTTYPE=image/jpeg:https://folkalender.dk/wp-content/uploads/2023/07/FKV-in9.jpg
ORGANIZER;CN="Folkekulturv&aelig%3Brkstedet Broby Gamle Skole":MAILTO:pha@bgsbroby.dk
GEO:55.3960755;11.6182675
X-APPLE-STRUCTURED-LOCATION;VALUE=URI;X-ADDRESS=Broby Gamle Skole Broby Sorø Suserupvej 55 Sorø 4180;X-APPLE-RADIUS=500;X-TITLE=Suserupvej 55:geo:11.6182675,55.3960755
END:VEVENT
BEGIN:VEVENT
DTSTART;TZID=Europe/Helsinki:20231104T160000
DTEND;TZID=Europe/Helsinki:20231104T233000
DTSTAMP:20260423T073448
CREATED:20230911T110857Z
LAST-MODIFIED:20231004T165110Z
UID:6988-1699113600-1699140600@folkalender.dk
SUMMARY:BALSTIVAL
DESCRIPTION:Balstival – Bal og Festival er en folkemusikfestival på Brenderup Højskole for alle interesserede! \nSom sidste år bringes folkemusik og folkedans af den bedste slags til Brenderup Højskole. \nBalstival bliver et møde mellem den etablerede folkedans\, dygtige musikere\, den spirende nordiske dans\, højskoleelever fra hele verden og andre fra nær og fjern\, med lyst til at kaste sig ud i dansen.\nOm eftermiddagen er der Danseworkshop med Lene Sand og ”Sandtorm.”\nSpis med på højskolen. Spisebilletter skal købes senest ugen før:\nOm aftenen er der bal hvor to folkemusikbands i gymnastiksalen og Halmhuset\nBaren er åben hele aftenen! \nProgram\n16.00 – 17.30 Danseworkshop for begyndere (m.fl.) Lene Sand og Sandstorm\n18.00 Aftensmad*(tilmelding nødvendig)\n19.30–20.30 ”Thorhauge\, Nielsen og Kongsted” i salen\n20.30-21.30 ”Heebøll og Vinther” i Halmhuset\n22.00-23.00 ”Thorhauge\, Nielsen og Kongsted” i salen\n23.00-24.00 ”Heebøll og Vinther” i Halmhuset \n*Tilmelding til aftensmad:\nIndbetal 80 kr på MobilePay 11905 og skriv aftensmad + dit navn senest søndag d. 29/10\nEntre til Balstival (inklusive danseworkshop) 150 kr https://www.b-h-m.dk/
URL:https://folkalender.dk/arrangement/balstival-2/
LOCATION:Brenderup Højskole\, Stationsvej 54\, Brenderup\, 5464
CATEGORIES:Bal
ATTACH;FMTTYPE=image/png:https://folkalender.dk/wp-content/uploads/2023/09/Skaermbillede-2023-09-11-kl.-13.08.07.png
ORGANIZER;CN="Brenderup H&oslash%3Bjskoles Musikforening":MAILTO:mail@b-h-m.dk
GEO:55.4910562;9.9728878
X-APPLE-STRUCTURED-LOCATION;VALUE=URI;X-ADDRESS=Brenderup Højskole Stationsvej 54 Brenderup 5464;X-APPLE-RADIUS=500;X-TITLE=Stationsvej 54:geo:9.9728878,55.4910562
END:VEVENT
BEGIN:VEVENT
DTSTART;TZID=Europe/Helsinki:20231104T200000
DTEND;TZID=Europe/Helsinki:20231104T220000
DTSTAMP:20260423T073448
CREATED:20230327T085357Z
LAST-MODIFIED:20230929T082507Z
UID:6078-1699128000-1699135200@folkalender.dk
SUMMARY:Kennedy\, O’Leary\, O’Connor i Haslev Folk Club
DESCRIPTION:Nuala Kennedy & Eamon O’Leary with Gery O’Connor.  \nDe musikalske legekammerater Nuala Kennedy (fløjte\, sang) fra County Louth og Eamon O’Leary (guitar\, sang) fra Dublin har spillet sammen siden 2011\, da Nuala flyttede til New York\, hvor Eamon har boet i mere end 20 år. De fandt en fælles interesse for og kærlighed til den traditionelle irske og skotske musik samt det at arrangere og skrive nye sange. \nNuala og Eamon er begge to garvede musikanter\, der har turneret vidt og bredt sammen og spillet både på store festivaler i Europa\, Nordamerika\, Australien og på små\, akustiske spillesteder i mere fjerne egne såsom Newfoundland\, Alaska og ved polarcirklen. De er begge kendt for deres instrumentale færdigheder og smukke vokalharmonier\, men også for deres varierede repertoire af traditionelle og nyskrevne sange. Med en underspillet virtuositet præsenterer de to en tidløs samling sange – med historier om kærlighed og frieri\, om arbejde og ritualer\, om emigration\, krig og mange andre temaer. \nPå deres Danmarksturné medbringer Nuala og Eamon den fremragende violinist Gerry O’Connor\, der ligesom Nuala er fra Dundalk i County Louth. Gerry har været med til at danne bands som Lá Lugh\, Skylark og Oirialla – sidstnævnte i øvrigt sammen med Nuala. Gerrys violinspil er kendetegnet ved en livlighed og pulserende rytme\, som han tilskriver sine tidlige år som stepdanser. Udover sit virke som violinist\, så er Gerry O’Connor også en velrenommeret violinbygger og producer samt en meget efterspurgt violintutor. \nSammen præsenterer Nuala\, Eamon og Gerry en flot koncertaften\, der byder på både traditionsrig\, nyfortolket og nyskrevet irsk musik. \nTrioens turné er støttet af Culture Ireland. \nHaslev Folk Club’s koncerter støttes af Statens Kunstråd og Faxe Kommune
URL:https://folkalender.dk/arrangement/the-alt-i-haslev-folk-club/
LOCATION:Kultunariet\, Haslev\, Søndergade 12\, Haslev\, 4690
CATEGORIES:Koncert
ATTACH;FMTTYPE=image/jpeg:https://folkalender.dk/wp-content/uploads/2023/03/Gerry-Nuala-Eamon-web.jpg
GEO:55.325162;11.956355
X-APPLE-STRUCTURED-LOCATION;VALUE=URI;X-ADDRESS=Kultunariet Haslev Søndergade 12 Haslev 4690;X-APPLE-RADIUS=500;X-TITLE=Søndergade 12:geo:11.956355,55.325162
END:VEVENT
END:VCALENDAR