BEGIN:VCALENDAR
VERSION:2.0
PRODID:-//Folkalender - ECPv6.10.1.1//NONSGML v1.0//EN
CALSCALE:GREGORIAN
METHOD:PUBLISH
X-WR-CALNAME:Folkalender
X-ORIGINAL-URL:https://folkalender.dk
X-WR-CALDESC:Begivenheder for Folkalender
REFRESH-INTERVAL;VALUE=DURATION:PT1H
X-Robots-Tag:noindex
X-PUBLISHED-TTL:PT1H
BEGIN:VTIMEZONE
TZID:Europe/Helsinki
BEGIN:DAYLIGHT
TZOFFSETFROM:+0200
TZOFFSETTO:+0300
TZNAME:EEST
DTSTART:20230326T010000
END:DAYLIGHT
BEGIN:STANDARD
TZOFFSETFROM:+0300
TZOFFSETTO:+0200
TZNAME:EET
DTSTART:20231029T010000
END:STANDARD
END:VTIMEZONE
BEGIN:VEVENT
DTSTART;TZID=Europe/Helsinki:20231018T190000
DTEND;TZID=Europe/Helsinki:20231018T220000
DTSTAMP:20260423T073250
CREATED:20230604T092222Z
LAST-MODIFIED:20231017T071220Z
UID:6444-1697655600-1697666400@folkalender.dk
SUMMARY:Kom og dans I Rosenbækhuset
DESCRIPTION:Folkemusiklauget Fynboerne spiller op til dans og alle er velkomne til at danse med. Allerede kl 18.30 kan du komme og lære nogle grundtrin så du lettere kan være med når ballet starter. NB Flyttet til Rosenbækhuset NB
URL:https://folkalender.dk/arrangement/kom-og-dans-10/
LOCATION:Rosenbækhuset Odense\, Rosenbæk Torv 30\, Odense\, 5000
CATEGORIES:Bal
ATTACH;FMTTYPE=image/jpeg:https://folkalender.dk/wp-content/uploads/2023/06/20230531_205719-scaled.jpg
GEO:55.3948054;10.3795503
X-APPLE-STRUCTURED-LOCATION;VALUE=URI;X-ADDRESS=Rosenbækhuset Odense Rosenbæk Torv 30 Odense 5000;X-APPLE-RADIUS=500;X-TITLE=Rosenbæk Torv 30:geo:10.3795503,55.3948054
END:VEVENT
BEGIN:VEVENT
DTSTART;TZID=Europe/Helsinki:20231020T193000
DTEND;TZID=Europe/Helsinki:20231020T230000
DTSTAMP:20260423T073250
CREATED:20230918T161517Z
LAST-MODIFIED:20230918T161744Z
UID:7040-1697830200-1697842800@folkalender.dk
SUMMARY:Bal med Ribe Danse- og Spillemandslaug
DESCRIPTION:Der vil blive instrueret i dansene efter behov så kom frit frem både nybegyndere og øvede. Midt på aftenen drikker vi kaffe og spiser hjemmebagt kage.\nI kaffepausen kan der være forskelligt underholdning så som\, fælles sang\, div. solooptræden med musik eller sang og historie fortælling mm.\nKom og vær med til en glad aften.
URL:https://folkalender.dk/arrangement/bal-med-ribe-danse-og-spillemandslaug-5/
LOCATION:Rosen Alle 3\, 6760 Ribe\, Rosen Alle 3\, Ribe\, 6760
CATEGORIES:Bal
ATTACH;FMTTYPE=image/jpeg:https://folkalender.dk/wp-content/uploads/2023/09/Logo_Ribelaug-1.jpg
ORGANIZER;CN="Ribe Danse- og Spillemandslaug":MAILTO:ribelaug@gmail.com
GEO:55.3285578;8.7700979
X-APPLE-STRUCTURED-LOCATION;VALUE=URI;X-ADDRESS=Rosen Alle 3 6760 Ribe Rosen Alle 3 Ribe 6760;X-APPLE-RADIUS=500;X-TITLE=Rosen Alle 3:geo:8.7700979,55.3285578
END:VEVENT
BEGIN:VEVENT
DTSTART;TZID=Europe/Helsinki:20231020T200000
DTEND;TZID=Europe/Helsinki:20231020T230000
DTSTAMP:20260423T073250
CREATED:20230213T161414Z
LAST-MODIFIED:20230317T091203Z
UID:5707-1697832000-1697842800@folkalender.dk
SUMMARY:The Dublin Legends / The Dubliners
DESCRIPTION:Glæd jer til en aften i selskab med musikalske legender og velkendte sange og klassikere. Whiskey in The Jar\, Dirty Old Town\, The Wild Rover\, Seven Drunken Nights\, The Rare Auld Times\, Finnegan’s Wake\, Molly Malone\, The Monto\, Hand Me Down Me Bible\, The Irish Rover\, Black Velvet Band og mange mange flere. \nOplev legenderne i irsk folkemusik Sean Cannon\, Shay Kavanagh\, Paul Watchorn og Gerry O’Connor\, når de under navnet The Dublin Legends viderefører arven efter The Dubliners\, der stoppede som band\, da “Banjo” Barney McKenna desværre døde. Drengene ser meget frem til igen at møde og underholde alle deres fans overalt på kloden og vil fortsætte med at spille alle de verdensberømte klassikere\, som The Dubliners er kendt for.
URL:https://folkalender.dk/arrangement/the-dublin-legends-the-dubliners/
LOCATION:Sidesporet\, Ahlgade 1B\, Holbæk\, 4300
CATEGORIES:Koncert
ATTACH;FMTTYPE=image/jpeg:https://folkalender.dk/wp-content/uploads/2023/02/Pressefoto-2018-bred-scaled.jpg
ORGANIZER;CN="Art &amp%3B Music Scandinavia":MAILTO:bent@art-music.dk
GEO:55.7189773;11.7070118
X-APPLE-STRUCTURED-LOCATION;VALUE=URI;X-ADDRESS=Sidesporet Ahlgade 1B Holbæk 4300;X-APPLE-RADIUS=500;X-TITLE=Ahlgade 1B:geo:11.7070118,55.7189773
END:VEVENT
BEGIN:VEVENT
DTSTART;TZID=Europe/Helsinki:20231021T140000
DTEND;TZID=Europe/Helsinki:20231021T151500
DTSTAMP:20260423T073250
CREATED:20230607T094119Z
LAST-MODIFIED:20230607T094546Z
UID:6472-1697896800-1697901300@folkalender.dk
SUMMARY:Zenobia
DESCRIPTION:Koncert med danske viser og sange samt Zenobias egne numre.\nKoncerten er i forbindelse med “Odsherred Kirkemusikfestival”.\nVarighed 70 min. uden pause.
URL:https://folkalender.dk/arrangement/zenobia-37/
LOCATION:Højby Sj. Kirke\, Bag Kirken 5\, Højby\, 4573
CATEGORIES:Koncert
ATTACH;FMTTYPE=image/jpeg:https://folkalender.dk/wp-content/uploads/2023/06/SAK_5858_01-scaled.jpg
GEO:55.9130837;11.5993843
X-APPLE-STRUCTURED-LOCATION;VALUE=URI;X-ADDRESS=Højby Sj. Kirke Bag Kirken 5 Højby 4573;X-APPLE-RADIUS=500;X-TITLE=Bag Kirken 5:geo:11.5993843,55.9130837
END:VEVENT
BEGIN:VEVENT
DTSTART;TZID=Europe/Helsinki:20231021T190000
DTEND;TZID=Europe/Helsinki:20231021T230000
DTSTAMP:20260423T073250
CREATED:20231009T071627Z
LAST-MODIFIED:20231009T072452Z
UID:7176-1697914800-1697929200@folkalender.dk
SUMMARY:FOLKAMOK præsenterer: KYSTNÆRT – Floating Sofa Quartet feat. Guro Kvifte Nesheim
DESCRIPTION:Traditionel nordisk kystmusik i nye klæder. Koncert med efterfølgende jamsession. \nKYSTNÆRT er et kunstnerisk samarbejde mellem den prisvindende finsk-/dansk-/svenske- folkemusikgruppe Floating Sofa Quartet og den prominente norske hardangerfele-spiller Guro Kvifte Nesheim. I projektet mødes fem spillemænd og -kvinder fra fire nordiske lande for at dykke ned i deres fælles musikalske traditioner fra de nordiske kystregioner. \nI snart ti år har Floating Sofa Quartet (FSQ) arbejdet med nordisk folkemusik på tværs af landegrænserne\, og de har efterhånden markeret sig som én af de fremmeste yngre grupper på den internationale folkemusikscene. Visionen har altid været at belyse de nordiske landes traditionelle forskelle og ligheder\, og samtidig skabe musik som både bevarer og fornyer den nordiske kulturarv. For dette arbejde modtog kvartetten bl.a. en Danish Music Award for albummet “Neighbourhood” som vandt prisen som Årets Folk Udgivelse i 2019. I begrundelsen stod der bl.a.:\n“Alle er de betagende instrumentalister\, og kendes for tilsammen at levere et formidabelt sammenspil og en nærværende liveperformance når de turnérer rundt.(…) Prisen gives for med indlevelse\, inderlighed og på et højt kvalitetsniveau at skabe personlige fortolkninger af såvel traditionel musik som egne kompositioner.(…)” \nIdéen til KYSTNÆRT-projektet opstod i forbindelse Showcase-festivalen Folkelarm i Oslo 2021\, da den fremragende unge “fele”-spiller Guro Kvifte Nesheim – af pandemiske årsager – måtte springe til som vikar for FSQ’s faste violinist Clara Tesch. I mødet med Floating Sofa Quartet blev Guro inspireret til at udforske et ganske særligt repertoire af violin- og hardangerfele-melodier fra Agder-regionen på Norges sydkyst; et repertoire som hun har haft med sig fra barnsben\, men aldrig har dyrket nærmere… \nKYSTNÆRT-koncerten tager således udgangspunkt i Agder-musikken\, med afstikkere til bl.a. Læsø\, Bornholm\, Bohuslän\, Skåne\, Østerbotten\, Korpo og Ålandsøerne. Musikken er instrumental og traditionel\, men samtidig vedkommende og tidløs. I flere tilfælde er der tale om migrerende musik uden “fast adresse”; melodier som har rejst vidt og bredt og formeret sig med søens folk på Skagerak\, Kattegat\, og Østersøen. Stig ombord og flyd med! \nMEDVIRKENDE:\nGuro Kvifte Nesheim – violin & hardangerfele (GKN5\, Nesheim/Edén\, Grit Quartet)\nMads Kjøller Henningsen – traversfløjte & nordisk sækkepibe (FSQ\, Lars Lilholt Band m.fl.)\nClara Tesch – violiner (FSQ\, Vesselil\, Farvergade)\nLeija Lautamaja  – Harmonika & trædeorgel (FSQ\, ENKEL\, Moon Twins)\nMalte Zeberg – Kontrabas (FSQ\, Trolska Polska\, Hialøsa\, Nü Fiona) \nLINKS:\nYouTube-klip: https://www.youtube.com/watch?v=yU9g03guHng\nHjemmside: http://www.floatingsofaquartet.com/\nFacebook: https://www.facebook.com/floatingsofaquartet/\nInstagram: https://www.instagram.com/floatingsofaquartet/\nSpotify: https://open.spotify.com/artist/1FFWnsdhPdPAPaEjS2cm9l?si=4v8ub1t6S2GpXUBmBn94GA
URL:https://folkalender.dk/arrangement/folkamok-x-kystnaert-floating-sofa-quartet-feat-guro-kvifte-nesheim/
LOCATION:Bartof Station\, Solbjergvej 3\, Frederiksberg\, 2000
CATEGORIES:Koncert
ATTACH;FMTTYPE=image/jpeg:https://folkalender.dk/wp-content/uploads/2023/10/FSQ-2-web.jpg
GEO:55.6808561;12.5331568
X-APPLE-STRUCTURED-LOCATION;VALUE=URI;X-ADDRESS=Bartof Station Solbjergvej 3 Frederiksberg 2000;X-APPLE-RADIUS=500;X-TITLE=Solbjergvej 3:geo:12.5331568,55.6808561
END:VEVENT
BEGIN:VEVENT
DTSTART;TZID=Europe/Helsinki:20231021T200000
DTEND;TZID=Europe/Helsinki:20231021T230000
DTSTAMP:20260423T073250
CREATED:20230213T162331Z
LAST-MODIFIED:20230317T091225Z
UID:5713-1697918400-1697929200@folkalender.dk
SUMMARY:The Dublin Legends / The Dubliners
DESCRIPTION:Glæd jer til en aften i selskab med musikalske legender og velkendte sange og klassikere. Whiskey in The Jar\, Dirty Old Town\, The Wild Rover\, Seven Drunken Nights\, The Rare Auld Times\, Finnegan’s Wake\, Molly Malone\, The Monto\, Hand Me Down Me Bible\, The Irish Rover\, Black Velvet Band og mange mange flere. \nOplev legenderne i irsk folkemusik Sean Cannon\, Shay Kavanagh\, Paul Watchorn og Gerry O’Connor\, når de under navnet The Dublin Legends viderefører arven efter The Dubliners\, der stoppede som band\, da “Banjo” Barney McKenna desværre døde. Drengene ser meget frem til igen at møde og underholde alle deres fans overalt på kloden og vil fortsætte med at spille alle de verdensberømte klassikere\, som The Dubliners er kendt for.
URL:https://folkalender.dk/arrangement/the-dublin-legends-the-dubliners-2/
LOCATION:Spillestedet Blokhus\, Vesterhavsvej 6\, Blokhus\, 9492
CATEGORIES:Koncert
ATTACH;FMTTYPE=image/jpeg:https://folkalender.dk/wp-content/uploads/2023/02/Pressefoto-2018-bred-2-scaled.jpg
ORGANIZER;CN="Art &amp%3B Music Scandinavia":MAILTO:bent@art-music.dk
GEO:57.248486;9.6122964
X-APPLE-STRUCTURED-LOCATION;VALUE=URI;X-ADDRESS=Spillestedet Blokhus Vesterhavsvej 6 Blokhus 9492;X-APPLE-RADIUS=500;X-TITLE=Vesterhavsvej 6:geo:9.6122964,57.248486
END:VEVENT
BEGIN:VEVENT
DTSTART;TZID=Europe/Helsinki:20231021T203000
DTEND;TZID=Europe/Helsinki:20231021T220000
DTSTAMP:20260423T073250
CREATED:20231009T193819Z
LAST-MODIFIED:20231009T195301Z
UID:7209-1697920200-1697925600@folkalender.dk
SUMMARY:Koncert med Paul Kaplan & Rod Sinclair
DESCRIPTION:Godtfolk inviterer til koncert med Paul Kaplan og Rod Sinclair på Nanas Stue i Sønderho. \nDer er to meget er erfarne herrer\, som deler aftenens scene. Rod Sinclair har sunget sine sange fra Skotland og spillet guitar og 5-strenget banjo over hele verden\, både som solist og sammen med Kontraband\, Paddy Doyles\, The Bluebell Scottish Ceilidh Band og Sula\, og har spillet et hav af koncerter med så vidt forskellige artister og bands som Volbeat. \nPaul Kaplan har igennem mere end et halvt århundrede skrevet sange. Med en karakteristisk Americana-stil formår han at skrive sange\, der rører ved sjælen og forbliver relevante\, selv når de handler om aktuelle begivenheder. Gennem årene har utallige kendte kunstnere på den amerikanske folk-scene indspillet hans kompositioner \nDe to sangskrivere mødtes første gang på hvalprojektet\, hvor de skrev og sang i både USA og Danmark om den menneskelige situation og dens naturlige konsekvenser. Nu kommer de til Sønderho for at synge sange fra både Pauls og Rods penne skrevet med inspiration i den skotske og amerikanske musiktradition. En duo-koncert med et smil på læben\, med der vækker dybere tanker.  \nVi glæder os til endnu en intim og hyggelig koncert på Café Nana Stue. \nBilletter kan købes i døren. Ønsker man at bestille plads til spisning\, så ring på tlf: +45 75164025 eller skriv på ‍info@cafenanasstue.dk
URL:https://folkalender.dk/arrangement/koncert-med-paul-kaplan-rod-sinclair/
LOCATION:Cafe Nanas Stue\, Sønder Land 1\, Fanø\, 7620
CATEGORIES:Koncert
ATTACH;FMTTYPE=image/jpeg:https://folkalender.dk/wp-content/uploads/2023/10/rod-kaplan-sammen_orig.jpg
ORGANIZER;CN="Godtfolk":MAILTO:godtfolk@godtfolk.dk
GEO:55.3483965;8.471021
X-APPLE-STRUCTURED-LOCATION;VALUE=URI;X-ADDRESS=Cafe Nanas Stue Sønder Land 1 Fanø 7620;X-APPLE-RADIUS=500;X-TITLE=Sønder Land 1:geo:8.471021,55.3483965
END:VEVENT
END:VCALENDAR