BEGIN:VCALENDAR
VERSION:2.0
PRODID:-//Folkalender - ECPv6.10.1.1//NONSGML v1.0//EN
CALSCALE:GREGORIAN
METHOD:PUBLISH
X-ORIGINAL-URL:https://folkalender.dk
X-WR-CALDESC:Begivenheder for Folkalender
REFRESH-INTERVAL;VALUE=DURATION:PT1H
X-Robots-Tag:noindex
X-PUBLISHED-TTL:PT1H
BEGIN:VTIMEZONE
TZID:Europe/Helsinki
BEGIN:DAYLIGHT
TZOFFSETFROM:+0200
TZOFFSETTO:+0300
TZNAME:EEST
DTSTART:20230326T010000
END:DAYLIGHT
BEGIN:STANDARD
TZOFFSETFROM:+0300
TZOFFSETTO:+0200
TZNAME:EET
DTSTART:20231029T010000
END:STANDARD
END:VTIMEZONE
BEGIN:VEVENT
DTSTART;TZID=Europe/Helsinki:20230904T160000
DTEND;TZID=Europe/Helsinki:20230904T220000
DTSTAMP:20260422T195157
CREATED:20230901T000931Z
LAST-MODIFIED:20230902T130004Z
UID:6930-1693843200-1693864800@folkalender.dk
SUMMARY:Tinglutis efterårssæson starter.
DESCRIPTION:Vi findes her:\nwww.tingluti.dk\nog vores e-mail er:\ninfo@tingluti.dk
URL:https://folkalender.dk/arrangement/tinglutis-efteraarssaeson-starter/
LOCATION:København
CATEGORIES:Folkedanserforening
END:VEVENT
BEGIN:VEVENT
DTSTART;TZID=Europe/Helsinki:20230906T193000
DTEND;TZID=Europe/Helsinki:20230906T203000
DTSTAMP:20260422T195157
CREATED:20230825T055402Z
LAST-MODIFIED:20230825T060254Z
UID:6907-1694028600-1694032200@folkalender.dk
SUMMARY:Barani - Øster Skerninge Kirke
DESCRIPTION:Barani er en helt ny duo på den danske folkscene\, der skaber minimalistiske grooves\, sange og melodier ud fra gamle danserytmer. Den sjældne kombination af cello og harmonika giver et friskt pust til melodier og rytmer og åbner nye dimensioner af folkemusikken. Barani giver dig folkemusikkens drive og spilleglæde kombineret med farverige melodier i et finurligt klangunivers. \nBarani består af Maja Aarøe Freese på cello og Anders Ringgaard Andersen på harmonika. Folkemusikinteresserede vil kende de to fra bands som Basco\, Vessilli\, Habadekuk og Grønt Lys. Seneste udgivelse: Mosaik Mosaik er en hyldest til steder og stemninger i musikkens by – Svendborg\, hvor der er opstået et musikalsk momentum\, som lige nu tiltrækker musikere fra hele landet. Det er det lokale pladeselskab BondeJazz\, der er en af drivkrafterne bag Svendborgs sprudlende musikliv\, som udgiver Barani.
URL:https://folkalender.dk/arrangement/barani-oester-skerninge-kirke/
LOCATION:øster skerninge kirke\, Åkildevej 22\, Øster Skerninge\, 5762
CATEGORIES:Koncert
ATTACH;FMTTYPE=image/jpeg:https://folkalender.dk/wp-content/uploads/2023/08/220921barani0035.jpeg
ORGANIZER;CN="%C3%B8ster skerninge kirke":MAILTO:nhg@km.dk
GEO:55.0685361;10.4745452
X-APPLE-STRUCTURED-LOCATION;VALUE=URI;X-ADDRESS=øster skerninge kirke Åkildevej 22 Øster Skerninge 5762;X-APPLE-RADIUS=500;X-TITLE=Åkildevej 22:geo:10.4745452,55.0685361
END:VEVENT
BEGIN:VEVENT
DTSTART;TZID=Europe/Helsinki:20230906T193000
DTEND;TZID=Europe/Helsinki:20230906T213000
DTSTAMP:20260422T195157
CREATED:20230717T205259Z
LAST-MODIFIED:20230717T215321Z
UID:6629-1694028600-1694035800@folkalender.dk
SUMMARY:Onsdagsdans i Holstebro
DESCRIPTION:Vores kontakter med Norge\, Sverige\, Tyskland og Irland har givet os mange fine danse. Det er danse som vi her giver videre. Kom endelig selv om du ikke har en dansepartner. Vi sørger for\, at du kommer ud at danse. \nDet er pardanse\, 2-parsdanse\, 3-parsdanse\, kvadrilledanse\, rækkedanse\, kredsdanse + lidt andet. Vi blander de udenlandske danse med en del danske\, for at ikke alt bliver nyt. \nVi skal bl.a. arbejde med dansens udtryk og karakter\, skæve taktarter og improvisation.  \nKrav:	Man skal kunne danse polka\, vals\, totrin\, hopsa og enten hambo eller sønderhoning\, men man behøver ikke at være verdensmester. \nVores motto er: Det skal være sjovt at danse – og jo mere man kan\, jo sjovere bliver det.\nKatrine og Jørgen \nInstruktører:  Katrine Jakobsen og Jørgen Eskild Larsen\nMusik:	       Jørgen Nickelsen\nTid: 	       Onsdag aften kl. 19.30 – 21.30\nStart:             6. september 2023\nVi danser hver onsdag til og med marts måned.
URL:https://folkalender.dk/arrangement/onsdagsdans-i-holstebro/2023-09-06/
LOCATION:Folkedanserhuset Holstebro\, Banetoften 42\, Holstebro\, 7500
CATEGORIES:Folkedanserforening
ATTACH;FMTTYPE=image/jpeg:https://folkalender.dk/wp-content/uploads/2023/07/KATJEL-1088x816-5.jpg
ORGANIZER;CN="Holstebro Folkedanserforening":MAILTO:holstebro.folkedans@gmail.com
GEO:56.3644364;8.5944609
X-APPLE-STRUCTURED-LOCATION;VALUE=URI;X-ADDRESS=Folkedanserhuset Holstebro Banetoften 42 Holstebro 7500;X-APPLE-RADIUS=500;X-TITLE=Banetoften 42:geo:8.5944609,56.3644364
END:VEVENT
BEGIN:VEVENT
DTSTART;TZID=Europe/Helsinki:20230907T200000
DTEND;TZID=Europe/Helsinki:20230907T220000
DTSTAMP:20260422T195157
CREATED:20230305T153413Z
LAST-MODIFIED:20230319T100801Z
UID:5892-1694116800-1694124000@folkalender.dk
SUMMARY:Songs For Iris
DESCRIPTION:SONGS FOR IRIS  \nSongs for Iris er en dansk kvintet som bevæger sig indenfor folk/pop/americana-genren. Det\, der definerer orkesteret\, er de eksperimenterende vokalarrangementer imellem Heidi Mattsson\, Jakob Ambeck Vase og Mads Nyland. Sangernes forenede klang kan noget helt specielt\, og akkompagneres smukt af to akustiske guitarer\, violin (Gertrud Joyce Borchsenius)\, bas (Torben W. Pedersen) og cajon. For publikum venter en stor musikalsk og lyrisk oplevelse. De originale sange byder på tanker omkring livet og kærligheden\, som fortælles i både melankolske som letsindige stemninger. Bandet kommer helt ud over scenekanten\, og venskabet imellem medlemmerne skinner igennem i form af humørfyldte anekdoter og til tider drillende provokationer.  \nBaggrund  \nSongs for Iris har eksisteret siden 2008\, hvor de tre sangere mødte hinanden på universitetet. Efter en del koncertaktivitet i Danmark udgav Songs for Iris EP’en Tales & Lies i 2012. Den udvidede bandets rækkevidde til Irland og Skotland\, hvor bandet siden har turneret stort set hvert år. EP’ens single Fighting Life Alone fik airplay på P4 og P5\, hvilket bevirkede\, at sangerinde Heidi Mattsson kom med i det prestige-fyldte projekt Udenfor Sæsonen\, hvor hun delte scene med Steffen Brandt\, Annisette\, Per Vers\, Gustaf Ljunggren og Cæcilie Trier. EP’en blev efterfulgt af debutalbummet Let’s Begin i 2015\, som også smed nogle radiosingler af sig. Begge singler har tilhørende musikvideoer\, hvor Valleys over Mountains især er nævneværdig. Videoen er lavet i samarbejde med videoproducent Julie Malmstrøm og handler om\, hvordan man selv kan præge sit liv i en positiv retning. Dette udspiller sig i en festlig parade gennem Nørrebro og i en dansescene\, hvor man oplever den populære swingdans Lindy Hop. Yderligere har bandet og Julie Malmstrøm arbejdet sammen om at skabe fokus omkring hjemløshed i Danmark\, hvilket har udmundet sig i en video til bandets sang Homeless\, der udkom i efteråret 2015 i forbindelse med ”hjemløsedagen”. Seneste fulde album fra bandet er udgivelsen Mending fra 2016. Mending er en utrolig personlig plade for bandet. Det overordnede tema på pladen er tab\, og hvordan samme både kan bringe mørke og lys med sig.  \nHvem er Iris?  \nIris var Heidi Mattssons mormor. Hun inspirerede\, som den første\, sangerinden\, i en meget ung alder\, til at skrive sine egne sange. Hver gang Heidi besøgte Iris\, medbragte hun et kassettebånd\, hvorpå hun havde indspillet nye kompositioner. Da Iris gik bort\, fik hun flere af båndene med sig i graven. Da perkussionisten\, Jakob Ambeck Vase\, ved et tilfælde foreslog bandnavnet Songs for Iris virkede det hele til at gå op i en højere enhed\, og bandet viderefører på en måde Iris’ idé i deres indspilninger og udgivelser.
URL:https://folkalender.dk/arrangement/songs-for-iris/
LOCATION:KulturØen Middelfart\, Havnegade 6\, Middelfart\, 5500
CATEGORIES:Koncert
ATTACH;FMTTYPE=image/png:https://folkalender.dk/wp-content/uploads/2023/03/Songs-For-Iris-live-2.png
ORGANIZER;CN="Foreningen GUF%2C God Underholdende Folkemusik":MAILTO:jrahbek@stribnet.dk
GEO:55.5052311;9.7356812
X-APPLE-STRUCTURED-LOCATION;VALUE=URI;X-ADDRESS=KulturØen Middelfart Havnegade 6 Middelfart 5500;X-APPLE-RADIUS=500;X-TITLE=Havnegade 6:geo:9.7356812,55.5052311
END:VEVENT
BEGIN:VEVENT
DTSTART;TZID=Europe/Helsinki:20230908T200000
DTEND;TZID=Europe/Helsinki:20230908T220000
DTSTAMP:20260422T195157
CREATED:20230327T083656Z
LAST-MODIFIED:20230327T084817Z
UID:6071-1694203200-1694210400@folkalender.dk
SUMMARY:Svantes Viser 50 år m/Halfdanskerne
DESCRIPTION:I 1973 indspillede Benny Andersen og Povl Dissing det legendariske album Svantes viser\, baseret på bogen af samme navn. Det fejrer HALFDANSKERNE ved at tage landet rundt i hele jubilæumsåret med deres egen live-version af dansk visemusiks vigtigste udgivelse. \nMads Westfall (guitar og sang)\, Lars Grand (harmonika og sang) og Rasmus Vennevold (kontrabas) har siden 2008 optrådt med gennemarbejdede\, spektakulære og energiske fortolkninger af danske digteres sange\, og udgivet fem albums. Populariteten nåede nye højder i 2015 med deres 100 års hyldestshow til Halfdan Rasmussen\, og siden har der været fulde huse og stående ovationer ved deres mange koncerter. \nHALFDANSKERNE består af tre karismatiske og meget forskellige karakterer\, som tilsammen udgør en yderst underholdende enhed. Trioen er med deres nærvær\, musikalitet og humor de helt rigtige til at markere 50-året for Svantes viser. De tager udgangspunkt i det originale værk\, og formidler samtlige sange med dyb respekt og masser af fornyelse. \nDet bliver en uforglemmelig koncert-oplevelse\, når Danmarks bedste viseorkester i 2023 spiller Svantes viser. Bestil med det samme. \nVores koncerter er støttet af Statens Kunstråd og Faxe Kommune
URL:https://folkalender.dk/arrangement/svantes-viser-50-aar-m-halfdanskerne/
LOCATION:Haslev Bibliotek\, Mødesalen\, Jernbanegade 62\, Haslev\, 4690
CATEGORIES:Koncert
ATTACH;FMTTYPE=image/jpeg:https://folkalender.dk/wp-content/uploads/2023/03/Halfdanskerne_scaled.jpg
GEO:55.3245439;11.9633135
X-APPLE-STRUCTURED-LOCATION;VALUE=URI;X-ADDRESS=Haslev Bibliotek Mødesalen Jernbanegade 62 Haslev 4690;X-APPLE-RADIUS=500;X-TITLE=Jernbanegade 62:geo:11.9633135,55.3245439
END:VEVENT
BEGIN:VEVENT
DTSTART;TZID=Europe/Helsinki:20230908T200000
DTEND;TZID=Europe/Helsinki:20230908T223000
DTSTAMP:20260422T195157
CREATED:20230410T143850Z
LAST-MODIFIED:20230410T143850Z
UID:6128-1694203200-1694212200@folkalender.dk
SUMMARY:Koncert med Søren Krogh Duo
DESCRIPTION:En nordjysk sanger\, sangskriver og historiefortæller går man sjældent fejl af. Som koncertnavn er Krogh altid en stor musikalsk oplevelse\, og selv om arven som historiefortæller kan være tung at løfte\, så formår han bare med sine historier og sange at komme hele vejen rundt: Det er først og fremmest sjovt\, det er nærværende og det er historier\, som publikum genkender sig selv i.\nKrogh har med sine mere end 2000 koncerter og 10 albums fastslået sin status som en af branchens bedste historiefortællere. Han modtog desuden en Danish Music Award Folk i 2013 som årets sangskriver og endnu en i 2016 som årets sanger. Og senest i 2021 modtog han hædersprisen\, ”Opmuntringsprisen” for sit lange virke med dansk sangskrivning.\nMed sig i Rejsestalden denne aften har Søren Krogh Janus Beckmann. Spring på! – Turen går til Vendsyssel!
URL:https://folkalender.dk/arrangement/koncert-med-soeren-krogh-duo/
LOCATION:Kulturhuset Rejsestalden.\, Hovedgaden 29a\, Jægerspris\, 3630
CATEGORIES:Koncert
ATTACH;FMTTYPE=image/jpeg:https://folkalender.dk/wp-content/uploads/2023/04/Pressefoto-2020-Krogh-og-Bechmann-med-projektoer-farve-lav-oploesning-IMG_6828-.jpeg
ORGANIZER;CN="Musik mellem Fjordene":MAILTO:musikmellemfjordene@gmail.com
GEO:55.8554115;11.9825747
X-APPLE-STRUCTURED-LOCATION;VALUE=URI;X-ADDRESS=Kulturhuset Rejsestalden. Hovedgaden 29a Jægerspris 3630;X-APPLE-RADIUS=500;X-TITLE=Hovedgaden 29a:geo:11.9825747,55.8554115
END:VEVENT
BEGIN:VEVENT
DTSTART;TZID=Europe/Helsinki:20230909T133000
DTEND;TZID=Europe/Helsinki:20230909T133000
DTSTAMP:20260422T195157
CREATED:20230523T090725Z
LAST-MODIFIED:20230523T090817Z
UID:6406-1694266200-1694266200@folkalender.dk
SUMMARY:Mirja Klippel
DESCRIPTION:Med en stor stemme\, et inderligt klangunivers og en sans for at skrive sange\, der forbinder personlige erfaringer med billeder fra den nordiske natur\, har den finske sangskriver og sanger markeret sig som et særlig talent på den alternative folk-scene. \nAllerede hendes debut-EP Lift Your Lion (2016) indbragte den københavner-baserede musiker en Danish Music Award Folk som Årets Sangskriver. Siden har hun turneret flittigt i Danmark\, såvel som resten af Europa og Nordatlanten\, ligesom hun i 2018 udsendte det roste fuldlængde-album River of Silver. Hendes seneste album\, Slow Coming Alive\, fik tre nominationer ved Danish Music Awards Roots i 2021. \nMed dette album føjer Klippel atter nye nuancer til sin alternative og poetiske folk og fortsætter med at udvide dybderne og højderne i sin sangskrivning. Med sin faste medmusiker Alex Jønsson\, drager hun publikum ind i et organisk og atmosfærisk univers\, hvor personlige erfaringer åbner op for psykologiske dybder\, og hvor intime rum går hånd i hånd med rå og vilde landskaber. \nLine up:\nMirja Klippel: sang\, guitar & waldzither\nAlex Jønsson: guitar\, kor
URL:https://folkalender.dk/arrangement/mirja-klippel-5/
LOCATION:Haastrup Kirke\, Pilekrogen 5\, Faaborg\, 5600
CATEGORIES:Koncert
ATTACH;FMTTYPE=image/jpeg:https://folkalender.dk/wp-content/uploads/2023/05/folkalender-1.jpg
GEO:55.1738796;10.1982663
X-APPLE-STRUCTURED-LOCATION;VALUE=URI;X-ADDRESS=Haastrup Kirke Pilekrogen 5 Faaborg 5600;X-APPLE-RADIUS=500;X-TITLE=Pilekrogen 5:geo:10.1982663,55.1738796
END:VEVENT
BEGIN:VEVENT
DTSTART;TZID=Europe/Helsinki:20230909T190000
DTEND;TZID=Europe/Helsinki:20230909T230000
DTSTAMP:20260422T195157
CREATED:20230905T074425Z
LAST-MODIFIED:20230905T074842Z
UID:6945-1694286000-1694300400@folkalender.dk
SUMMARY:Koncert og Spillemandsbal
DESCRIPTION:Koncert med Spillemandsgruppen RASMUS  og Spillemandsbal med “spillemandskursister fra eftermiddagens workshop” under ledelse af Bent Melvej Nielsen\, Michael Sommer og Ove Andersen
URL:https://folkalender.dk/arrangement/koncert-og-spillemandsbal/
LOCATION:Fredericia Gymnasium\, Nørrebrogade 68\, Fredericia\, 7000
CATEGORIES:Bal
ATTACH;FMTTYPE=image/jpeg:https://folkalender.dk/wp-content/uploads/2023/09/Indbydelse-Koncert-og-spillemandsbal-FB.jpg
GEO:55.5751898;9.7496057
X-APPLE-STRUCTURED-LOCATION;VALUE=URI;X-ADDRESS=Fredericia Gymnasium Nørrebrogade 68 Fredericia 7000;X-APPLE-RADIUS=500;X-TITLE=Nørrebrogade 68:geo:9.7496057,55.5751898
END:VEVENT
BEGIN:VEVENT
DTSTART;TZID=Europe/Helsinki:20230910T103000
DTEND;TZID=Europe/Helsinki:20230910T133000
DTSTAMP:20260422T195157
CREATED:20230323T145818Z
LAST-MODIFIED:20230323T145818Z
UID:6062-1694341800-1694352600@folkalender.dk
SUMMARY:Zenobia
DESCRIPTION:Zenobia spiller til Høstgudstjenesten i Vemmelev Kirke kl. 10.30.\nDernæst er der frokost i Sogneladen (Fruegade 19\, 4241 Vemmelev)\, og efterfølgende spiller Zenobia en lille afrundende koncert i Sogneladen kl. 13.00 – 13.30.
URL:https://folkalender.dk/arrangement/zenobia-31/
LOCATION:Vemmelev Kirke\, Slagelse Landevej 121\, Vemmelev\, 4241
CATEGORIES:Koncert
ATTACH;FMTTYPE=image/jpeg:https://folkalender.dk/wp-content/uploads/2023/03/SAK_7569_01-1-scaled.jpeg
GEO:55.3605018;11.2594228
X-APPLE-STRUCTURED-LOCATION;VALUE=URI;X-ADDRESS=Vemmelev Kirke Slagelse Landevej 121 Vemmelev 4241;X-APPLE-RADIUS=500;X-TITLE=Slagelse Landevej 121:geo:11.2594228,55.3605018
END:VEVENT
END:VCALENDAR