BEGIN:VCALENDAR
VERSION:2.0
PRODID:-//Folkalender - ECPv6.10.1.1//NONSGML v1.0//EN
CALSCALE:GREGORIAN
METHOD:PUBLISH
X-WR-CALNAME:Folkalender
X-ORIGINAL-URL:https://folkalender.dk
X-WR-CALDESC:Begivenheder for Folkalender
REFRESH-INTERVAL;VALUE=DURATION:PT1H
X-Robots-Tag:noindex
X-PUBLISHED-TTL:PT1H
BEGIN:VTIMEZONE
TZID:Europe/Helsinki
BEGIN:DAYLIGHT
TZOFFSETFROM:+0200
TZOFFSETTO:+0300
TZNAME:EEST
DTSTART:20230326T010000
END:DAYLIGHT
BEGIN:STANDARD
TZOFFSETFROM:+0300
TZOFFSETTO:+0200
TZNAME:EET
DTSTART:20231029T010000
END:STANDARD
END:VTIMEZONE
BEGIN:VEVENT
DTSTART;TZID=Europe/Helsinki:20230829T193000
DTEND;TZID=Europe/Helsinki:20230829T230000
DTSTAMP:20260422T181817
CREATED:20230824T125647Z
LAST-MODIFIED:20230824T125822Z
UID:6865-1693337400-1693350000@folkalender.dk
SUMMARY:West of Eden (SE)
DESCRIPTION:A truly great live folk-rock band \nWest of Eden er et svensk folk-rock band\, der siden 1995 på flere måder har revitaliseret den svenske og internationale keltiske scene med sin unikke lyd og fremragende koncerter. \nMed 12 roste albums i bagagen har de opnået et solidt brand i bl.a. Sverige\, Irland\, Tyskland\, Benelux\, Norge\, Storbritanien og Kina\, båret frem af eminent musikalsk ekvilibrisme samt den ekstraordinære vokalist Jenny Schaub i fronten. \nDe har samarbejdet med bl.a. Heidi Talbot\, Kate Rusby\, Ron Block\, Michael McGoldrick og John McCusker. \nLine-up:\nJenny Schaub – vokal\, accordion\, fløjte\nLars Broman – violin\nMartin Scaub – guitar\, vokal\nHenning Sernhede – guitar\nMartin Deubler Holmlund – bas\nOla Karlevo – trommer\, bodhran\, perkussion \n“Simply phenomenal”\nRock ‘n’ Reel \n“Masters of their genre”\nUNT \n“The best of contemporary folk”\nIrish Music Magazine \n150\,-\nSiddepladser på balkon\nSkotsk/Irsk Musikscene \nMenu kan tilkøbes (fra kl. 18:00): Sæson buffet: 180\,- \nDenne koncert er en del af ’Skotsk & Irsk Musikscene’\, der præsenterer 10 keltiske folkemusikkoncerter i sæsonen fra september til maj – på tirsdage ca. én gang om måneden. Årskortbillet for sæson 2023/2024 kan købes her for 600\,- indtil nytår: https://baltoppen.billetten.dk/index/eventdetails/eventno/114158
URL:https://folkalender.dk/arrangement/west-of-eden-se/
LOCATION:Baltoppen LIVE\, Baltorpvej 20\, Ballerup\, 2750
CATEGORIES:Koncert
ATTACH;FMTTYPE=image/jpeg:https://folkalender.dk/wp-content/uploads/2023/08/West-of-Eden-SI_Affischbild_Lanskab.jpg
GEO:55.7305364;12.3522152
X-APPLE-STRUCTURED-LOCATION;VALUE=URI;X-ADDRESS=Baltoppen LIVE Baltorpvej 20 Ballerup 2750;X-APPLE-RADIUS=500;X-TITLE=Baltorpvej 20:geo:12.3522152,55.7305364
END:VEVENT
BEGIN:VEVENT
DTSTART;TZID=Europe/Helsinki:20230831T143000
DTEND;TZID=Europe/Helsinki:20230831T153000
DTSTAMP:20260422T181817
CREATED:20230822T052845Z
LAST-MODIFIED:20230822T054716Z
UID:6835-1693492200-1693495800@folkalender.dk
SUMMARY:Gallerikoncert
DESCRIPTION:Ved ferniseringen af en udstilling med værker af billedkunstnere Lis Pedersen har en nyetableret trio premiere.\nMed i trioen er Maja Sokolowska på violin\, Poul Strunk på violin og Steen Poulsen på guitar. Trioen spiller folkemusik fra primært Danmark og Sverige. De spiler i en genre som er meget inspireret af den klassiske musik. Men rødderne er folkemusik.
URL:https://folkalender.dk/arrangement/gallerikoncert/
LOCATION:Gallerik KIK\, Trollegade 2\, Kerteminde\, 5300
CATEGORIES:Koncert
ATTACH;FMTTYPE=image/png:https://folkalender.dk/wp-content/uploads/2023/08/Skaermbillede-2023-08-22-kl.-07.43.42.png
GEO:55.4499167;10.6579279
X-APPLE-STRUCTURED-LOCATION;VALUE=URI;X-ADDRESS=Gallerik KIK Trollegade 2 Kerteminde 5300;X-APPLE-RADIUS=500;X-TITLE=Trollegade 2:geo:10.6579279,55.4499167
END:VEVENT
BEGIN:VEVENT
DTSTART;TZID=Europe/Helsinki:20230831T193000
DTEND;TZID=Europe/Helsinki:20230831T213000
DTSTAMP:20260422T181817
CREATED:20230619T074404Z
LAST-MODIFIED:20230619T074616Z
UID:6508-1693510200-1693517400@folkalender.dk
SUMMARY:Perry Stenbäck & Dekadans
DESCRIPTION:Perry Stenbäck & Dekadans – Moderne viser på svensk (perrystenback.com) \nBandet tager den nordiske sangskrivertradition under kærlig behandling med\, foruden Perry’s egne sange\, viser af bl.a Cornelis Vreeswijk\, Evert Taube\, Dan Andersson\, Myhre/Hovland og Sebastian.\nPerry Stenbäck: Vocal\, guitarer\nUlrika Rosdahl: Kor\, Percussion\nChristine Dueholm: Trommer\, kor\nJan Hansen: Keyboard\, harmonika\, kor\nHenrik Kunz: Kontrabas\, kor \nDer spilles 2 x 45 min.
URL:https://folkalender.dk/arrangement/perry-stenback-dekadans/
LOCATION:Bygningen\, Ved anlæget 14 B\, Vejle\, 7100
CATEGORIES:Koncert
ATTACH;FMTTYPE=image/jpeg:https://folkalender.dk/wp-content/uploads/2023/06/Perry-Stenback-Dekadans-2.jpg
GEO:55.711252;9.534041
X-APPLE-STRUCTURED-LOCATION;VALUE=URI;X-ADDRESS=Bygningen Ved anlæget 14 B Vejle 7100;X-APPLE-RADIUS=500;X-TITLE=Ved anlæget 14 B:geo:9.534041,55.711252
END:VEVENT
BEGIN:VEVENT
DTSTART;TZID=Europe/Helsinki:20230901T200000
DTEND;TZID=Europe/Helsinki:20230901T214500
DTSTAMP:20260422T181817
CREATED:20230619T080255Z
LAST-MODIFIED:20230814T111730Z
UID:6512-1693598400-1693604700@folkalender.dk
SUMMARY:Perry Stenbäck & Dekadans
DESCRIPTION:Perry Stenbäck & Dekadans – Moderne viser på svensk (perrystenback.com) \nBandet tager den nordiske sangskrivertradition under kærlig behandling med\, foruden Perry’s egne sange\, viser af bl.a Cornelis Vreeswijk\, Evert Taube\, Dan Andersson\, Myhre/Hovland og Sebastian.\nPerry Stenbäck: Vocal\, guitarer\nUlrika Rosdahl: Kor\, Percussion\nChristine Dueholm: Trommer\, kor\nJan Hansen: Keyboard\, harmonika\, kor\nHenrik Kunz: Kontrabas\, kor \nDer spilles 2 sæt á 45 min.
URL:https://folkalender.dk/arrangement/perry-stenback-dekadans-3/
LOCATION:Musikhuset Dexter\, Vindegade 65\, Odense\, 5000
CATEGORIES:Koncert
ATTACH;FMTTYPE=image/jpeg:https://folkalender.dk/wp-content/uploads/2023/06/Perry-Stenback-Dekadans-2-1.jpg
GEO:55.3974218;10.3794332
X-APPLE-STRUCTURED-LOCATION;VALUE=URI;X-ADDRESS=Musikhuset Dexter Vindegade 65 Odense 5000;X-APPLE-RADIUS=500;X-TITLE=Vindegade 65:geo:10.3794332,55.3974218
END:VEVENT
BEGIN:VEVENT
DTSTART;TZID=Europe/Helsinki:20230902T140000
DTEND;TZID=Europe/Helsinki:20230902T230000
DTSTAMP:20260422T181817
CREATED:20230726T151546Z
LAST-MODIFIED:20230726T152239Z
UID:6650-1693663200-1693695600@folkalender.dk
SUMMARY:Læsø – Workshop og bal
DESCRIPTION:En dag med Læsømusik og -dans efter Levy Vilsen med\n– Ole Nurdug Jensen\n– Judy Ryslander\n– Lasse Væver\n– Anders Christensen \nInden for dansk spillemandsmusik og folkedans indtager Læsø og andre øer en særstilling\, idet den levende spillemands-tradition er bevaret helt op til nutiden med sit eget særpræg. Dansemusikken på Læsø er næsten udelukkende blevet spillet på violin. Melodierne er lært efter gehør og er blevet ført videre fra generation til generation i nogle få slægter på Læsø. Musikken har musikalske tonale træk\, der har rødder i en gammel musikopfattelse.
URL:https://folkalender.dk/arrangement/laesoe-workshop-og-bal/
LOCATION:Broby Gamle Skole\, Broby\, Sorø\, Suserupvej 55\, Sorø\, 4180
CATEGORIES:Bal,Danseworkshop,Spilleworkshop
ATTACH;FMTTYPE=image/jpeg:https://folkalender.dk/wp-content/uploads/2023/07/Anders-Ole-og-Judy.jpg
ORGANIZER;CN="Folkekulturv&aelig%3Brkstedet Broby Gamle Skole":MAILTO:pha@bgsbroby.dk
GEO:55.3960755;11.6182675
X-APPLE-STRUCTURED-LOCATION;VALUE=URI;X-ADDRESS=Broby Gamle Skole Broby Sorø Suserupvej 55 Sorø 4180;X-APPLE-RADIUS=500;X-TITLE=Suserupvej 55:geo:11.6182675,55.3960755
END:VEVENT
BEGIN:VEVENT
DTSTART;TZID=Europe/Helsinki:20230902T143000
DTEND;TZID=Europe/Helsinki:20230902T170000
DTSTAMP:20260422T181817
CREATED:20230717T214429Z
LAST-MODIFIED:20230717T215308Z
UID:6640-1693665000-1693674000@folkalender.dk
SUMMARY:Spooky SANG workshop
DESCRIPTION:Stephen Taberner fra “The Spooky Men’s Chorale”\, WORKSHOP lørdag d. 2. September kl. 15 – 17 \nNu sker det…..\nStephen Taberner – bedre kendt som den finurlige ”spookmeister” bag Spooky Men’s Chorale – har 20 års erfaring med at synge – præsentere – lære fra sig af sange fra Georgien; han beskriver det selv som ”ekstatisk\, grooving\, og med blandet lyd fra andre musikalske genrer”.\nHan har undervist på sang-weekender og kor over hele verden.\nDa koret i 2017 besøgte Klaverfabrikken\, lavede vi en aftale med Stephen Taberner om\, at næste gang\, Spooky Men skulle give koncert i Klaverfabrikken\, skulle vi også lave en workshop.\nNu sker det… \nKlaverfabrikken har workshop og koncert:\nI denne workshop vil han præsentere sin egen cocktail af originale sange fra Georgien\, som han har arrangeret i landets tradition\, men med det lille ”funky” islæt\, der også kendetegner de sange\, koret præsenterer om aftenen til koncerten.\nDet er georgiske delikatesser og ”verdensmusik-bonbons” og han bruger dem til at skabe en stemning\, hvor åbne ører og en god kollektiv puls tager os til en sted\, hvor helheden er større end summen af delene. \nIngen tidligere sang-erfaring er nødvendig\, ej heller nodekendskab\, kun ønsket om at dele din stemme til en større sag\, – koret.\nStephen vil undervise i enkle sang-arrangementer for flere stemmer\, og deltagerne vil prøve kræfter med de georgiske stemninger.  \nWorkshoppen er en optakt til aftenens koncert; workshoppen er i samarbejde med Hillerød Musikaftenskole\, billetter til de 2 arrangementer sælges derfor helt separat.  \nTid: Lørdag d. 2. september kl. 15 – 17\nSted: Klaverfabrikken\, Fredensvej 12A\, 3400 Hillerød\nPris: 120 kr incl kaffe – te i kort pause.  \nTilmelding til Britta Thougaard på thougaard@c.dk; det er først muligt på www. klaverfabrikken.dk medio august.
URL:https://folkalender.dk/arrangement/spooky-sang-workshop/
LOCATION:Klaverfabrikken\, Hillerød\, Fredensvej 12A\, Hillerød\, 3400
CATEGORIES:Kursus
ATTACH;FMTTYPE=image/jpeg:https://folkalender.dk/wp-content/uploads/2023/07/spooks.jpg
ORGANIZER;CN="KlaverfabrikkenFOLK":MAILTO:thougaard@c.dk
GEO:55.9273762;12.2969322
X-APPLE-STRUCTURED-LOCATION;VALUE=URI;X-ADDRESS=Klaverfabrikken Hillerød Fredensvej 12A Hillerød 3400;X-APPLE-RADIUS=500;X-TITLE=Fredensvej 12A:geo:12.2969322,55.9273762
END:VEVENT
BEGIN:VEVENT
DTSTART;TZID=Europe/Helsinki:20230902T193000
DTEND;TZID=Europe/Helsinki:20230902T213000
DTSTAMP:20260422T181817
CREATED:20230619T081639Z
LAST-MODIFIED:20230619T081815Z
UID:6515-1693683000-1693690200@folkalender.dk
SUMMARY:Perry Stenbäck & Dekadans
DESCRIPTION:Perry Stenbäck & Dekadans – Moderne viser på svensk (perrystenback.com) \nBandet tager den nordiske sangskrivertradition under kærlig behandling med\, foruden Perry’s egne sange\, viser af bl.a Cornelis Vreeswijk\, Evert Taube\, Dan Andersson\, Myhre/Hovland og Sebastian.\nPerry Stenbäck: Vocal\, guitarer\nUlrika Rosdahl: Kor\, Percussion\nChristine Dueholm: Trommer\, kor\nJan Hansen: Keyboard\, harmonika\, kor\nHenrik Kunz: Kontrabas\, kor \nDer spilles 2 sæt á 45 min.
URL:https://folkalender.dk/arrangement/perry-stenback-dekadans-4/
LOCATION:Baltoppen LIVE\, Baltorpvej 20\, Ballerup\, 2750
CATEGORIES:Koncert
ATTACH;FMTTYPE=image/jpeg:https://folkalender.dk/wp-content/uploads/2023/06/Perry-Stenback-Dekadans-2-2.jpg
GEO:55.7305364;12.3522152
X-APPLE-STRUCTURED-LOCATION;VALUE=URI;X-ADDRESS=Baltoppen LIVE Baltorpvej 20 Ballerup 2750;X-APPLE-RADIUS=500;X-TITLE=Baltorpvej 20:geo:12.3522152,55.7305364
END:VEVENT
BEGIN:VEVENT
DTSTART;TZID=Europe/Helsinki:20230902T193000
DTEND;TZID=Europe/Helsinki:20230902T230000
DTSTAMP:20260422T181817
CREATED:20230824T124725Z
LAST-MODIFIED:20230824T125839Z
UID:6854-1693683000-1693695600@folkalender.dk
SUMMARY:Perry Stenbäck og Dekadansorkestern (DK/SE)
DESCRIPTION:Moderne viser på svensk \nPerry Stenbäck & Dekadansorkestern tager den nordiske sangskrivertradition under kærlig behandling med\, foruden Perry’s egne sange\, viser af bl.a Cornelis Vreeswijk\, Evert Taube\, Dan Andersson\, Myhre/Hovland og Sebastian. \nPerry Stenbäck har en stor kærlighed til sit hjemlands troubadourer og hans fortolkninger af deres sange fremføres med stor respekt for originalmaterialet og med en sjælden nerve og autencitet. Repertoiret blandes med Perrys egne iørefaldende kompositioner. \nDanmark og den danske sangskat\, har Perry også et godt øje til\, og han har bl.a. spillet (og spiller) sammen med Sebastian\, Allan Olsen og Erann DD. \nPerrys entusiasme og instrumentale evner har ført ham rundt i Danmark og resten af verden som turnerende musiker\, hvor han er særdeles anerkendt for sit unikke guitarspil og ikke mindst sit vindende væsen. \nFlere gange er Perry Stenbäck blevet nomineret ved Danish Music Awards og i 2009 og 2019 modtog han en DMA/Folk som årets Musiker/Artist \nPerry er født og opvokset i Stockholm\, uddannet på solistlinien på Rytmisk Musikkonservatorium og er nu bosat i Gadbjerg ved Jelling\, hvor han bor med sin kone\, trommeslageren Christine Dueholm. \nPerry Stenbäck på vokal og guitar\, bakkes op af ‘Dekadans’ med Christine Dueholm på trommer og kor\, Ulrika Rosdahl på kor og perkussion\, Henrik Kunz på kontrabas og kor og seneste medlem af bandet er Jan Hansen på keyboards og kor. \nDet velspillende band af lutter rutinerede musikere\, har mange års sammenspilserfaring. De leverer en levende\, legende\, virtuos musikalsk oplevelse. \nPerry Stenbäck og Dekadansorkestern gæster Baltoppen LIVE med et nyt album med i sætlisten. \n“Stille og roligt. Idiotisk musikalsk\, dovent swingende\, dejligt dynamisk og – først og fremmest – vanvittigt velspillet og – sunget.”\nMusikanmelder Steffen Jungersen
URL:https://folkalender.dk/arrangement/perry-stenback-og-dekadansorkestern-dk-se/
LOCATION:Baltoppen LIVE\, Baltorpvej 20\, Ballerup\, 2750
CATEGORIES:Koncert
ATTACH;FMTTYPE=image/jpeg:https://folkalender.dk/wp-content/uploads/2023/08/perry-stenbaeck-foto-signfind_05.jpg
GEO:55.7305364;12.3522152
X-APPLE-STRUCTURED-LOCATION;VALUE=URI;X-ADDRESS=Baltoppen LIVE Baltorpvej 20 Ballerup 2750;X-APPLE-RADIUS=500;X-TITLE=Baltorpvej 20:geo:12.3522152,55.7305364
END:VEVENT
BEGIN:VEVENT
DTSTART;TZID=Europe/Helsinki:20230903T110000
DTEND;TZID=Europe/Helsinki:20230903T150000
DTSTAMP:20260422T181817
CREATED:20230808T161433Z
LAST-MODIFIED:20230808T162218Z
UID:6760-1693738800-1693753200@folkalender.dk
SUMMARY:Jensen\, Bugge & Høirup med Henrik fra Stevns - "KOM OG DANS"
DESCRIPTION:KOM OG DANS \nDet er lige så enkelt\, som det står i overskriften: Kom i Maskinhallen – og DANS! \nVi gentager succesen fra sidste efterår – og inviterer til tre hyggelige arrangementer med workshop\, mad og bal.  \nDenne gang lægger vi de tre arrangementer på søndage fra kl 11.00 til 15.00 – det er der flere grunde til: Folk kommer langvejs fra – så derfor kan en hverdag være en udfordring. Og så har vi forsøgt at styre udenom arrangementer\, der allerede er planlagt med dans andre steder i vores område. \nMusikken leveres af trioen Jensen\, Bugge & Høirup\, se www.dktrio.dk\nMette Kathrine Jensen Stærk: harmonika\nMorten Alfred Høirup: guitar\nKristian Bugge: violin \nWorkshop med Henrik Larsen (Henrik fra Stevns)\nInstruktør til workshop bliver Henrik Larsen. Henrik er en af de fremmeste instruktører i Danmark – og han har desuden gang i et stort dokumentationsprojekt\, hvor målet er at få alle folkedanse filmet og beskrevet. Så – vi er i gode hænder (og fødder) med Henrik. Glæd jer til at møde ham. \nFællesspisning\nVi inviterer til fællesspisning\, mad/buffet. Den kan du købe separat. I Maskinhallen serverer vi vegetar/klimamad. Vi bestræber os på at så meget som muligt er økologisk.
URL:https://folkalender.dk/arrangement/jensen-bugge-hoeirup-med-henrik-fra-stevns-kom-og-dans/
LOCATION:Maskinhallen\, Frederikshavn\, Skolegade 8\, Frederikshavn\, 9900
CATEGORIES:Bal,Danseworkshop
ATTACH;FMTTYPE=image/jpeg:https://folkalender.dk/wp-content/uploads/2023/08/JensenBuggeHoeirup-trio-pic-1-BW-Photo-Carsten-Bundgaard-scaled.jpg
GEO:57.4421931;10.5359388
X-APPLE-STRUCTURED-LOCATION;VALUE=URI;X-ADDRESS=Maskinhallen Frederikshavn Skolegade 8 Frederikshavn 9900;X-APPLE-RADIUS=500;X-TITLE=Skolegade 8:geo:10.5359388,57.4421931
END:VEVENT
BEGIN:VEVENT
DTSTART;TZID=Europe/Helsinki:20230903T140000
DTEND;TZID=Europe/Helsinki:20230903T160000
DTSTAMP:20260422T181817
CREATED:20230814T110933Z
LAST-MODIFIED:20230814T111116Z
UID:6790-1693749600-1693756800@folkalender.dk
SUMMARY:Perry Stenbäck & Dekadans
DESCRIPTION:Bandet tager den nordiske sangskrivertradition under kærlig behandling med\, foruden Perry’s egne sange\, viser af bl.a Cornelis Vreeswijk\, Evert Taube\, Dan Andersson\, Myhre/Hovland og Sebastian.\nDer spilles 2 sæt á 45 min.
URL:https://folkalender.dk/arrangement/perry-stenback-dekadans-7/
LOCATION:Kosmorama\, Algade 15\, Skælskør\, 4230
CATEGORIES:Koncert
ATTACH;FMTTYPE=image/jpeg:https://folkalender.dk/wp-content/uploads/2023/08/Perry-Stenback-Dekadans-2.jpg
GEO:55.2538124;11.2932459
X-APPLE-STRUCTURED-LOCATION;VALUE=URI;X-ADDRESS=Kosmorama Algade 15 Skælskør 4230;X-APPLE-RADIUS=500;X-TITLE=Algade 15:geo:11.2932459,55.2538124
END:VEVENT
BEGIN:VEVENT
DTSTART;TZID=Europe/Helsinki:20230903T200000
DTEND;TZID=Europe/Helsinki:20230903T220000
DTSTAMP:20260422T181817
CREATED:20230825T053013Z
LAST-MODIFIED:20230825T054028Z
UID:6902-1693771200-1693778400@folkalender.dk
SUMMARY:Barani - Folkemusik i Randers
DESCRIPTION:BARANI er en ny duo på den danske folkscene. De to\, Maja Freese og Anders Ringgaard\, skaber sange og melodier ud fra gamle danserytmer. Den sjældne kombination af cello og harmonika giver et friskt pust til melodier og rytmer og åbner nye dimensioner af folkemusikken. Barani giver dig folkemusikkens drive og spilleglæde kombineret med farverige melodier i et finurligt klangunivers. De to musikere er også kendt fra bands som Basco\, Vessilli\, Habadekuk og Grønt Lys. Duoen optræder også på årets Tønder Festival. Billetter – medlemmer kr. 100 og ikke medlemmer kr. 150
URL:https://folkalender.dk/arrangement/barani-folkemusik-i-randers/
LOCATION:operaen\, Vester Kirke Stræde 12\, Randers\, 8900
CATEGORIES:Koncert
ATTACH;FMTTYPE=image/jpeg:https://folkalender.dk/wp-content/uploads/2023/08/92E00B27-D460-4D1E-BB56-52FBFDB3C2E9.jpeg
GEO:56.4600764;10.0342679
X-APPLE-STRUCTURED-LOCATION;VALUE=URI;X-ADDRESS=operaen Vester Kirke Stræde 12 Randers 8900;X-APPLE-RADIUS=500;X-TITLE=Vester Kirke Stræde 12:geo:10.0342679,56.4600764
END:VEVENT
END:VCALENDAR