BEGIN:VCALENDAR
VERSION:2.0
PRODID:-//Folkalender - ECPv6.10.1.1//NONSGML v1.0//EN
CALSCALE:GREGORIAN
METHOD:PUBLISH
X-WR-CALNAME:Folkalender
X-ORIGINAL-URL:https://folkalender.dk
X-WR-CALDESC:Begivenheder for Folkalender
REFRESH-INTERVAL;VALUE=DURATION:PT1H
X-Robots-Tag:noindex
X-PUBLISHED-TTL:PT1H
BEGIN:VTIMEZONE
TZID:Europe/Helsinki
BEGIN:DAYLIGHT
TZOFFSETFROM:+0200
TZOFFSETTO:+0300
TZNAME:EEST
DTSTART:20230326T010000
END:DAYLIGHT
BEGIN:STANDARD
TZOFFSETFROM:+0300
TZOFFSETTO:+0200
TZNAME:EET
DTSTART:20231029T010000
END:STANDARD
END:VTIMEZONE
BEGIN:VEVENT
DTSTART;TZID=Europe/Helsinki:20230815T193000
DTEND;TZID=Europe/Helsinki:20230815T204500
DTSTAMP:20260422T184301
CREATED:20230323T141309Z
LAST-MODIFIED:20230323T141309Z
UID:6048-1692127800-1692132300@folkalender.dk
SUMMARY:Zenobia
DESCRIPTION:Koncert med danske viser og sange samt Zenobias egne numre.\nVarighed 70 min. uden pause.
URL:https://folkalender.dk/arrangement/zenobia-29/
LOCATION:Veggerby Kirke\, Kirketerpvej 83\, Nibe\, 9240
CATEGORIES:Koncert
ATTACH;FMTTYPE=image/jpeg:https://folkalender.dk/wp-content/uploads/2023/03/SAK_5858_01-scaled.jpg
GEO:56.892157;9.6588019
X-APPLE-STRUCTURED-LOCATION;VALUE=URI;X-ADDRESS=Veggerby Kirke Kirketerpvej 83 Nibe 9240;X-APPLE-RADIUS=500;X-TITLE=Kirketerpvej 83:geo:9.6588019,56.892157
END:VEVENT
BEGIN:VEVENT
DTSTART;TZID=Europe/Helsinki:20230818T193000
DTEND;TZID=Europe/Helsinki:20230818T220000
DTSTAMP:20260422T184301
CREATED:20230717T102448Z
LAST-MODIFIED:20230717T102951Z
UID:6624-1692387000-1692396000@folkalender.dk
SUMMARY:Mia Marine\, Hanna Wiskari\, Jonas Simonson
DESCRIPTION:Legende og mesterligt samspil mellem tre helt unike musikere; hver og en med sin egen personlige stil og farve. Musikken veksler mellem traditionel folkemusik\, nykomponerede kompositioner og improviseret musik\, som bare eksisterer her og nu.\nDet er fløjte\, saxofon og violin\, når det er allerbedst.\nAlle tre har en lang baggrund indenfor nordisk folkemusik i solo – og ensemble-form\, og har også arbejdet med andre genrer og udtryk i musikken.\nMia og Jonas bor i Göteborg og underviser på Højskolen for Scene- og Musik på Göteborgs Universitet\, mens Hanna bor i Auckland\, New Zealand.\nDet er polskaer\, hallinger og improvisationer\, og koncerten byder på ny-trad. Med stænk fra New Zealand\, eller måske groove-baseret root-musik ?? \nHanna Wiskari Griffith har været freelance musiker og pædagog i over 20 år\, og har spillet med forskellige bands og projekter. Med sopransaxofonen som hovedinstrument og den nordiske folkemusik som basis har Hanna viet mange år til at udvikle sin personlige lyd og udtryk.\nHanna har spillet i Goodland Trio\, NID\, Habbadam\, hvor både NID og Habbadam tidligere har gæstet Klaverfabrikken. Hanna har desuden arbejdet med Ethno\, et internationalt musikprojekt for unge musikere fra hele verden. Da hun flyttede til New Zealand i 2016 besluttede hun at starte Ethno der\, og er en af grundlæggerne og hovedorganisator af Ethno i New Zealand.  \nMia Marine er særlig kendt for sit ensemble-spil\, både som musiker\, komponist og pædagog. Hun brænder for samspillet\, stemmespillet og swinget i musikken. Som komponist og arrangør skriver hun musik både for egne projekter og for undervisning på skoler og workshops. Mia har derfor også været en hyppig gæst på Klaverfabrikken som både underviser i samarbejde med Musikaftenskolen og som musiker.\nMåske har du hørt hende spille violin med Marin/Marin\, MP3\, Marine og Roswall eller NID ?\nTil hverdag underviser hun på Højskolen for Scenekunst og Musik ved Göteborgs Universitet\, og på sin egen on-line-skole: Fiddle-Academy. \nJonas Simonson er en af Sveriges mest rutinerede og innovative fløjtespillere indenfor Nordisk Folkemusik. De seneste 35 år har han turneret rundt i verden med sin musik. Som ’fløjtepioner’ har han haft stor indflydelse på den svenske folkemusikscene. Hans intensive og rytmiske fløjtespil kan høres i bl.a. Groupa\, fløjtesextetten Tuultenpesä samt i trio med Anders Jormin kontrabas og Karin Nelson orgel. Du kan lytte til hans unikke stil på tidligere indspilninger med Den Fule\, Crane Dance Trio\, Kapell Frisell m. fl.  \nVi glæder os til at byde denne helt særlige trio velkommen på Klaverfabrikken.
URL:https://folkalender.dk/arrangement/mia-marine-hanna-wiskari-jonas-simonson/
LOCATION:Klaverfabrikken\, Hillerød\, Fredensvej 12A\, Hillerød\, 3400
CATEGORIES:Koncert
ATTACH;FMTTYPE=image/jpeg:https://folkalender.dk/wp-content/uploads/2023/07/230818-Marine-Simonson-Wiskari-No-text.jpg
ORGANIZER;CN="KlaverfabrikkenFOLK":MAILTO:thougaard@c.dk
GEO:55.9273762;12.2969322
X-APPLE-STRUCTURED-LOCATION;VALUE=URI;X-ADDRESS=Klaverfabrikken Hillerød Fredensvej 12A Hillerød 3400;X-APPLE-RADIUS=500;X-TITLE=Fredensvej 12A:geo:12.2969322,55.9273762
END:VEVENT
BEGIN:VEVENT
DTSTART;TZID=Europe/Helsinki:20230819T200000
DTEND;TZID=Europe/Helsinki:20230819T223000
DTSTAMP:20260422T184301
CREATED:20230410T143347Z
LAST-MODIFIED:20230410T143352Z
UID:6122-1692475200-1692484200@folkalender.dk
SUMMARY:Koncert med Delta Blues Band
DESCRIPTION:Delta Blues Band regnes som Skandinaviens ældste bluesband\, og det er ikke første gang besætningen ændrer sig. I forskellige set-up`s har bandet eksisteret siden 1960’erne.\nBandet er en sammensat størrelse med dygtige musikere med hver deres historie. Med stor gensidig respekt indarbejder bandet alle medlemmer og leverer et bredt udsnit af blues-genren. Fra den originale delta blues form på den ene side\, over urbanblues og frem til soul\, fusion og jazz i den modsatte. Det særlige ved Delta er\, at alle medlemmer fra deres plads bidrager til det fælles musikalske udtryk. Det giver en dynamik\, som er sjælden\, og uundgåeligt appellerer\, når de er på scenen og spiller live.\nOg så er et af bandmedlemmer – Thomas Puggaard-Müller – bosiddende i vores område. Vi glæder os til at opleve ham og resten af bandet i Rejsestaldes hyggelige lokaler. Det kommer ikke til at gå stille af!
URL:https://folkalender.dk/arrangement/koncert-med-delta-blues-band/
LOCATION:Kulturhuset Rejsestalden.\, Hovedgaden 29a\, Jægerspris\, 3630
CATEGORIES:Koncert
ATTACH;FMTTYPE=image/jpeg:https://folkalender.dk/wp-content/uploads/2023/04/L1019991-1-scaled.jpg
ORGANIZER;CN="Musik mellem Fjordene":MAILTO:musikmellemfjordene@gmail.com
GEO:55.8554115;11.9825747
X-APPLE-STRUCTURED-LOCATION;VALUE=URI;X-ADDRESS=Kulturhuset Rejsestalden. Hovedgaden 29a Jægerspris 3630;X-APPLE-RADIUS=500;X-TITLE=Hovedgaden 29a:geo:11.9825747,55.8554115
END:VEVENT
BEGIN:VEVENT
DTSTART;TZID=Europe/Helsinki:20230820T150000
DTEND;TZID=Europe/Helsinki:20230820T170000
DTSTAMP:20260422T184301
CREATED:20230227T081129Z
LAST-MODIFIED:20230227T081129Z
UID:5863-1692543600-1692550800@folkalender.dk
SUMMARY:Zenobia
DESCRIPTION:Koncert med danske viser og sange samt Zenobias egne numre.\nLæs mere på: https://festivejle.com/
URL:https://folkalender.dk/arrangement/zenobia-25/
LOCATION:Skyttehushaven\, Tirsbæk Strandvej 2\, Vejle\, 7100
CATEGORIES:Koncert
ATTACH;FMTTYPE=image/jpeg:https://folkalender.dk/wp-content/uploads/2023/02/SAK_5858_01-scaled.jpg
GEO:55.7085715;9.566157
X-APPLE-STRUCTURED-LOCATION;VALUE=URI;X-ADDRESS=Skyttehushaven Tirsbæk Strandvej 2 Vejle 7100;X-APPLE-RADIUS=500;X-TITLE=Tirsbæk Strandvej 2:geo:9.566157,55.7085715
END:VEVENT
BEGIN:VEVENT
DTSTART;TZID=Europe/Helsinki:20230820T150000
DTEND;TZID=Europe/Helsinki:20230820T170000
DTSTAMP:20260422T184301
CREATED:20230808T195730Z
LAST-MODIFIED:20230808T200538Z
UID:6763-1692543600-1692550800@folkalender.dk
SUMMARY:Ildfugl – Porten i Sarup
DESCRIPTION:Tidløs keltisk folkemusik fuld af fortællinger \nOdense-trioen Ildfugl\, der fredag den 11. august udsender sin nye single “Never-Ending Road”\, spiller sommerkoncert på Porten i Sarup. \nMed et personligt og anderledes lydunivers deler Ildfugl ud af folkemusikkens magi og evne til at skabe bånd på tværs af generationer.\nFælles kærlighed til keltisk folkemusik og J.R.R. Tolkiens univers\, samt lysten til at skrive og spille ny musik baseret på traditionen har samlet de tre erfarne musikere i denne nye trio.\nIldfugl tager lytteren med på rejse gennem vindomsuste bjerge\, disede dale og dybe skove med mellemlandinger i den keltiske verden\, og til rejsen hører både eventyrlige og menneskelige fortællinger. \nIldfugl er\nCarsten Rosenlund: Guitar\, whistles\, smallpipes\, vokal\nLisa Balle: Akkordeon\, vokal\nMarie Almlund: Harpe\, klaver\, vokal
URL:https://folkalender.dk/arrangement/ildfugl-porten-i-sarup/
LOCATION:Porten i Sarup\, Søbrovej 12\, Haarby\, 5683
CATEGORIES:Koncert
ATTACH;FMTTYPE=image/jpeg:https://folkalender.dk/wp-content/uploads/2023/08/Ildfugl-01-scaled.jpg
GEO:55.2094225;10.0862943
X-APPLE-STRUCTURED-LOCATION;VALUE=URI;X-ADDRESS=Porten i Sarup Søbrovej 12 Haarby 5683;X-APPLE-RADIUS=500;X-TITLE=Søbrovej 12:geo:10.0862943,55.2094225
END:VEVENT
BEGIN:VEVENT
DTSTART;TZID=Europe/Helsinki:20230820T193000
DTEND;TZID=Europe/Helsinki:20230820T203000
DTSTAMP:20260422T184301
CREATED:20230417T143132Z
LAST-MODIFIED:20230417T143132Z
UID:6178-1692559800-1692563400@folkalender.dk
SUMMARY:Morten Alfred & Vingården i Sthens Kirke
DESCRIPTION:Vingårdens musik tager udgangspunkt i den prisbelønnede guitarist Morten Alfred Høirups nodebog\, ’Ingela’s Waltz – 25 New Danish Folk Melodies’\, som udkom i sommeren 2022\, og i musik som de tre musikere skriver sammen.  \nMusikken til nodebogen har Høirup komponeret i løbet af de seneste 25 år\, de nyeste så sent som i 2020\, og mange af melodierne er blevet spillet og videreudviklet på spillesteder og festivaler i store dele af verden. Høirup modtog i 2004 en Danish Music Award i kategorien ’Årets Danske Folk Komponist’. \nI trioen Morten Alfred & Vingården forarbejdes og forædles både ældre og velmodnede kompositioner og perlende friske melodier. Efterfølgende deles musikken og sangene i samspil med publikum til såvel koncert som dans. \nRedskaberne på Vingården er sopran- og barytonsaxofon\, violin\, mundharmonika og guitar\, og musikken er præget af de medvirkende musikeres baggrund i genrer som Barok musik\, Jazz\, Folkemusik\, Kirkemusik\, Balkan\, Skiffle\, Bryllupsmusik og meget mere.
URL:https://folkalender.dk/arrangement/morten-alfred-vingaarden-i-sthens-kirke/
LOCATION:sthens kirke\, Egevænget 2\, Helsingør\, 3000
CATEGORIES:Koncert
ATTACH;FMTTYPE=image/jpeg:https://folkalender.dk/wp-content/uploads/2023/04/IMG_3691-2-scaled.jpg
GEO:56.0199164;12.5878181
X-APPLE-STRUCTURED-LOCATION;VALUE=URI;X-ADDRESS=sthens kirke Egevænget 2 Helsingør 3000;X-APPLE-RADIUS=500;X-TITLE=Egevænget 2:geo:12.5878181,56.0199164
END:VEVENT
END:VCALENDAR