BEGIN:VCALENDAR
VERSION:2.0
PRODID:-//Folkalender - ECPv6.10.1.1//NONSGML v1.0//EN
CALSCALE:GREGORIAN
METHOD:PUBLISH
X-ORIGINAL-URL:https://folkalender.dk
X-WR-CALDESC:Begivenheder for Folkalender
REFRESH-INTERVAL;VALUE=DURATION:PT1H
X-Robots-Tag:noindex
X-PUBLISHED-TTL:PT1H
BEGIN:VTIMEZONE
TZID:Europe/Helsinki
BEGIN:DAYLIGHT
TZOFFSETFROM:+0200
TZOFFSETTO:+0300
TZNAME:EEST
DTSTART:20230326T010000
END:DAYLIGHT
BEGIN:STANDARD
TZOFFSETFROM:+0300
TZOFFSETTO:+0200
TZNAME:EET
DTSTART:20231029T010000
END:STANDARD
END:VTIMEZONE
BEGIN:VEVENT
DTSTART;TZID=Europe/Helsinki:20230803T200000
DTEND;TZID=Europe/Helsinki:20230806T160000
DTSTAMP:20260422T122333
CREATED:20230424T134946Z
LAST-MODIFIED:20230424T135725Z
UID:6236-1691092800-1691337600@folkalender.dk
SUMMARY:Musik over Præstø Fjord Nordisk Folk Festival / spilletræf
DESCRIPTION:Alle er velkommen til buskspil / JAM\, koncerter\, dans\, gøgl\, vikinger  stjernehimmel\, fuldmåne\, bare tæer i græsset  lyssebænk\, farmorhuset  bar og mad og Viggas Vaffelbod med mere
URL:https://folkalender.dk/arrangement/musik-over-praestoe-fjord-nordisk-folk-festival-spilletraef/
CATEGORIES:Festival
END:VEVENT
BEGIN:VEVENT
DTSTART;TZID=Europe/Helsinki:20230804T204500
DTEND;TZID=Europe/Helsinki:20230804T221500
DTSTAMP:20260422T122333
CREATED:20230417T142218Z
LAST-MODIFIED:20230513T040146Z
UID:6175-1691181900-1691187300@folkalender.dk
SUMMARY:Morten Alfred & Vingården på Musik over Præstø Fjord
DESCRIPTION:Vingårdens musik tager udgangspunkt i den prisbelønnede guitarist Morten Alfred Høirups nodebog\, ’Ingela’s Waltz – 25 New Danish Folk Melodies’\, som udkom i sommeren 2022\, og i musik som de tre musikere skriver sammen.  \nMusikken til nodebogen har Høirup komponeret i løbet af de seneste 25 år\, de nyeste så sent som i 2020\, og mange af melodierne er blevet spillet og videreudviklet på spillesteder og festivaler i store dele af verden. Høirup modtog i 2004 en Danish Music Award i kategorien ’Årets Danske Folk Komponist’. \nI trioen Morten Alfred & Vingården forarbejdes og forædles både ældre og velmodnede kompositioner og perlende friske melodier. Efterfølgende deles musikken og sangene i samspil med publikum til såvel koncert som dans. \nRedskaberne på Vingården er sopran- og barytonsaxofon\, violin\, mundharmonika og guitar\, og musikken er præget af de medvirkende musikeres baggrund i genrer som Barok musik\, Jazz\, Folkemusik\, Kirkemusik\, Balkan\, Skiffle\, Bryllupsmusik og meget mere.
URL:https://folkalender.dk/arrangement/morten-alfred-vingaarden-paa-musik-over-praestoe-fjord/
LOCATION:Musik over Præstø Fjord\, Smidstrupvej 69\, Tappernøje\, 4733
CATEGORIES:Bal
ATTACH;FMTTYPE=image/jpeg:https://folkalender.dk/wp-content/uploads/2023/04/IMG_3691-1-scaled.jpg
GEO:55.156597;11.9929318
X-APPLE-STRUCTURED-LOCATION;VALUE=URI;X-ADDRESS=Musik over Præstø Fjord Smidstrupvej 69 Tappernøje 4733;X-APPLE-RADIUS=500;X-TITLE=Smidstrupvej 69:geo:11.9929318,55.156597
END:VEVENT
BEGIN:VEVENT
DTSTART;TZID=Europe/Helsinki:20230805T123000
DTEND;TZID=Europe/Helsinki:20230805T140000
DTSTAMP:20260422T122333
CREATED:20230803T110811Z
LAST-MODIFIED:20230803T112247Z
UID:6675-1691238600-1691244000@folkalender.dk
SUMMARY:Vandrekoncert med Ida Wenøe & Hal Parfitt-Murray
DESCRIPTION:Vandrekoncert m. Ida Wenøe og Hal Parfitt-Murray \nVi skyder den nye sæson i gang med den fortryllende og fantastiske sangskriver\, Ida Wenøe. Ida og hendes violinist Hal Parfitt-Murray tager publikum i hånden og går gennem Horsens\, med indlagte akustiske koncertpauser. \nVi mødes på Kulturstationen kl. 12:30 og slutter på Platform K ca. kl. 14:00. \nArrangeres i samarbejde med Platform K. \nVi skal på vandrekoncert – find os og vær med!\nIda Wenøe spiller sine fantastiske sange – helt akustisk. \nKulturstationen 12:30\nVitus Berings Parken 13:00\nPlatform K 13:40 \nFuld tidsplan\, Ida Wenøe vandrekoncert: \n12:30 Musikere og publikum mødes ved Kulturstationen\n12:30 Ida og Hal spiller et par sange – gerne udendørs uden forstærkning (med mulighed for at rykke ind på Kulturstationen i tilfælde af dårligt vejr) \n12:45 Vi går mod Vitus Berings Parken (Google maps siger 9 minutters gang)\n13:00 Alle ankommet til Vitus Berings Parken\n13:00 Ida og Hal spiller et par sange uden forstærkning \n13:15 Vi går mod Platform K\n13:35 Alle ankommet til Platform K (Google maps siger 14 minutters gang)\n13:40 Ida og Hal spiller et par sange – gerne udendørs uden forstærkning (med mulighed for at rykke ind på Platform K i tilfælde af dårligt vejr) \n14:00 Tak for idag \nFor alle \nGRATIS ENTRE
URL:https://folkalender.dk/arrangement/vandrekoncert-med-ida-wenoee-hal-parfitt-murray/
LOCATION:Kulturstationen Horsens\, Skolegade 7-9\, Horsens\, 8700
CATEGORIES:Koncert
ATTACH;FMTTYPE=image/png:https://folkalender.dk/wp-content/uploads/2023/08/Ida-Wenoee-Undersea-press-photo-photo-Ida-Wenoee.png
GEO:55.8635466;9.8515003
X-APPLE-STRUCTURED-LOCATION;VALUE=URI;X-ADDRESS=Kulturstationen Horsens Skolegade 7-9 Horsens 8700;X-APPLE-RADIUS=500;X-TITLE=Skolegade 7-9:geo:9.8515003,55.8635466
END:VEVENT
BEGIN:VEVENT
DTSTART;TZID=Europe/Helsinki:20230805T193000
DTEND;TZID=Europe/Helsinki:20230805T213000
DTSTAMP:20260422T122333
CREATED:20230614T121353Z
LAST-MODIFIED:20230619T072730Z
UID:6488-1691263800-1691271000@folkalender.dk
SUMMARY:Perry Stenbäck & Dekadans
DESCRIPTION:Koncerten foregår i Møllers Lade.\nDer er tapas\, musik og medbring-selv drikkevarer.\nBilletter kan forudbestilles senest 3 dage før på MobilePay: 4037 3494. \nPerry Stenbäck & Dekadans – Moderne viser på svensk (perrystenback.com) \nBandet tager den nordiske sangskrivertradition under kærlig behandling med\, foruden Perry’s egne sange\, viser af bl.a Cornelis Vreeswijk\, Evert Taube\, Dan Andersson\, Myhre/Hovland og Sebastian.\nPerry Stenbäck: Vocal\, guitarer\nUlrika Rosdahl: Kor\, Percussion\nChristine Dueholm: Trommer\, kor\nJan Hansen: Keyboard\, harmonika\, kor\nHenrik Kunz: Kontrabas\, kor
URL:https://folkalender.dk/arrangement/perry-stenback-dekadans-2/
LOCATION:Møllers Lade\, Gl. Almindvej 7\, Viborg\, 8800
CATEGORIES:Koncert
ATTACH;FMTTYPE=image/jpeg:https://folkalender.dk/wp-content/uploads/2023/06/Perry-Stenback-Dekadans.jpg
GEO:56.3741119;9.3753511
X-APPLE-STRUCTURED-LOCATION;VALUE=URI;X-ADDRESS=Møllers Lade Gl. Almindvej 7 Viborg 8800;X-APPLE-RADIUS=500;X-TITLE=Gl. Almindvej 7:geo:9.3753511,56.3741119
END:VEVENT
BEGIN:VEVENT
DTSTART;TZID=Europe/Helsinki:20230806T140000
DTEND;TZID=Europe/Helsinki:20230806T154500
DTSTAMP:20260422T122333
CREATED:20230227T084312Z
LAST-MODIFIED:20230227T084312Z
UID:5868-1691330400-1691336700@folkalender.dk
SUMMARY:Zenobia
DESCRIPTION:Koncert med danske viser og sange samt Zenobias egne numre.\nVarighed 2 x 45 min. med kaffe og kage i pausen.
URL:https://folkalender.dk/arrangement/zenobia-26/
LOCATION:Seniorhøjskolen\, Nørre Nissum\, Degneparken 22\, Lemvig\, 7620
CATEGORIES:Koncert
ATTACH;FMTTYPE=image/jpeg:https://folkalender.dk/wp-content/uploads/2023/02/SAK_5997_sh-scaled.jpg
GEO:56.5465948;8.4138886
X-APPLE-STRUCTURED-LOCATION;VALUE=URI;X-ADDRESS=Seniorhøjskolen Nørre Nissum Degneparken 22 Lemvig 7620;X-APPLE-RADIUS=500;X-TITLE=Degneparken 22:geo:8.4138886,56.5465948
END:VEVENT
BEGIN:VEVENT
DTSTART;TZID=Europe/Helsinki:20230806T150000
DTEND;TZID=Europe/Helsinki:20230806T163000
DTSTAMP:20260422T122333
CREATED:20230803T083053Z
LAST-MODIFIED:20230803T083606Z
UID:6672-1691334000-1691339400@folkalender.dk
SUMMARY:Søndagsmatiné i Sulelængen i Magtenbølle
DESCRIPTION:EKSTRA SØNDAGSMATINÉ I SULELÆNGEN I MAGTENBØLLE\nSØNDAG DEN 6. AUGUST KL. 15\nSulelængen i Magtenbølle har haft stor succes med sine Søndagsmatinéer i juli måned.\nOg nu er der pludselig opstået en mulighed for at arrangere en ekstra koncert på søndag\, den\n6. august.\nDe to skotske musikere Coralie og Adam Usmani gæster nemlig i weekenden Sulelængens\nautocamperplads i Magtenbølle. Med sig har de deres to børn Ezra og Alyssa på 15 og 11 år\,\nsom også dyrker musik.\nFamilien elsker at rejse i deres autocamper\, så nogle af deres sange og musik er opstået på\ndisse ture. Familien var sidste år i Danmark\, hvor de blandt andet deltog i den nordiske folkemusikfestival Musik over Præstø Fjord.\nDer skal de også deltage i år\, men først slår de et slag rundt om Sulelængen i Magtenbølle.\nForvent god skotskklingende folkemusik\, men også musik inspireret fra New Zealand\, hvor\nAdam Usmani oprindelig stammer fra.
URL:https://folkalender.dk/arrangement/soendagsmatine-i-sulelaengen-i-magtenboelle-2/
LOCATION:Sulelængen i Magtenbølle\, Magtenbøllevej 94\, Vissenbjerg\, 5492\, Danmark
CATEGORIES:Koncert
ATTACH;FMTTYPE=image/jpeg:https://folkalender.dk/wp-content/uploads/2023/08/Usmani_Family_with_Camper.jpg
ORGANIZER;CN="Foreningen Sulel%C3%A6ngens Venner":MAILTO:magtenboelle@gmail.com
GEO:55.3770771;10.1715716
X-APPLE-STRUCTURED-LOCATION;VALUE=URI;X-ADDRESS=Sulelængen i Magtenbølle Magtenbøllevej 94 Vissenbjerg 5492 Danmark;X-APPLE-RADIUS=500;X-TITLE=Magtenbøllevej 94:geo:10.1715716,55.3770771
END:VEVENT
END:VCALENDAR