BEGIN:VCALENDAR
VERSION:2.0
PRODID:-//Folkalender - ECPv6.10.1.1//NONSGML v1.0//EN
CALSCALE:GREGORIAN
METHOD:PUBLISH
X-ORIGINAL-URL:https://folkalender.dk
X-WR-CALDESC:Begivenheder for Folkalender
REFRESH-INTERVAL;VALUE=DURATION:PT1H
X-Robots-Tag:noindex
X-PUBLISHED-TTL:PT1H
BEGIN:VTIMEZONE
TZID:Europe/Helsinki
BEGIN:DAYLIGHT
TZOFFSETFROM:+0200
TZOFFSETTO:+0300
TZNAME:EEST
DTSTART:20230326T010000
END:DAYLIGHT
BEGIN:STANDARD
TZOFFSETFROM:+0300
TZOFFSETTO:+0200
TZNAME:EET
DTSTART:20231029T010000
END:STANDARD
END:VTIMEZONE
BEGIN:VEVENT
DTSTART;VALUE=DATE:20230717
DTEND;VALUE=DATE:20230723
DTSTAMP:20260422T122333
CREATED:20221120T102906Z
LAST-MODIFIED:20221120T102906Z
UID:5011-1689552000-1690070399@folkalender.dk
SUMMARY:Landsstævne for folkedanser og spillemænd
DESCRIPTION:Endelig kan vi offentliggøre\, at Landsstævnet for folkedansere og spillemænd 2023 afholdes i uge 29 den 17.-22. juli i Sønderborg. \nVi håber at se rigtig mange fra nær og fjern til en fantastisk uge med musik & dans. \nPå vegne af Stævneudvalget.
URL:https://folkalender.dk/arrangement/landsstaevne-for-folkedanser-og-spillemaend/
LOCATION:Sønderborg\, Sønderborg\, 6400
CATEGORIES:Bal,Danseworkshop,Legestue,Spilleworkshop,Stævne
GEO:54.9510298;9.6814431
END:VEVENT
BEGIN:VEVENT
DTSTART;TZID=Europe/Helsinki:20230719T200000
DTEND;TZID=Europe/Helsinki:20230719T213000
DTSTAMP:20260422T122333
CREATED:20230501T133211Z
LAST-MODIFIED:20230501T133348Z
UID:6300-1689796800-1689802200@folkalender.dk
SUMMARY:Mirja Klippel
DESCRIPTION:Med en stor stemme\, et inderligt klangunivers og en sans for at skrive sange\, der forbinder personlige erfaringer med billeder fra den nordiske natur\, har den finske sangskriver og sanger markeret sig som et særlig talent på den alternative folk-scene. \nAllerede hendes debut-EP Lift Your Lion (2016) indbragte den københavner-baserede musiker en Danish Music Award Folk som Årets Sangskriver. Siden har hun turneret flittigt i Danmark\, såvel som resten af Europa og Nordatlanten\, ligesom hun i 2018 udsendte det roste fuldlængde-album River of Silver. Hendes seneste album\, Slow Coming Alive\, fik tre nominationer ved Danish Music Awards Roots i 2021. \nMed dette album føjer Klippel atter nye nuancer til sin alternative og poetiske folk og fortsætter med at udvide dybderne og højderne i sin sangskrivning. Med sin faste medmusiker Alex Jønsson\, drager hun publikum ind i et organisk og atmosfærisk univers\, hvor personlige erfaringer åbner op for psykologiske dybder\, og hvor intime rum går hånd i hånd med rå og vilde landskaber. \nLine up:\nMirja Klippel: sang\, guitar & waldzither\nAlex Jønsson: guitar\, kor
URL:https://folkalender.dk/arrangement/mirja-klippel-4/
LOCATION:Tranum Strandgård Kunst- & Kulturcenter\, Tranum Strandvej 143\, Tranum Strand\, Brovst\, 9460
CATEGORIES:Koncert
ATTACH;FMTTYPE=image/jpeg:https://folkalender.dk/wp-content/uploads/2023/05/folkalender.jpg
END:VEVENT
BEGIN:VEVENT
DTSTART;TZID=Europe/Helsinki:20230720T160000
DTEND;TZID=Europe/Helsinki:20230723T160000
DTSTAMP:20260422T122333
CREATED:20230627T143946Z
LAST-MODIFIED:20230627T144219Z
UID:6538-1689868800-1690128000@folkalender.dk
SUMMARY:Fanø Free Folk Festival #12
DESCRIPTION:Som altid byder Fanøs nysgerrige mikrofestival for folkemusikalske eksperimenter på et alsidigt og internationalt program\, der favner alt fra sjælfulde irakiske sange og østafrikansk dansefest til postpunket minimalisme\, hjemmebyggede instrumenter\, lyrisk nordisk folkemusik og mikrotonalt fjeld-rave. Alt sammen i ultrahyggelige og smukke omgivelser i landsbyen Sønderho. Festivalen finder sted 20-22 juli\, og byder på i alt 20 stærke kunstnere fra nær og fjern. \nMan kører vestpå så længe man kan\, så tager man en lille færge\, og så kører man sydpå så længe man kan. Her lander man i Sønderho\, Fanøs sydligste landsby\, for nogle år siden kåret som Danmarks smukkeste landsby og en weekend i juli hjemsted for en boblende gryde af folkemusikalske eksperimenter. Mikrofestivalen Fanø Free Folk Festival er tilbage!  \nSiden 2010 har festivalen skabt et unikt eksperimentarium for anderledes møder og folkemusikalske toner fra hele verden i Fanøs smukke rammer\, hvor folkemusikken i forvejen har en ganske særlig plads. 20-22 juli er det atter tid til at lade sig henføre af folkemusikkens skæve afkroge\, når Fanø Free Folk Festival  fylder Sønderho med sprudlende toner fra et væld af lande og traditioner.  \nI alt kan man opleve 20 koncerter. De fleste i Søndero Forsamlingshus\, men der vil også være indslag andre steder i byen\, bl.a. i Sønderho Kirke. Her kan man af internationale navne se frem til bl.a. den sjælfulde irakiske sangerinde Nadin Al Khalidi (kendt fra gruppen Tarabband) i duo med den eksperimenterende svensk/etiopsiek bassist Cassius Lambert\, den canadiske kult-guitarist og sanger Eric Chenaux\, der har udsendt adskillige kritikerroste album på Constellation Records og den britiske percussionist Bex Burch\, der blander postpunk\, improv og hvad hun selv kalder for “messy minimalism”. Man kan også se frem til økofeministiske folketoner fra den polske trio Sutari og excentriske lydudforskninger og hjemmebyggede instrumenter fra franske Loup Uberto\, og så kan man danse igennem til østafrikanske toner fra ugandiske Leo PaLayeng. \nDen nordiske folkscene rykker i disse år med mange spændende yngre navne\, og disse strømninger er naturligvis også stærkt repræsenteret på festivalen\, hvor vi i år har glæden af at byde på markante navne som den svenske duo Vågspel\, det sfæriske norsk/svenske projekt Ævestaden og den helt særlige mikrotonale fjeldtechno fra norske Naaljos Ljom. \nSelvfølgelig er Danmark også stærkt repræsenteret. Bl.a. med den herboende tyrkiske musiker Orhan Özgür Turans nye syrede duo Thorhan\, tunge improvisationer fra supergruppen KosmiK KloK\, eksperimenterende folk/pop fra albumaktuelle Mija Milovic og ambiente toner fra trioen Kammer\, der for nylig har indspillet et album på Fanø.  \nFølgende kunstnere kan opleves på Fanø Free Folk Festival #12:\nBell Lungs (UK) / Bex Burch (UK) / Eric Chenaux (CA) / Hansn/Hoier / Illemann / Kammer / KosmiK KloK / Leo PaLayeng (UG) / Loup Uberto (FR) / Maria Bertel / Mija Milovic / Naaljos Ljom (NO) / Nadin Al Khalidi & Cassius Lambert (INT) / O (NO) / Rasmus Kjorstad (NO) / Ronja (DE) / Sutari (PL) / Thorhan / Vågspel (SE) / Ævestaden (NO/SE)  \nPartoutbilletter til Fanø Free Folk Festival #12 er allerede udsolgte. Vanen tro sælges der dog et begrænset antal dagsbilletter i døren til Sønderhos helt særlige mikrofestival.  \nDagsbilletter (kun dørsalg):\nTorsdag: 100 dkk\nFredag: 250 dkk\nLørdag: 250 dkk \nOm Fanø Free Folk Festival:\nFanø Free Folk Festival er en frivilligt drevet mikrofestival for nye møder mellem folkemusikalske traditioner og nye eksperimenter. Festivalen kunne fejre 10 års jubilæum i 2019. Fanø Free Folk Festival #12 finder sted 20-22 juli 2023. Find mere info om årets festival her. \nFanø Free Folk Festival #12 er støttet af Statens Kunstfond\, PULS\, KODA Kultur\, Fonden Roskilde Festival\, Fanø Brugsforening og Camping Klitten og præsenteres i samarbejde med ALICE og Kirkerne på Fanø
URL:https://folkalender.dk/arrangement/fanoe-free-folk-festival-12/
LOCATION:Sønderho Forsamlingshus\, Gammel Byvej 8\, Fanø\, 6720
CATEGORIES:Festival,Koncert
ATTACH;FMTTYPE=image/jpeg:https://folkalender.dk/wp-content/uploads/2023/06/FFFF12_event.jpeg
GEO:55.3490508;8.470377
X-APPLE-STRUCTURED-LOCATION;VALUE=URI;X-ADDRESS=Sønderho Forsamlingshus Gammel Byvej 8 Fanø 6720;X-APPLE-RADIUS=500;X-TITLE=Gammel Byvej 8:geo:8.470377,55.3490508
END:VEVENT
BEGIN:VEVENT
DTSTART;TZID=Europe/Helsinki:20230720T200000
DTEND;TZID=Europe/Helsinki:20230720T210000
DTSTAMP:20260422T122333
CREATED:20230112T210535Z
LAST-MODIFIED:20230112T210535Z
UID:5408-1689883200-1689886800@folkalender.dk
SUMMARY:Mette Kathrine\, Hjerk kirke
DESCRIPTION:Folkemusikgudstjeneste med bl.a Mette Kathrines komposition for orgel og harmonika
URL:https://folkalender.dk/arrangement/mette-kathrine-hjerk-kirke/
LOCATION:Hjerk kirke\, Hjerk kirkevej 1A\, Roslev\, 7870
CATEGORIES:Gudstjeneste
ATTACH;FMTTYPE=image/jpeg:https://folkalender.dk/wp-content/uploads/2023/01/Mette-foto.jpg
GEO:56.6914831;8.9238342
X-APPLE-STRUCTURED-LOCATION;VALUE=URI;X-ADDRESS=Hjerk kirke Hjerk kirkevej 1A Roslev 7870;X-APPLE-RADIUS=500;X-TITLE=Hjerk kirkevej 1A:geo:8.9238342,56.6914831
END:VEVENT
BEGIN:VEVENT
DTSTART;TZID=Europe/Helsinki:20230721T173000
DTEND;TZID=Europe/Helsinki:20230721T190000
DTSTAMP:20260422T122333
CREATED:20230210T130727Z
LAST-MODIFIED:20230210T130727Z
UID:5665-1689960600-1689966000@folkalender.dk
SUMMARY:Beat The Drum - The Runrig Exerience
DESCRIPTION:Glæd jer til en storslået hyldestkoncert for det Skotske band Runrig.  \nBeat The Drum er et professionelt tribute band\, der spiller en hyldest til det skotske keltiske rock-band ‘Runrig’. \nDet er tid til ‘Dance Again’ og genopleve de utallige Runrig sange\, herunder Loch Lomond\, Rocket To The Moon\, Every River\, Greatest Flame\, Hearts of Olden Glory og mange flere leveret af det nye band ‘Runrig Experience’. \nRunrig var et af Skotlands mest succesfulde bands\, som udover successen i hjemlandet\, også havde en stor\, trofast fanskare i Danmark og Tyskland. Bandet startede på Isle of Skye tilbage i 1973 og nåede i alt at lave 14 studiealbums. \nI 2016 anononcerede Runrig\, at det 14. album ville blive det sidste og i 2018 afholdt de en kæmpe afskedsturné under titlen “The Final Mile” med to udsolgte koncerter i henholdsvis Royal Arena og Jyske Bank Boxen\, og afsluttede på hjemmebane i Skotland foran 52.000 publikummer på Stirling City Park.
URL:https://folkalender.dk/arrangement/beat-the-drum-the-runrig-exerience/
LOCATION:Samsø Festival\, Strandskoven\, Samsø\, 8305\, Danmark
CATEGORIES:Koncert
ATTACH;FMTTYPE=image/jpeg:https://folkalender.dk/wp-content/uploads/2023/02/Beat-The-Drum-1-10-3.jpg
ORGANIZER;CN="Art &amp%3B Music Scandinavia":MAILTO:bent@art-music.dk
GEO:55.8345496;10.6384639
X-APPLE-STRUCTURED-LOCATION;VALUE=URI;X-ADDRESS=Samsø Festival Strandskoven Samsø 8305 Danmark;X-APPLE-RADIUS=500;X-TITLE=Strandskoven:geo:10.6384639,55.8345496
END:VEVENT
BEGIN:VEVENT
DTSTART;TZID=Europe/Helsinki:20230723T100000
DTEND;TZID=Europe/Helsinki:20230729T170000
DTSTAMP:20260422T122333
CREATED:20230321T203634Z
LAST-MODIFIED:20230430T211721Z
UID:6018-1690106400-1690650000@folkalender.dk
SUMMARY:Triangle Folklore Festival 2023
DESCRIPTION:For 10. gang afholdes Triangle Folklore Festival og du har nu mulighed for at opleve en kulturel danseglæde\, hvor alle de deltagende festivals grupper fra hele verden vil vise dig et brag af et show med fest og farver. Tag din partner eller bedste ven med eller forkæl dig selv og få årets danseoplevelse.\nLæs mere om de forskellige grupper på: www.trianglefolklorefestival.dk\nEller følg os på Facebook – Triangle Folklore Festival og #trianglefolklorefestival \nHvis man kunne tænke sig at være frivillig kan man læse mere på http://www.trianglefolklorefestival.dk/medhjaelper/
URL:https://folkalender.dk/arrangement/triangle-folklore-festival-2023/
ATTACH;FMTTYPE=image/png:https://folkalender.dk/wp-content/uploads/2023/03/TFF_2023-Folkalender.png
END:VEVENT
END:VCALENDAR