BEGIN:VCALENDAR
VERSION:2.0
PRODID:-//Folkalender - ECPv6.10.1.1//NONSGML v1.0//EN
CALSCALE:GREGORIAN
METHOD:PUBLISH
X-WR-CALNAME:Folkalender
X-ORIGINAL-URL:https://folkalender.dk
X-WR-CALDESC:Begivenheder for Folkalender
REFRESH-INTERVAL;VALUE=DURATION:PT1H
X-Robots-Tag:noindex
X-PUBLISHED-TTL:PT1H
BEGIN:VTIMEZONE
TZID:Europe/Helsinki
BEGIN:DAYLIGHT
TZOFFSETFROM:+0200
TZOFFSETTO:+0300
TZNAME:EEST
DTSTART:20230326T010000
END:DAYLIGHT
BEGIN:STANDARD
TZOFFSETFROM:+0300
TZOFFSETTO:+0200
TZNAME:EET
DTSTART:20231029T010000
END:STANDARD
END:VTIMEZONE
BEGIN:VEVENT
DTSTART;TZID=Europe/Helsinki:20230703T190000
DTEND;TZID=Europe/Helsinki:20230703T210000
DTSTAMP:20260422T121036
CREATED:20230604T092850Z
LAST-MODIFIED:20230604T093847Z
UID:6453-1688410800-1688418000@folkalender.dk
SUMMARY:Kom og dans I mosen
DESCRIPTION:Folkemusiklauget Fynboerne spiller op til dans og alle kan være med til at danse. Så tag dine børn\, din nabo og forældre med til Odense.
URL:https://folkalender.dk/arrangement/kom-og-dans-i-mosen/2023-07-03/
LOCATION:Munke mose\, 5000 Odense
CATEGORIES:Bal
ATTACH;FMTTYPE=image/jpeg:https://folkalender.dk/wp-content/uploads/2023/06/20220711_194322-1-scaled.jpg
GEO:55.4098387;10.4033485
END:VEVENT
BEGIN:VEVENT
DTSTART;TZID=Europe/Helsinki:20230705T193000
DTEND;TZID=Europe/Helsinki:20230705T213000
DTSTAMP:20260422T121036
CREATED:20230430T083351Z
LAST-MODIFIED:20230430T084005Z
UID:6278-1688585400-1688592600@folkalender.dk
SUMMARY:Sommerdans og sommerspil på Museum Rebild.
DESCRIPTION:Vi spiller og danser udendørs ved Museet eller i Rebildporten og du inviteres til at spille\, danse med.\nHvis vejret er dårligt går vi indenfor på museet.  \nSæsonen starter onsdag den 5.juli kl. 19.30 hver onsdag til og med den 2.august 2022.  \nCafeen på museet er åben imens og du kan købe kaffe og brød i pausen\, hvor vi også synger fællessange. \nVi spiller med udgangspunkt i onsdagsspillemændenes repertoire. Læs mere og find noder på http://folkemusikarkivet.dk/ under onsdagsspillemænd. \nDen almindelige søndagsdans kører som sædvanlig hele året rundt søndage kl 14-17.
URL:https://folkalender.dk/arrangement/sommerdans-og-sommerspil-paa-museum-rebild/2023-07-05/
LOCATION:Museum Rebild\, Rebildvej 25B\, Rebild\, Skørping\, 9520
CATEGORIES:Bal,Jam
ATTACH;FMTTYPE=image/jpeg:https://folkalender.dk/wp-content/uploads/2023/04/sommerdans.jpg
ORGANIZER;CN="Museum Rebild":MAILTO:spillemandsmuseet@mail.dk
END:VEVENT
BEGIN:VEVENT
DTSTART;TZID=Europe/Helsinki:20230707T170000
DTEND;TZID=Europe/Helsinki:20230707T180000
DTSTAMP:20260422T121036
CREATED:20230417T141753Z
LAST-MODIFIED:20230606T011014Z
UID:6172-1688749200-1688752800@folkalender.dk
SUMMARY:Morten Alfred & Vingården spiller til Fannikerdagene
DESCRIPTION:I modsætning til mange andre steder i Danmark har Fanø formået både at bevare\, men også at videreudvikle øens kulturarv til glæde for både øens beboer og gæster. Dette kan du opleve til de traditionsrige Fannikerdage\, som afholdes i Nordby på Fanø hvert  i juli. \nVingårdens musik tager udgangspunkt i den prisbelønnede guitarist Morten Alfred Høirups nodebog\, ’Ingela’s Waltz – 25 New Danish Folk Melodies’\, som udkom i sommeren 2022\, og i musik som de tre musikere skriver sammen.  \nMusikken til nodebogen har Høirup komponeret i løbet af de seneste 25 år\, de nyeste så sent som i 2020\, og mange af melodierne er blevet spillet og videreudviklet på spillesteder og festivaler i store dele af verden. Høirup modtog i 2004 en Danish Music Award i kategorien ’Årets Danske Folk Komponist’. \nI trioen Morten Alfred & Vingården forarbejdes og forædles både ældre og velmodnede kompositioner og perlende friske melodier. Efterfølgende deles musikken og sangene i samspil med publikum til såvel koncert som dans. \nRedskaberne på Vingården er sopran- og barytonsaxofon\, violin\, mundharmonika og guitar\, og musikken er præget af de medvirkende musikeres baggrund i genrer som Barok musik\, Jazz\, Folkemusik\, Kirkemusik\, Balkan\, Skiffle\, Bryllupsmusik og meget mere.
URL:https://folkalender.dk/arrangement/morten-alfred-vingaarden-spiller-til-fannikerdagene/
LOCATION:Nordby\, Fanø\, Nordby\, 6720
CATEGORIES:Festival
ATTACH;FMTTYPE=image/jpeg:https://folkalender.dk/wp-content/uploads/2023/04/IMG_3691-scaled.jpg
ORGANIZER;CN="Fannikerdagen":MAILTO:mail@fannikerdagen.dk
GEO:55.444726;8.39968
END:VEVENT
BEGIN:VEVENT
DTSTART;TZID=Europe/Helsinki:20230708T150000
DTEND;TZID=Europe/Helsinki:20230708T210000
DTSTAMP:20260422T121036
CREATED:20230612T100147Z
LAST-MODIFIED:20230707T065827Z
UID:6482-1688828400-1688850000@folkalender.dk
SUMMARY:Åbent hus med VERDENSMUSIK // Open house with WORLD MUSIC @CulturArte
DESCRIPTION:Du er inviteret til årets festligste kultureksplosion på Culturarte. \nEthno Denmark og Ethno Kids spiller koncert med musik fra hele verden. Du vil blive rørt og dit danseben kildet. Glæd dig! \nFor 7. gang mødes folkemusikere fra hele verden i Køng på Vestfyn! De er kommet for at være en del af den store årlige kulturudveksling\, organiseret af den verdensomspændende organisation ‘Ethno’. Denne dag har I mulighed for at se og høre alt det vi har arbejdet med.\nGennem 9 intense dage med fællesskab i fokus\, arbejder Ethno Denmark deltagerne\, på kulturudveksling af folkemusik og traditioner. I sidste ende\, kan du høre den unikke lyd af fællesskab\, samhørighed og lyden af et fælles sprog\, MUSIKKEN! \nVær med til sambaworkshop med familien Degas\, som alle kan være med til – store som små – alle som har lyst til at prøve at tromme\, danse og synge. Kom som I er! \nkl. 15:00 – Dørene åbner\nkl. 15:30 – Samba workshop\nkl. 17:00 – Fællesspisning\nkl. 18:30 – KONCERT\nfra kl. 21:00 – Åben scene (bar og hang-out) \nSes vi? \nDet koster 150 kr at deltage i dagens spisning\, sambaworkshop og koncert.\nTilmeld dig her\, hvis du skal spise med\, så vi ved\, hvor mange\, vi skal lave mad til https://forms.gle/M1VNuGguKSqHWigo8 \nHvis du kun vil komme for at se koncerten koster det 60 kr.\nBørn til og med 16 år får en rabat på 50%. Børn under 6 får gratis adgang. \nBilletter betales ved ankomst kontant eller via mobilepay. \nKoncerten er muliggjort med støtte fra: Statens Kunstfond\, Augustinus Fonden\, Assens Kommune\, Tempi og Sportgood Fonden.
URL:https://folkalender.dk/arrangement/aabent-hus-med-verdensmusik-open-house-with-world-music-culturarte/
LOCATION:CulturArte\, Byvejen 5\, Glamsbjerg\, 5620
CATEGORIES:Danseworkshop,Festival,Jam,Koncert,Stævne
ATTACH;FMTTYPE=image/png:https://folkalender.dk/wp-content/uploads/2023/06/Screenshot-2023-06-11-at-18.29.43.png
ORGANIZER;CN="Ethno Denmark":MAILTO:Denmark@ethno.world
GEO:55.262445;10.120515
X-APPLE-STRUCTURED-LOCATION;VALUE=URI;X-ADDRESS=CulturArte Byvejen 5 Glamsbjerg 5620;X-APPLE-RADIUS=500;X-TITLE=Byvejen 5:geo:10.120515,55.262445
END:VEVENT
BEGIN:VEVENT
DTSTART;TZID=Europe/Helsinki:20230708T190000
DTEND;TZID=Europe/Helsinki:20230708T200000
DTSTAMP:20260422T121036
CREATED:20230422T031025Z
LAST-MODIFIED:20230606T010755Z
UID:6214-1688842800-1688846400@folkalender.dk
SUMMARY:Morten Alfred & Vingården spiller til Fannikerdagene
DESCRIPTION:I modsætning til mange andre steder i Danmark har Fanø formået både at bevare\, men også at videreudvikle øens kulturarv til glæde for både øens beboer og gæster. Dette kan du opleve til de traditionsrige Fannikerdage\, som afholdes i Nordby på Fanø hvert  i juli. \nVingårdens musik tager udgangspunkt i den prisbelønnede guitarist Morten Alfred Høirups nodebog\, ’Ingela’s Waltz – 25 New Danish Folk Melodies’\, som udkom i sommeren 2022\, og i musik som de tre musikere skriver sammen.  \nMusikken til nodebogen har Høirup komponeret i løbet af de seneste 25 år\, de nyeste så sent som i 2020\, og mange af melodierne er blevet spillet og videreudviklet på spillesteder og festivaler i store dele af verden. Høirup modtog i 2004 en Danish Music Award i kategorien ’Årets Danske Folk Komponist’. \nI trioen Morten Alfred & Vingården forarbejdes og forædles både ældre og velmodnede kompositioner og perlende friske melodier. Efterfølgende deles musikken og sangene i samspil med publikum til såvel koncert som dans. \nRedskaberne på Vingården er sopran- og barytonsaxofon\, violin\, mundharmonika og guitar\, og musikken er præget af de medvirkende musikeres baggrund i genrer som Barok musik\, Jazz\, Folkemusik\, Kirkemusik\, Balkan\, Skiffle\, Bryllupsmusik og meget mere.
URL:https://folkalender.dk/arrangement/morten-alfred-vingaarden-spiller-til-fannikerdagene-2/
LOCATION:Nordby\, Fanø\, Nordby\, 6720
CATEGORIES:Koncert
ATTACH;FMTTYPE=image/jpeg:https://folkalender.dk/wp-content/uploads/2023/04/M.A.-Vingaarden-Selfie-06012023-scaled.jpg
ORGANIZER;CN="Fannikerdagen":MAILTO:mail@fannikerdagen.dk
GEO:55.444726;8.39968
END:VEVENT
BEGIN:VEVENT
DTSTART;VALUE=DATE:20230709
DTEND;VALUE=DATE:20230716
DTSTAMP:20260422T121036
CREATED:20230512T181546Z
LAST-MODIFIED:20230512T182230Z
UID:6353-1688860800-1689465599@folkalender.dk
SUMMARY:Folkemusik\, folkedans\, fællesskab
DESCRIPTION:Kurset er for alle med interesse for folkemusik og folkedans.\nDet indeholder dagstemaer med gæsteundervisere\, der hver for sig repræsenterer forskellige sider af folkemusik- og dansetraditionen. Formiddagene står på spille- og danseværksteder ved de faste instruktører.
URL:https://folkalender.dk/arrangement/folkemusik-folkedans-faellesskab/
LOCATION:Brenderup Højskole\, Stationsvej 54\, Brenderup\, 5464
CATEGORIES:Kursus
ATTACH;FMTTYPE=image/jpeg:https://folkalender.dk/wp-content/uploads/2023/05/folkemusik_folkedans_press2.jpg
GEO:55.4910562;9.9728878
X-APPLE-STRUCTURED-LOCATION;VALUE=URI;X-ADDRESS=Brenderup Højskole Stationsvej 54 Brenderup 5464;X-APPLE-RADIUS=500;X-TITLE=Stationsvej 54:geo:9.9728878,55.4910562
END:VEVENT
BEGIN:VEVENT
DTSTART;TZID=Europe/Helsinki:20230709T190000
DTEND;TZID=Europe/Helsinki:20230709T210000
DTSTAMP:20260422T121036
CREATED:20230614T133110Z
LAST-MODIFIED:20230620T135835Z
UID:6495-1688929200-1688936400@folkalender.dk
SUMMARY:Verdensmusikkoncert med Ethno Denmark // Svendborg Forsamlingshus
DESCRIPTION:Så er det igen blevet tid til årets festligste kultureksplosion. Ethno Denmark holder koncert med musik fra hele verden. Du vil blive rørt og dit danseben kildet. Glæd dig! \nFor 7. gang mødes folke musikere fra hele verden i Køng på Vestfyn! De er kommet for at være en del af den store årlige kulturudveksling\, organiseret af den verdensomspændende organisation ‘Ethno’. \nGennem 9 intense dage med fællesskab i fokus\, arbejder Ethno Denmark deltagerne\, på kulturudveksling af folkemusik og traditioner. I sidste ende\, kan du høre den unikke lyd af fællesskab\, samhørighed og lyden af et fælles sprog\, som forstås på tværs af landegrænser\, sprog\, religion\, traditioner og hudfarve\, nemlig MUSIK.\nOplev en unik sammensætning\, som kun kan ses denne ene gang. \nDet er 4. gang\, at Ethno Denmark kommer til Svendborg. Koncerten afholdes i samarbejde med Brugerforeningen Svendborg Forsamlingshus og Underwaerk på Svendborg Forsamlingshus. \nEntré: 75\,-kr. \nVil du være sikret en billet\, kan du købe en billet her (LINK -kommer snart). \nVi glæder os til at se jer! 🎶 ☀️ 🎶 \n—- \nKoncerten er muliggjort med støtte fra: Statens Kunstfond\, Augustinus Fonden\, Assens Kommune\, Tempi\, Sportgood Fonden\, Svendborg Kulturudvalg.
URL:https://folkalender.dk/arrangement/verdensmusikkoncert-med-ethno-denmark-svendborg-forsamlingshus/
LOCATION:Svendborg forsamlingshus\, Lundevej\, Svendborg\, 5700
CATEGORIES:Koncert,Stævne
ATTACH;FMTTYPE=image/png:https://folkalender.dk/wp-content/uploads/2023/06/Screenshot-2023-06-11-at-18.29.43-1.png
ORGANIZER;CN="Ethno Denmark":MAILTO:Denmark@ethno.world
GEO:55.0578796;10.6042279
X-APPLE-STRUCTURED-LOCATION;VALUE=URI;X-ADDRESS=Svendborg forsamlingshus Lundevej Svendborg 5700;X-APPLE-RADIUS=500;X-TITLE=Lundevej:geo:10.6042279,55.0578796
END:VEVENT
END:VCALENDAR