BEGIN:VCALENDAR
VERSION:2.0
PRODID:-//Folkalender - ECPv6.10.1.1//NONSGML v1.0//EN
CALSCALE:GREGORIAN
METHOD:PUBLISH
X-WR-CALNAME:Folkalender
X-ORIGINAL-URL:https://folkalender.dk
X-WR-CALDESC:Begivenheder for Folkalender
REFRESH-INTERVAL;VALUE=DURATION:PT1H
X-Robots-Tag:noindex
X-PUBLISHED-TTL:PT1H
BEGIN:VTIMEZONE
TZID:Europe/Helsinki
BEGIN:DAYLIGHT
TZOFFSETFROM:+0200
TZOFFSETTO:+0300
TZNAME:EEST
DTSTART:20230326T010000
END:DAYLIGHT
BEGIN:STANDARD
TZOFFSETFROM:+0300
TZOFFSETTO:+0200
TZNAME:EET
DTSTART:20231029T010000
END:STANDARD
END:VTIMEZONE
BEGIN:VEVENT
DTSTART;TZID=Europe/Helsinki:20230622T130000
DTEND;TZID=Europe/Helsinki:20230622T170000
DTSTAMP:20260422T121039
CREATED:20230430T081450Z
LAST-MODIFIED:20230430T085932Z
UID:6251-1687438800-1687453200@folkalender.dk
SUMMARY:Musikanterne kommer til byen - folkemusik-træf og work shop
DESCRIPTION:Rigsspillemand Mette Katrine Jensen Stærk vil lede og inspirere de deltagende spillemænd ved denne sammenspilsdag. – Hun er er selv harmonikaspiller\, er uddannet fra Det fynske Musikkonservatoriums Folkemusiklinje og er kendt som en munter og livlig formidler. – Mette Kathrine spiller i flere bands\, komponerer og holder foredrag\, og i denne work shop vil hun inspirere med sine erfaringer\, bl. a. ud fra stikord som: – små arrangementstips med stor virkning\, – dansetaw i musikken\, – hvordan lytter man\, – hvem er det der har teten\, når man spiller.\nEftermiddagen slutter med en fælles koncert af instrumentalmusik og fællessange for lokalt publikum.
URL:https://folkalender.dk/arrangement/musikanterne-kommer-til-byen-folkemusik-traef-og-work-shop/
LOCATION:Gudenåhuset\, Bjerringbro\, Realskolevej 12\, Bjerringbro\, 8850
CATEGORIES:Spilleworkshop
ATTACH;FMTTYPE=image/jpeg:https://folkalender.dk/wp-content/uploads/2023/04/Mette-Kathrine-pressebillede-kopi-2-scaled.jpg
ORGANIZER;CN="Oasens Musikanter":MAILTO:tagearent@gmail.com
END:VEVENT
BEGIN:VEVENT
DTSTART;TZID=Europe/Helsinki:20230624T130000
DTEND;TZID=Europe/Helsinki:20230624T230000
DTSTAMP:20260422T121039
CREATED:20230430T082136Z
LAST-MODIFIED:20230430T082913Z
UID:6273-1687611600-1687647600@folkalender.dk
SUMMARY:Rebild Folkemusiktræf 2023
DESCRIPTION:Museum Rebild og Rebild Spillemændene er igen klar med det traditionsrige Rebild Folkemusiktræf. \nForrygende dansemusik leveres af bla: Himmerlands Danse og Spillemandslaug\, Støvring Harmonikaklub\, Spillemandslauget Østjyderne\, Op’lev Harmonikavennerne\, Nibe Harmonikaklub\, Pigernes Fornøjelse 25 år\, Flauenskjold Harmonika Orkester\, Rebildkvadrillen/Spillemandskredsen og Rebild Spillemændene.  \nBuskspil – Fri scene – Storspil – Alle kan være med !\nDans\, gammeldans og folkedans med instruktion.\nKom og oplev den lokale folkemusik i fuldt flor ! \nNB: Aftensmad: 80\,- kr. – Bestil på MobilePay 40 80 48 02 – Senest 18/6. \nTræffet finder sted på:\nKulturstationen i Skørping\nSverriggårdsvej 4\, 9520 Skørping
URL:https://folkalender.dk/arrangement/rebild-folkemusiktraef-2023/
LOCATION:KulturStationen\, 9520 Skørping\, Sverriggårdsvej 4\, Skørping\, 9520
CATEGORIES:Bal,Festival,Legestue,Spilleworkshop,Stævne
ATTACH;FMTTYPE=image/jpeg:https://folkalender.dk/wp-content/uploads/2023/04/PlakatBillede2023800-1.jpg
ORGANIZER;CN="Rebild Spillem%C3%A6ndene":MAILTO:spillemandsmuseet@mail.dk
GEO:56.8358368;9.887984
X-APPLE-STRUCTURED-LOCATION;VALUE=URI;X-ADDRESS=KulturStationen 9520 Skørping Sverriggårdsvej 4 Skørping 9520;X-APPLE-RADIUS=500;X-TITLE=Sverriggårdsvej 4:geo:9.887984,56.8358368
END:VEVENT
BEGIN:VEVENT
DTSTART;VALUE=DATE:20230625
DTEND;VALUE=DATE:20230702
DTSTAMP:20260422T121039
CREATED:20221120T104812Z
LAST-MODIFIED:20221120T105352Z
UID:5017-1687651200-1688255999@folkalender.dk
SUMMARY:FolkCamp 2023
DESCRIPTION:FolkCamp er en sommerlejr for musikudøvende og dansende børn\, mellem 10 og 15 år\, med en interesse indenfor folkemusik og folkedans. FolkCamp 2023 er 6 dage\, hvor vi skal spille\, synge og danse sammen\, få nye venner\, spille rundbold\, have bålaften\, til koncert\, til forskellige workshops og vigtigst af alt have det rigtig sjovt! \nPå FolkCamp er der to overordnede aktiviteter i løbet af dagen: \nStorspil/stordans er\, hvor alle deltagere spiller og danser sammen\, under ledelse af de forskellige instruktører\, så du får muligheden for at lære af dem alle sammen. FolkCamps instruktører er alle blandt Danmarks absolutte elite indenfor folkedans og folkemusik og har alle mange års undervisningserfaring. \nWorkshops kan have alle mulige forskellige emner såsom avanceret violinteknik\, folkedans fra Nordøstengland eller en tur på legepladsen. Workshops vil enten være valgfrie sådan\, at deltagerne kan vælge sig ind på det de har mest lyst til\, eller det kan være bundne workshops\, hvor alle blæsere skal gå sammen\, alle strygere\, alle dansere osv. Nogle workshops vil vare én dag\, mens andre vil foregå over to dage. Til den afsluttende koncert skal de workshops\, der har været over to dage\, optræde. \nUdover de faste aktiviteter vil dagene bestå af dejlig mad fra skolens køkkenpersonale\, masser af sang og leg\, rundbold og gode oplevelser. I løbet af ugen kommer der et professionelt band forbi og spiller koncert for os. FolkCamp 2023 sluttes af med et brag af en opvisning for familie\, venner og andre der har lyst lørdag eftermiddag – enten online eller fysisk!
URL:https://folkalender.dk/arrangement/folkcamp-2023/
LOCATION:Musikefterskolen i Humble\, Hovedgaden 21\, Humble\, 5932
CATEGORIES:Danseworkshop,Kursus,Spilleworkshop,Stævne
ORGANIZER;CN="FolkCamp":MAILTO:folkcamp@folkcamp.dk
GEO:54.8291684;10.6995543
X-APPLE-STRUCTURED-LOCATION;VALUE=URI;X-ADDRESS=Musikefterskolen i Humble Hovedgaden 21 Humble 5932;X-APPLE-RADIUS=500;X-TITLE=Hovedgaden 21:geo:10.6995543,54.8291684
END:VEVENT
BEGIN:VEVENT
DTSTART;VALUE=DATE:20230625
DTEND;VALUE=DATE:20230702
DTSTAMP:20260422T121039
CREATED:20221120T105216Z
LAST-MODIFIED:20221120T105216Z
UID:5020-1687651200-1688255999@folkalender.dk
SUMMARY:FolkCamp +
DESCRIPTION:Er du mellem 16 og 18 år og søger en sommerlejer\, hvor du kan spille folkemusik og danse folkedans? Eller er du en af dem\, der er blevet for gammel til FolkCamp næste år\, så skal du læse videre her! \nVi lancerer nemlig vores helt nye FolkCamp+ til dig\, der er 16-18 år. FolkCamp+ bliver en sommerlejr\, som du kender den fra FolkCamp\, men du vil have undervisning sammen med de andre FolkCamp+ deltagere\, og I vil sove sammen på jeres egen gang. Måltider og nogle fællesaktiviteter bliver med resten af FolkCamp\, og vi håber\, at FolkCamp+ kommer til at give jer alt det fede fra FolkCamp\, samtidig med at I bliver endnu mere sammentømret som gruppe af de allerældste deltagere. \nDer er nultolerance over for alkohol på FolkCamp+\, og man må ikke forlade skolens område. Datoerne for FolkCamp+ er d. 25. juni til 1. juli 2023. \nFolkCamp+ kommer ikke til at ændre på FolkCamp\, hverken på koncept eller deltagerantal – det bliver simpelthen SÅ FEDT !
URL:https://folkalender.dk/arrangement/folkcamp/
LOCATION:Musikefterskolen i Humble\, Hovedgaden 21\, Humble\, 5932
CATEGORIES:Danseworkshop,Kursus,Spilleworkshop,Stævne
ORGANIZER;CN="FolkCamp":MAILTO:folkcamp@folkcamp.dk
GEO:54.8291684;10.6995543
X-APPLE-STRUCTURED-LOCATION;VALUE=URI;X-ADDRESS=Musikefterskolen i Humble Hovedgaden 21 Humble 5932;X-APPLE-RADIUS=500;X-TITLE=Hovedgaden 21:geo:10.6995543,54.8291684
END:VEVENT
BEGIN:VEVENT
DTSTART;TZID=Europe/Helsinki:20230625T140000
DTEND;TZID=Europe/Helsinki:20230625T170000
DTSTAMP:20260422T121039
CREATED:20230512T183642Z
LAST-MODIFIED:20230512T184605Z
UID:6362-1687701600-1687712400@folkalender.dk
SUMMARY:Folkemusik på sommerscenen i Skyttehushaven
DESCRIPTION:Folkemusik på sommerscenen – her spiller Mandagsmusikanterne\, Give\, Søndermarkens Spillemænd\, Vejle og Thyregod Spillemænd.
URL:https://folkalender.dk/arrangement/folkemusik-paa-sommerscenen-i-skyttehushaven/
LOCATION:Skyttehushaven i Vejle\, Trisbæk Strandvej\, Skyttehushaven\, Tirsbæk Strandvej v/Helligkildevej\, Vejle\, 7100
CATEGORIES:Koncert
ATTACH;FMTTYPE=image/jpeg:https://folkalender.dk/wp-content/uploads/2023/05/Folkemusik_paa_sommerscenen-25.6.2023-scaled.jpg
ORGANIZER;CN="Thyregod Spillem%C3%A6nd/Manny":MAILTO:mannyskj@gmail.com
GEO:55.7075816;9.5665749
X-APPLE-STRUCTURED-LOCATION;VALUE=URI;X-ADDRESS=Skyttehushaven i Vejle Trisbæk Strandvej Skyttehushaven Tirsbæk Strandvej v/Helligkildevej Vejle 7100;X-APPLE-RADIUS=500;X-TITLE=Skyttehushaven\, Tirsbæk Strandvej v/Helligkildevej:geo:9.5665749,55.7075816
END:VEVENT
END:VCALENDAR