BEGIN:VCALENDAR
VERSION:2.0
PRODID:-//Folkalender - ECPv6.10.1.1//NONSGML v1.0//EN
CALSCALE:GREGORIAN
METHOD:PUBLISH
X-WR-CALNAME:Folkalender
X-ORIGINAL-URL:https://folkalender.dk
X-WR-CALDESC:Begivenheder for Folkalender
REFRESH-INTERVAL;VALUE=DURATION:PT1H
X-Robots-Tag:noindex
X-PUBLISHED-TTL:PT1H
BEGIN:VTIMEZONE
TZID:Europe/Helsinki
BEGIN:DAYLIGHT
TZOFFSETFROM:+0200
TZOFFSETTO:+0300
TZNAME:EEST
DTSTART:20230326T010000
END:DAYLIGHT
BEGIN:STANDARD
TZOFFSETFROM:+0300
TZOFFSETTO:+0200
TZNAME:EET
DTSTART:20231029T010000
END:STANDARD
END:VTIMEZONE
BEGIN:VEVENT
DTSTART;TZID=Europe/Helsinki:20230522T193000
DTEND;TZID=Europe/Helsinki:20230522T223000
DTSTAMP:20260422T020451
CREATED:20230509T062146Z
LAST-MODIFIED:20230509T062855Z
UID:6345-1684783800-1684794600@folkalender.dk
SUMMARY:Michael McGoldrick Trio + Barslund & Tophøj Duo - Irsk og dansk folk i lækker dobbeltkoncert
DESCRIPTION:Kære redaktion. \nJeg har følgende arrangement\, som jeg meget gerne vil i have i avisen: \nMed venlig hilsen\nLouise Ring Vangsgaard\nTlf: 25338283 \nMandag d.22. maj. Kl.19.30. Lokation: Turkis\, Vester Alle 15\, 8000 Aarhus C \nEn unik mulighed for at høre verdensklasse irsk og dansk folk: \nDobbeltkoncert med Michael McGoldrick\, Dezi Donnelly & Jim Murray og duoen Barslund & Tophøj. \nMichael McGoldrick\, Dezi Donnelly & Jim Murray er 3 verdensklassemusikere\, der er blandt de allermest anerkendte indenfor irsk folkemusik.\nDe har turneret kloden rundt\, udgivet en lang række anmelderroste albums og hver især spillet med en perlerække af fantastiske musikere: Mark Knopfler\, Aly Bain\, Phil Cunningham\, Sharon Shannon og Kate Rusby\, bare for at nævne nogle få.  \nTil denne turné har trioen allieret sig med den award-vindende duo Andreas Tophøj & Rune Barslund. Med mange koncerter i hele Skandinavien\, Tyskland og på de britiske øer er de to herrer blandt de flittigst turnerende folkemusikere fra Danmark. Duoen inviterer publikum indenfor til et medrivende men også inderligt sammenspil\, som krydres med historier fra det levede liv. \nAftenen byder på et sæt fra hvert af de to orkestre samt en fælles finale\, som afslutning på koncerten. \nKoncerten er støttet af Aarhus Kommunes Musikpulje samt Nordea-Fonden.
URL:https://folkalender.dk/arrangement/michael-mcgoldrick-trio-barslund-tophoej-duo-irsk-og-dansk-folk-i-laekker-dobbeltkoncert/
LOCATION:Turkis\, Vester Allé 15\, 8000 Aarhus C\, Vester Allé 15\, Aarhus C\, 8000
CATEGORIES:Koncert
ATTACH;FMTTYPE=image/jpeg:https://folkalender.dk/wp-content/uploads/2023/05/RA_banner_McGold.jpeg
ORGANIZER;CN="Roots Aarhus":MAILTO:bestyrelsen@rootsaarhus.dk
GEO:56.1557561;10.1988546
X-APPLE-STRUCTURED-LOCATION;VALUE=URI;X-ADDRESS=Turkis Vester Allé 15 8000 Aarhus C Vester Allé 15 Aarhus C 8000;X-APPLE-RADIUS=500;X-TITLE=Vester Allé 15:geo:10.1988546,56.1557561
END:VEVENT
BEGIN:VEVENT
DTSTART;TZID=Europe/Helsinki:20230523T193000
DTEND;TZID=Europe/Helsinki:20230523T204500
DTSTAMP:20260422T020451
CREATED:20221121T104603Z
LAST-MODIFIED:20230116T092433Z
UID:5029-1684870200-1684874700@folkalender.dk
SUMMARY:Zenobia
DESCRIPTION:Koncert med danske viser og sange samt Zenobias egne numre.\nVarighed 70 min. uden pause. \nDer er entré til koncerten – mere info her:\nhttps://sogn.dk/grejs/kalender
URL:https://folkalender.dk/arrangement/zenobia-22/
LOCATION:Grejs Kirke\, Holtumvej 14\, Grejs\, Vejle\, 7100
CATEGORIES:Koncert
ATTACH;FMTTYPE=image/jpeg:https://folkalender.dk/wp-content/uploads/2022/11/SAK_5997-scaled.jpg
GEO:55.7678084;9.5478662
X-APPLE-STRUCTURED-LOCATION;VALUE=URI;X-ADDRESS=Grejs Kirke Holtumvej 14 Grejs Vejle 7100;X-APPLE-RADIUS=500;X-TITLE=Holtumvej 14\, Grejs:geo:9.5478662,55.7678084
END:VEVENT
BEGIN:VEVENT
DTSTART;TZID=Europe/Helsinki:20230524T200000
DTEND;TZID=Europe/Helsinki:20230524T220000
DTSTAMP:20260422T020451
CREATED:20221108T191347Z
LAST-MODIFIED:20221108T191347Z
UID:4943-1684958400-1684965600@folkalender.dk
SUMMARY:Dobbeltkoncert med McGoldrick\, Donnelly & Murray (Irl) og Tophøj & Barslund (DK)
DESCRIPTION:Michael McGoldrick\, Dezi Donnelly & Jim Murray er tre verdensklassemusikere\, der er blandt de allermest anerkendte indenfor irsk folkemusik. De har turneret kloden rundt\, udgivet en lang række anmelderroste albums og hver især spillet med en perlerække af fantastiske musikere: Mark Knopfler\, Aly Bain\, Phil Cunningham\, Sharon Shannon og Kate Rusby\, bare for at nævne nogle få. Til denne turné har trioen allieret sig med den award-vindende duo Andreas Tophøj & Rune Barslund. Med mange koncerter i hele Skandinavien\, Tyskland og på de britiske øer er de to herrer blandt de flittigst turnerende folkemusikere fra Danmark. Duoen inviterer publikum indenfor til et medrivende men også inderligt sammenspil\, som krydres med historier fra det levede liv. \nAftenen byder på et sæt fra hvert af de to orkestre samt en fælles finale\, som afslutning på koncerten. \nMichael McGoldrick – irske fløjter og uilleann pipes\nDezi Donnelly – violin\nJim Murray – guitar og vokal\nAndreas Tophøj – violin\, bratsch og vokal\nRune Barslund – accordeon og whistle
URL:https://folkalender.dk/arrangement/dobbeltkoncert-med-mcgoldrick-donnelly-murray-irl-og-tophoej-barslund-dk/
LOCATION:KulturØen Middelfart\, Havnegade 6\, Middelfart\, 5500
CATEGORIES:Koncert
ORGANIZER;CN="Foreningen GUF%2C God Underholdende Folkemusik":MAILTO:jrahbek@stribnet.dk
GEO:55.5052311;9.7356812
X-APPLE-STRUCTURED-LOCATION;VALUE=URI;X-ADDRESS=KulturØen Middelfart Havnegade 6 Middelfart 5500;X-APPLE-RADIUS=500;X-TITLE=Havnegade 6:geo:9.7356812,55.5052311
END:VEVENT
BEGIN:VEVENT
DTSTART;TZID=Europe/Helsinki:20230525T190000
DTEND;TZID=Europe/Helsinki:20230525T210000
DTSTAMP:20260422T020451
CREATED:20230522T112251Z
LAST-MODIFIED:20230522T112636Z
UID:6395-1685041200-1685048400@folkalender.dk
SUMMARY:Trio Mio på Testrup Højskole
DESCRIPTION:Trio Mio spiller musik med ønsket om at fylde den danske og svenske musiktradition med nyt liv\, med en traditionel og samtidig moderne lyd. \nMusikkens fulde virkning åbenbarer sig først i alle dens facetter\, når lytteren overgiver sig helt og aldeles. En liflig\, rolig og let melodik viger pludselig for hurtige\, drilske og nogle gange skøre improvisationer. Her bryder skæve harmonier og dissonanser igennem. Et spændende og forfriskende tiltag\, hvor man aldrig kan være sikker på hvad det næste øjeblik bringer. Hvad man derimod kan være sikker på er intense\, fingerfærdige musikalske delikatesser og ren lyst\, som får én til at smile. \nTrio Mio beviser at folkemusikken stadigvæk indebærer et livsbekræftende potentiale. Et potentiale der smitter af – især når folkemusikken bliver videreudviklet med respekt for traditionen.
URL:https://folkalender.dk/arrangement/trio-mio-paa-testrup-hoejskole/
LOCATION:Testrup Højskole\, Testrupvej 110\, Mårslet\, 8320
CATEGORIES:Koncert
ATTACH;FMTTYPE=image/jpeg:https://folkalender.dk/wp-content/uploads/2023/05/Opad-Trio-scaled.jpg
ORGANIZER;CN="Testrup H%C3%B8jskole":MAILTO:testrup@testrup.dk
GEO:56.0670103;10.1345919
X-APPLE-STRUCTURED-LOCATION;VALUE=URI;X-ADDRESS=Testrup Højskole Testrupvej 110 Mårslet 8320;X-APPLE-RADIUS=500;X-TITLE=Testrupvej 110:geo:10.1345919,56.0670103
END:VEVENT
BEGIN:VEVENT
DTSTART;TZID=Europe/Helsinki:20230525T193000
DTEND;TZID=Europe/Helsinki:20230525T204500
DTSTAMP:20260422T020451
CREATED:20230323T140601Z
LAST-MODIFIED:20230323T140601Z
UID:6044-1685043000-1685047500@folkalender.dk
SUMMARY:Zenobia
DESCRIPTION:Koncert med danske viser og sange samt Zenobias egne numre.\nVarighed 70 min. uden pause.
URL:https://folkalender.dk/arrangement/zenobia-28/
LOCATION:Volsted Kirke\, Volsted Bygade 1\, Støvring\, 9530
CATEGORIES:Koncert
ATTACH;FMTTYPE=image/jpeg:https://folkalender.dk/wp-content/uploads/2023/03/SAK_5997-scaled.jpg
GEO:56.909716;9.907933
X-APPLE-STRUCTURED-LOCATION;VALUE=URI;X-ADDRESS=Volsted Kirke Volsted Bygade 1 Støvring 9530;X-APPLE-RADIUS=500;X-TITLE=Volsted Bygade 1:geo:9.907933,56.909716
END:VEVENT
BEGIN:VEVENT
DTSTART;VALUE=DATE:20230526
DTEND;VALUE=DATE:20230529
DTSTAMP:20260422T020451
CREATED:20230411T182149Z
LAST-MODIFIED:20230411T182149Z
UID:6151-1685059200-1685318399@folkalender.dk
SUMMARY:Ild I Gilden
DESCRIPTION:Lillebror til musik over præstø fjord og pladseret lige uden for Roskilde. En forvokset havefest\, med koncert og workshopprogram som spænder bredt fra almindelige koncerter\, til fx. eksperimenter med Dreamers Circus som backingband til dig der er musiker\, og godt vil prøve at optræde med dem. Festivalen spænder over 3 dage og jar eget madsalg\, campingarealer mm. Der er stor fokus på publikum interaktion og der er masser af små jams rundt om i krogene.
URL:https://folkalender.dk/arrangement/ild-i-gilden-2/
LOCATION:Kamstrup\, Kamstrupvej\, 60\, Roskilde\, 4000\, Danmark
CATEGORIES:Festival
ATTACH;FMTTYPE=image/jpeg:https://folkalender.dk/wp-content/uploads/2023/04/n036.jpg
GEO:55.6081572;12.0861353
X-APPLE-STRUCTURED-LOCATION;VALUE=URI;X-ADDRESS=Kamstrup Kamstrupvej 60 Roskilde 4000 Danmark;X-APPLE-RADIUS=500;X-TITLE=Kamstrupvej\, 60:geo:12.0861353,55.6081572
END:VEVENT
BEGIN:VEVENT
DTSTART;TZID=Europe/Helsinki:20230526T193000
DTEND;TZID=Europe/Helsinki:20230526T233000
DTSTAMP:20260422T020451
CREATED:20230321T115119Z
LAST-MODIFIED:20230321T115119Z
UID:6015-1685129400-1685143800@folkalender.dk
SUMMARY:Bal med Jensen & Bugge
DESCRIPTION:Mette Kathrine Jensen Stærk (harmonika) og Kristian Bugge (violin) har begge stor erfaring i at spille til dans\, både sammen og hver for sig\, og har haft meget stor fornøjelse og udbytte af at være i praktik i hhv. Jæ Sweevers og Lang Linken. Deres repertoire\, som hovedsageligt er fra det jyske\, har de lært af bl.a. Lilian Vammen\, Peter Uhrbrand\, Carl Erik Lundgaard\, Hardy Thomsen\, Klaus Pindstrup\, Karl Skaarup og Dwight Lamb.\nArrangementet er støttet af Køge Kommune og Statens Kunstråd.
URL:https://folkalender.dk/arrangement/bal-med-jensen-bugge-2/
LOCATION:Teaterbygningen\, Køge\, Bag Haverne 1\, Køge\, 4600
CATEGORIES:Bal
ATTACH;FMTTYPE=image/jpeg:https://folkalender.dk/wp-content/uploads/2023/03/JensenBugge2599x1844_photo-Carsten-Bundgaard-scaled.jpg
ORGANIZER;CN="K&oslash%3Bge Spillemandsforening":MAILTO:webmaster@koegespillemand.dk
GEO:55.4554389;12.18516
X-APPLE-STRUCTURED-LOCATION;VALUE=URI;X-ADDRESS=Teaterbygningen Køge Bag Haverne 1 Køge 4600;X-APPLE-RADIUS=500;X-TITLE=Bag Haverne 1:geo:12.18516,55.4554389
END:VEVENT
BEGIN:VEVENT
DTSTART;TZID=Europe/Helsinki:20230526T200000
DTEND;TZID=Europe/Helsinki:20230526T230000
DTSTAMP:20260422T020451
CREATED:20230112T114258Z
LAST-MODIFIED:20230112T114258Z
UID:5392-1685131200-1685142000@folkalender.dk
SUMMARY:Jensen & Bugge\, bal i Køge
DESCRIPTION:Kom til bal på Teaterbygningen
URL:https://folkalender.dk/arrangement/jensen-bugge-bal-i-koege/
LOCATION:Teaterbygningen\, Køge\, Bag Haverne 1\, Køge\, 4600
CATEGORIES:Bal
ATTACH;FMTTYPE=image/jpeg:https://folkalender.dk/wp-content/uploads/2023/01/bornholms-dansefoto.jpg
ORGANIZER;CN="K&oslash%3Bge Spillemandsforening":MAILTO:webmaster@koegespillemand.dk
GEO:55.4554389;12.18516
X-APPLE-STRUCTURED-LOCATION;VALUE=URI;X-ADDRESS=Teaterbygningen Køge Bag Haverne 1 Køge 4600;X-APPLE-RADIUS=500;X-TITLE=Bag Haverne 1:geo:12.18516,55.4554389
END:VEVENT
BEGIN:VEVENT
DTSTART;TZID=Europe/Helsinki:20230527T113000
DTEND;TZID=Europe/Helsinki:20230527T133000
DTSTAMP:20260422T020451
CREATED:20230502T092734Z
LAST-MODIFIED:20230514T063242Z
UID:6308-1685187000-1685194200@folkalender.dk
SUMMARY:Dúchas thar Farraige: New Irish Music (IRE/FI)
DESCRIPTION:Den irske guitarist Chris Comhaill og finsk fødte kontrabassist Otso Mielonen danner gruppen\nDúchas thar Farraige. Oversat betyder navnet: Arvet over havet. Mielonen rejste over vandet for at\nstudere i Dublin\, hvor han mødte Comhaill og hvor de endte med at arbejde tæt sammen. Begge er\nfødt ved havet og dets krafter\, mysterier\, historier har formet deres liv og væren. Dúchas thar\nFarraige tager udgangspunkt i den irske folkemusik og i ånden af de irske Seanchaí\, formidler de\nhistorier om fortabte tider og nye virkligheder. \nDørene åbner 10:45 og koncerten starter 11:30.  \nBilletter inkludere god kaffe og te – ad lib.
URL:https://folkalender.dk/arrangement/duchas-thar-farraige-ire-fi/
LOCATION:Metronomen\, Godthåbsvej 33\, Frederiksberg\, 2000
ATTACH;FMTTYPE=image/jpeg:https://folkalender.dk/wp-content/uploads/2023/05/annanowakowskaphotography61-2-scaled.jpeg
GEO:55.6860703;12.5334068
X-APPLE-STRUCTURED-LOCATION;VALUE=URI;X-ADDRESS=Metronomen Godthåbsvej 33 Frederiksberg 2000;X-APPLE-RADIUS=500;X-TITLE=Godthåbsvej 33:geo:12.5334068,55.6860703
END:VEVENT
BEGIN:VEVENT
DTSTART;TZID=Europe/Helsinki:20230527T193000
DTEND;TZID=Europe/Helsinki:20230527T220000
DTSTAMP:20260422T020451
CREATED:20230515T060649Z
LAST-MODIFIED:20230515T062845Z
UID:6378-1685215800-1685224800@folkalender.dk
SUMMARY:Dúchas thar Farraige: New Irish Music (IRE/FI)
DESCRIPTION:I Maskinhallen (Sundholm8) kan i den 27. maj opleve nyt irsk musik. Den irske guitarist Chris Comhaill og finsk fødte kontrabassist Otso Mielonen danner gruppen Dúchas thar Farraige. Oversat betyder navnet: Arvet over havet. Mielonen rejste over vandet for at\nstudere i Dublin\, hvor han mødte Comhaill og hvor de endte med at arbejde tæt sammen. Begge er født ved havet og dets krafter\, mysterier\, historier har formet deres liv og væren. Dúchas thar Farraige tager udgangspunkt i den irske folkemusik og i ånden af de irske Seanchaí\, formidler de historier om fortabte tider og nye virkligheder. \nstuderende 50kr\,- / 100kr\,- \nDørene åbner 19:30\nKoncerten starter 20:00 \n(picture by Anna Nowakowska)
URL:https://folkalender.dk/arrangement/duchas-thar-farraige-new-irish-music-ire-fi-2/
LOCATION:Sundholm8: Maskinhallen\, Sundholmsvej 28A\, København\, 2300
ATTACH;FMTTYPE=image/jpeg:https://folkalender.dk/wp-content/uploads/2023/05/annanowakowskaphotography61-2-3-scaled.jpeg
GEO:55.6609636;12.595257
X-APPLE-STRUCTURED-LOCATION;VALUE=URI;X-ADDRESS=Sundholm8: Maskinhallen Sundholmsvej 28A København 2300;X-APPLE-RADIUS=500;X-TITLE=Sundholmsvej 28A:geo:12.595257,55.6609636
END:VEVENT
BEGIN:VEVENT
DTSTART;TZID=Europe/Helsinki:20230528T150000
DTEND;TZID=Europe/Helsinki:20230528T170000
DTSTAMP:20260422T020451
CREATED:20230220T121210Z
LAST-MODIFIED:20230220T121210Z
UID:5850-1685286000-1685293200@folkalender.dk
SUMMARY:McGoldrick\, Donnelly & Murray + Andreas Tophøj & Rune Barslund
DESCRIPTION:Michael McGoldrick\, Dezi Donnelly & Jim Murray er tre verdensklassemusikere\, der er blandt de allermest anerkendte indenfor irsk folkemusik. De har turneret kloden rundt\, udgivet en lang række anmelderroste albums og hver især spillet med en perlerække af fantastiske musikere: Mark Knopfler\, Aly Bain\, Phil Cunningham\, Sharon Shannon og Kate Rusby\, bare for at nævne nogle få. Til denne turné har trioen allieret sig med den award-vindende duo Andreas Tophøj & Rune Barslund. Med mange koncerter i hele Skandinavien\, Tyskland og på de britiske øer er de to herrer blandt de flittigst turnerende folkemusikere fra Danmark. Duoen inviterer publikum indenfor til et medrivende men også inderligt sammenspil\, som krydres med historier fra det levede liv. \nKoncerten byder på et sæt fra hvert af de to orkestre samt en fælles finale\, som afslutning på koncerten. \nMichael McGoldrick – irske fløjter og uilleann pipes\nDezi Donnelly – violin\nJim Murray – guitar og vokal\nAndreas Tophøj – violin\, bratsch og vokal\nRune Barslund – accordeon og whistle
URL:https://folkalender.dk/arrangement/mcgoldrick-donnelly-murray-andreas-tophoej-rune-barslund/
LOCATION:Fermaten\, Smallegade 4\, Herning\, 7400
CATEGORIES:Koncert
ATTACH;FMTTYPE=image/jpeg:https://folkalender.dk/wp-content/uploads/2023/02/Topsoe-scaled.jpg
ORGANIZER;CN="Fermaten":MAILTO:mail@fermaten.dk
GEO:56.1368467;8.970104
X-APPLE-STRUCTURED-LOCATION;VALUE=URI;X-ADDRESS=Fermaten Smallegade 4 Herning 7400;X-APPLE-RADIUS=500;X-TITLE=Smallegade 4:geo:8.970104,56.1368467
END:VEVENT
BEGIN:VEVENT
DTSTART;TZID=Europe/Helsinki:20230528T193000
DTEND;TZID=Europe/Helsinki:20230528T223000
DTSTAMP:20260422T020451
CREATED:20230502T091154Z
LAST-MODIFIED:20230515T060620Z
UID:6305-1685302200-1685313000@folkalender.dk
SUMMARY:Dúchas thar Farraige: New Irish Music (IRE/FI)
DESCRIPTION:Den irske guitarist Chris Comhaill og finsk fødte kontrabassist Otso Mielonen danner gruppen Dúchas thar Farraige. Oversat betyder navnet: Arvet over havet. Mielonen rejste over vandet for at studere i Dublin\, hvor han mødte Comhaill og hvor de endte med at arbejde tæt sammen. Begge er født ved havet og dets krafter\, mysterier\, historier har formet deres liv og væren. Dúchas thar Farraige tager udgangspunkt i den irske folkemusik og i ånden af de irske Seanchaí\, formidler de historier om fortabte tider og nye virkligheder. \nDørsalg 100kr\,-\nDørene åbner 19:30 – Koncert 20:00 til 21:30. \nKoncerten er sponsoreret af Frederiksberg Kommune.
URL:https://folkalender.dk/arrangement/duchas-thar-farraige-ire-fi-x-cort-lunde-dk/
LOCATION:Metronomen\, Godthåbsvej 33\, Frederiksberg\, 2000
ATTACH;FMTTYPE=image/png:https://folkalender.dk/wp-content/uploads/2023/05/Photobyannanowakowska2023.png
GEO:55.6860703;12.5334068
X-APPLE-STRUCTURED-LOCATION;VALUE=URI;X-ADDRESS=Metronomen Godthåbsvej 33 Frederiksberg 2000;X-APPLE-RADIUS=500;X-TITLE=Godthåbsvej 33:geo:12.5334068,55.6860703
END:VEVENT
END:VCALENDAR